BEGIN:VCALENDAR
VERSION:2.0
PRODID:spatie/icalendar-generator
NAME:brasschaat_2g_reminders
X-WR-CALNAME:brasschaat_2g_reminders
BEGIN:VTIMEZONE
TZID:Europe/Brussels
BEGIN:DAYLIGHT
DTSTART:20210328T010000
TZOFFSETFROM:+0100
TZOFFSETTO:+0200
END:DAYLIGHT
BEGIN:STANDARD
DTSTART:20211031T030000
TZOFFSETFROM:+0200
TZOFFSETTO:+0100
END:STANDARD
BEGIN:DAYLIGHT
DTSTART:20220327T010000
TZOFFSETFROM:+0100
TZOFFSETTO:+0200
END:DAYLIGHT
BEGIN:STANDARD
DTSTART:20221030T030000
TZOFFSETFROM:+0200
TZOFFSETTO:+0100
END:STANDARD
END:VTIMEZONE
BEGIN:VTIMEZONE
TZID:UTC
BEGIN:STANDARD
DTSTART:20250724T053114
TZOFFSETFROM:+0000
TZOFFSETTO:+0000
END:STANDARD
END:VTIMEZONE
BEGIN:VEVENT
UID:BD406AC5-DB29-4CD7-B8A6-5EDF9A9BCD37-7-345_homereminder@52.badmintonner
 s.net
DTSTAMP:20260420T053114Z
SUMMARY:Thuismatch ingevuld? (Brasschaat 2G - W&L 4G)
DESCRIPTION:Je hebt 36 uur na aanvang om een thuismatch op Badmintonvlaande
 ren in te vullen. Match info: Brasschaat 2G - W&L 4G - Link: https://www.b
 admintonvlaanderen.be/sport/teammatch.aspx?id=BD406AC5-DB29-4CD7-B8A6-5EDF
 9A9BCD37&match=345
DTSTART;TZID=Europe/Brussels:20210921T070000
DTEND;TZID=Europe/Brussels:20210921T070000
END:VEVENT
BEGIN:VEVENT
UID:BD406AC5-DB29-4CD7-B8A6-5EDF9A9BCD37-7-327_homereminder@52.badmintonner
 s.net
DTSTAMP:20260420T053114Z
SUMMARY:Thuismatch ingevuld? (Brasschaat 2G - OLVE 2G)
DESCRIPTION:Je hebt 36 uur na aanvang om een thuismatch op Badmintonvlaande
 ren in te vullen. Match info: Brasschaat 2G - OLVE 2G - Link: https://www.
 badmintonvlaanderen.be/sport/teammatch.aspx?id=BD406AC5-DB29-4CD7-B8A6-5ED
 F9A9BCD37&match=327
DTSTART;TZID=Europe/Brussels:20211030T080000
DTEND;TZID=Europe/Brussels:20211030T080000
END:VEVENT
BEGIN:VEVENT
UID:BD406AC5-DB29-4CD7-B8A6-5EDF9A9BCD37-7-321_homereminder@52.badmintonner
 s.net
DTSTAMP:20260420T053114Z
SUMMARY:Thuismatch ingevuld? (Brasschaat 2G - De Nekker 2G)
DESCRIPTION:Je hebt 36 uur na aanvang om een thuismatch op Badmintonvlaande
 ren in te vullen. Match info: Brasschaat 2G - De Nekker 2G - Link: https:/
 /www.badmintonvlaanderen.be/sport/teammatch.aspx?id=BD406AC5-DB29-4CD7-B8A
 6-5EDF9A9BCD37&match=321
DTSTART;TZID=Europe/Brussels:20211116T070000
DTEND;TZID=Europe/Brussels:20211116T070000
END:VEVENT
BEGIN:VEVENT
UID:BD406AC5-DB29-4CD7-B8A6-5EDF9A9BCD37-7-340_homereminder@52.badmintonner
 s.net
DTSTAMP:20260420T053114Z
SUMMARY:Thuismatch ingevuld? (Brasschaat 2G - Royal Antwerp 3G)
DESCRIPTION:Je hebt 36 uur na aanvang om een thuismatch op Badmintonvlaande
 ren in te vullen. Match info: Brasschaat 2G - Royal Antwerp 3G - Link: htt
 ps://www.badmintonvlaanderen.be/sport/teammatch.aspx?id=BD406AC5-DB29-4CD7
 -B8A6-5EDF9A9BCD37&match=340
DTSTART;TZID=Europe/Brussels:20220308T070000
DTEND;TZID=Europe/Brussels:20220308T070000
END:VEVENT
BEGIN:VEVENT
UID:BD406AC5-DB29-4CD7-B8A6-5EDF9A9BCD37-7-324_homereminder@52.badmintonner
 s.net
DTSTAMP:20260420T053114Z
SUMMARY:Thuismatch ingevuld? (Brasschaat 2G - Klein Boom 1G)
DESCRIPTION:Je hebt 36 uur na aanvang om een thuismatch op Badmintonvlaande
 ren in te vullen. Match info: Brasschaat 2G - Klein Boom 1G - Link: https:
 //www.badmintonvlaanderen.be/sport/teammatch.aspx?id=BD406AC5-DB29-4CD7-B8
 A6-5EDF9A9BCD37&match=324
DTSTART;TZID=Europe/Brussels:20220501T220000
DTEND;TZID=Europe/Brussels:20220501T220000
END:VEVENT
BEGIN:VEVENT
UID:BD406AC5-DB29-4CD7-B8A6-5EDF9A9BCD37-7-332_awayreminder@52.badmintonner
 s.net
DTSTAMP:20260420T053114Z
SUMMARY:Uitmatch bevestigd? (Royal Antwerp 3G - Brasschaat 2G)
DESCRIPTION:Je hebt 72 uur na aanvang om een uitmatch op Badmintonvlaandere
 n in te vullen. Match info: Royal Antwerp 3G - Brasschaat 2G - Link: https
 ://www.badmintonvlaanderen.be/sport/teammatch.aspx?id=BD406AC5-DB29-4CD7-B
 8A6-5EDF9A9BCD37&match=332
DTSTART;TZID=Europe/Brussels:20211020T180000
DTEND;TZID=Europe/Brussels:20211020T180000
END:VEVENT
BEGIN:VEVENT
UID:BD406AC5-DB29-4CD7-B8A6-5EDF9A9BCD37-7-319_awayreminder@52.badmintonner
 s.net
DTSTAMP:20260420T053114Z
SUMMARY:Uitmatch bevestigd? (Klein Boom 1G - Brasschaat 2G)
DESCRIPTION:Je hebt 72 uur na aanvang om een uitmatch op Badmintonvlaandere
 n in te vullen. Match info: Klein Boom 1G - Brasschaat 2G - Link: https://
 www.badmintonvlaanderen.be/sport/teammatch.aspx?id=BD406AC5-DB29-4CD7-B8A6
 -5EDF9A9BCD37&match=319
DTSTART;TZID=Europe/Brussels:20211215T190000
DTEND;TZID=Europe/Brussels:20211215T190000
END:VEVENT
BEGIN:VEVENT
UID:BD406AC5-DB29-4CD7-B8A6-5EDF9A9BCD37-7-320_awayreminder@52.badmintonner
 s.net
DTSTAMP:20260420T053114Z
SUMMARY:Uitmatch bevestigd? (OLVE 2G - Brasschaat 2G)
DESCRIPTION:Je hebt 72 uur na aanvang om een uitmatch op Badmintonvlaandere
 n in te vullen. Match info: OLVE 2G - Brasschaat 2G - Link: https://www.ba
 dmintonvlaanderen.be/sport/teammatch.aspx?id=BD406AC5-DB29-4CD7-B8A6-5EDF9
 A9BCD37&match=320
DTSTART;TZID=Europe/Brussels:20220125T103000
DTEND;TZID=Europe/Brussels:20220125T103000
END:VEVENT
BEGIN:VEVENT
UID:BD406AC5-DB29-4CD7-B8A6-5EDF9A9BCD37-7-318_awayreminder@52.badmintonner
 s.net
DTSTAMP:20260420T053114Z
SUMMARY:Uitmatch bevestigd? (De Nekker 2G - Brasschaat 2G)
DESCRIPTION:Je hebt 72 uur na aanvang om een uitmatch op Badmintonvlaandere
 n in te vullen. Match info: De Nekker 2G - Brasschaat 2G - Link: https://w
 ww.badmintonvlaanderen.be/sport/teammatch.aspx?id=BD406AC5-DB29-4CD7-B8A6-
 5EDF9A9BCD37&match=318
DTSTART;TZID=Europe/Brussels:20220129T203000
DTEND;TZID=Europe/Brussels:20220129T203000
END:VEVENT
BEGIN:VEVENT
UID:BD406AC5-DB29-4CD7-B8A6-5EDF9A9BCD37-7-333_awayreminder@52.badmintonner
 s.net
DTSTAMP:20260420T053114Z
SUMMARY:Uitmatch bevestigd? (W&L 4G - Brasschaat 2G)
DESCRIPTION:Je hebt 72 uur na aanvang om een uitmatch op Badmintonvlaandere
 n in te vullen. Match info: W&L 4G - Brasschaat 2G - Link: https://www.bad
 mintonvlaanderen.be/sport/teammatch.aspx?id=BD406AC5-DB29-4CD7-B8A6-5EDF9A
 9BCD37&match=333
DTSTART;TZID=Europe/Brussels:20220406T130000
DTEND;TZID=Europe/Brussels:20220406T130000
END:VEVENT
END:VCALENDAR