BEGIN:VCALENDAR
VERSION:2.0
PRODID:spatie/icalendar-generator
NAME:klein_boom_1g_reminders
X-WR-CALNAME:klein_boom_1g_reminders
BEGIN:VTIMEZONE
TZID:Europe/Brussels
BEGIN:DAYLIGHT
DTSTART:20210328T010000
TZOFFSETFROM:+0100
TZOFFSETTO:+0200
END:DAYLIGHT
BEGIN:STANDARD
DTSTART:20211031T030000
TZOFFSETFROM:+0200
TZOFFSETTO:+0100
END:STANDARD
BEGIN:DAYLIGHT
DTSTART:20220327T010000
TZOFFSETFROM:+0100
TZOFFSETTO:+0200
END:DAYLIGHT
BEGIN:STANDARD
DTSTART:20221030T030000
TZOFFSETFROM:+0200
TZOFFSETTO:+0100
END:STANDARD
END:VTIMEZONE
BEGIN:VTIMEZONE
TZID:UTC
BEGIN:STANDARD
DTSTART:20250724T070506
TZOFFSETFROM:+0000
TZOFFSETTO:+0000
END:STANDARD
END:VTIMEZONE
BEGIN:VEVENT
UID:BD406AC5-DB29-4CD7-B8A6-5EDF9A9BCD37-7-347_homereminder@74.badmintonner
 s.net
DTSTAMP:20260420T070506Z
SUMMARY:Thuismatch ingevuld? (Klein Boom 1G - W&L 4G)
DESCRIPTION:Je hebt 36 uur na aanvang om een thuismatch op Badmintonvlaande
 ren in te vullen. Match info: Klein Boom 1G - W&L 4G - Link: https://www.b
 admintonvlaanderen.be/sport/teammatch.aspx?id=BD406AC5-DB29-4CD7-B8A6-5EDF
 9A9BCD37&match=347
DTSTART;TZID=Europe/Brussels:20211005T070000
DTEND;TZID=Europe/Brussels:20211005T070000
END:VEVENT
BEGIN:VEVENT
UID:BD406AC5-DB29-4CD7-B8A6-5EDF9A9BCD37-7-329_homereminder@74.badmintonner
 s.net
DTSTAMP:20260420T070506Z
SUMMARY:Thuismatch ingevuld? (Klein Boom 1G - OLVE 2G)
DESCRIPTION:Je hebt 36 uur na aanvang om een thuismatch op Badmintonvlaande
 ren in te vullen. Match info: Klein Boom 1G - OLVE 2G - Link: https://www.
 badmintonvlaanderen.be/sport/teammatch.aspx?id=BD406AC5-DB29-4CD7-B8A6-5ED
 F9A9BCD37&match=329
DTSTART;TZID=Europe/Brussels:20211207T070000
DTEND;TZID=Europe/Brussels:20211207T070000
END:VEVENT
BEGIN:VEVENT
UID:BD406AC5-DB29-4CD7-B8A6-5EDF9A9BCD37-7-319_homereminder@74.badmintonner
 s.net
DTSTAMP:20260420T070506Z
SUMMARY:Thuismatch ingevuld? (Klein Boom 1G - Brasschaat 2G)
DESCRIPTION:Je hebt 36 uur na aanvang om een thuismatch op Badmintonvlaande
 ren in te vullen. Match info: Klein Boom 1G - Brasschaat 2G - Link: https:
 //www.badmintonvlaanderen.be/sport/teammatch.aspx?id=BD406AC5-DB29-4CD7-B8
 A6-5EDF9A9BCD37&match=319
DTSTART;TZID=Europe/Brussels:20211214T070000
DTEND;TZID=Europe/Brussels:20211214T070000
END:VEVENT
BEGIN:VEVENT
UID:BD406AC5-DB29-4CD7-B8A6-5EDF9A9BCD37-7-322_homereminder@74.badmintonner
 s.net
DTSTAMP:20260420T070506Z
SUMMARY:Thuismatch ingevuld? (Klein Boom 1G - De Nekker 2G)
DESCRIPTION:Je hebt 36 uur na aanvang om een thuismatch op Badmintonvlaande
 ren in te vullen. Match info: Klein Boom 1G - De Nekker 2G - Link: https:/
 /www.badmintonvlaanderen.be/sport/teammatch.aspx?id=BD406AC5-DB29-4CD7-B8A
 6-5EDF9A9BCD37&match=322
DTSTART;TZID=Europe/Brussels:20220125T070000
DTEND;TZID=Europe/Brussels:20220125T070000
END:VEVENT
BEGIN:VEVENT
UID:BD406AC5-DB29-4CD7-B8A6-5EDF9A9BCD37-7-342_homereminder@74.badmintonner
 s.net
DTSTAMP:20260420T070506Z
SUMMARY:Thuismatch ingevuld? (Klein Boom 1G - Royal Antwerp 3G)
DESCRIPTION:Je hebt 36 uur na aanvang om een thuismatch op Badmintonvlaande
 ren in te vullen. Match info: Klein Boom 1G - Royal Antwerp 3G - Link: htt
 ps://www.badmintonvlaanderen.be/sport/teammatch.aspx?id=BD406AC5-DB29-4CD7
 -B8A6-5EDF9A9BCD37&match=342
DTSTART;TZID=Europe/Brussels:20220222T070000
DTEND;TZID=Europe/Brussels:20220222T070000
END:VEVENT
BEGIN:VEVENT
UID:BD406AC5-DB29-4CD7-B8A6-5EDF9A9BCD37-7-325_awayreminder@74.badmintonner
 s.net
DTSTAMP:20260420T070506Z
SUMMARY:Uitmatch bevestigd? (De Nekker 2G - Klein Boom 1G)
DESCRIPTION:Je hebt 72 uur na aanvang om een uitmatch op Badmintonvlaandere
 n in te vullen. Match info: De Nekker 2G - Klein Boom 1G - Link: https://w
 ww.badmintonvlaanderen.be/sport/teammatch.aspx?id=BD406AC5-DB29-4CD7-B8A6-
 5EDF9A9BCD37&match=325
DTSTART;TZID=Europe/Brussels:20211030T203000
DTEND;TZID=Europe/Brussels:20211030T203000
END:VEVENT
BEGIN:VEVENT
UID:BD406AC5-DB29-4CD7-B8A6-5EDF9A9BCD37-7-336_awayreminder@74.badmintonner
 s.net
DTSTAMP:20260420T070506Z
SUMMARY:Uitmatch bevestigd? (Royal Antwerp 3G - Klein Boom 1G)
DESCRIPTION:Je hebt 72 uur na aanvang om een uitmatch op Badmintonvlaandere
 n in te vullen. Match info: Royal Antwerp 3G - Klein Boom 1G - Link: https
 ://www.badmintonvlaanderen.be/sport/teammatch.aspx?id=BD406AC5-DB29-4CD7-B
 8A6-5EDF9A9BCD37&match=336
DTSTART;TZID=Europe/Brussels:20211117T180000
DTEND;TZID=Europe/Brussels:20211117T180000
END:VEVENT
BEGIN:VEVENT
UID:BD406AC5-DB29-4CD7-B8A6-5EDF9A9BCD37-7-337_awayreminder@74.badmintonner
 s.net
DTSTAMP:20260420T070506Z
SUMMARY:Uitmatch bevestigd? (W&L 4G - Klein Boom 1G)
DESCRIPTION:Je hebt 72 uur na aanvang om een uitmatch op Badmintonvlaandere
 n in te vullen. Match info: W&L 4G - Klein Boom 1G - Link: https://www.bad
 mintonvlaanderen.be/sport/teammatch.aspx?id=BD406AC5-DB29-4CD7-B8A6-5EDF9A
 9BCD37&match=337
DTSTART;TZID=Europe/Brussels:20220309T130000
DTEND;TZID=Europe/Brussels:20220309T130000
END:VEVENT
BEGIN:VEVENT
UID:BD406AC5-DB29-4CD7-B8A6-5EDF9A9BCD37-7-326_awayreminder@74.badmintonner
 s.net
DTSTAMP:20260420T070506Z
SUMMARY:Uitmatch bevestigd? (OLVE 2G - Klein Boom 1G)
DESCRIPTION:Je hebt 72 uur na aanvang om een uitmatch op Badmintonvlaandere
 n in te vullen. Match info: OLVE 2G - Klein Boom 1G - Link: https://www.ba
 dmintonvlaanderen.be/sport/teammatch.aspx?id=BD406AC5-DB29-4CD7-B8A6-5EDF9
 A9BCD37&match=326
DTSTART;TZID=Europe/Brussels:20220322T103000
DTEND;TZID=Europe/Brussels:20220322T103000
END:VEVENT
BEGIN:VEVENT
UID:BD406AC5-DB29-4CD7-B8A6-5EDF9A9BCD37-7-324_awayreminder@74.badmintonner
 s.net
DTSTAMP:20260420T070506Z
SUMMARY:Uitmatch bevestigd? (Brasschaat 2G - Klein Boom 1G)
DESCRIPTION:Je hebt 72 uur na aanvang om een uitmatch op Badmintonvlaandere
 n in te vullen. Match info: Brasschaat 2G - Klein Boom 1G - Link: https://
 www.badmintonvlaanderen.be/sport/teammatch.aspx?id=BD406AC5-DB29-4CD7-B8A6
 -5EDF9A9BCD37&match=324
DTSTART;TZID=Europe/Brussels:20220503T100000
DTEND;TZID=Europe/Brussels:20220503T100000
END:VEVENT
END:VCALENDAR