BEGIN:VCALENDAR
VERSION:2.0
PRODID:spatie/icalendar-generator
NAME:essen_1h_80_reminders
X-WR-CALNAME:essen_1h_80_reminders
BEGIN:VTIMEZONE
TZID:Europe/Brussels
BEGIN:DAYLIGHT
DTSTART:20220327T010000
TZOFFSETFROM:+0100
TZOFFSETTO:+0200
END:DAYLIGHT
BEGIN:STANDARD
DTSTART:20221030T030000
TZOFFSETFROM:+0200
TZOFFSETTO:+0100
END:STANDARD
BEGIN:DAYLIGHT
DTSTART:20230326T010000
TZOFFSETFROM:+0100
TZOFFSETTO:+0200
END:DAYLIGHT
BEGIN:STANDARD
DTSTART:20231029T030000
TZOFFSETFROM:+0200
TZOFFSETTO:+0100
END:STANDARD
END:VTIMEZONE
BEGIN:VTIMEZONE
TZID:UTC
BEGIN:STANDARD
DTSTART:20250724T072410
TZOFFSETFROM:+0000
TZOFFSETTO:+0000
END:STANDARD
END:VTIMEZONE
BEGIN:VEVENT
UID:E5F03216-4619-44A1-A21C-5EA724CB9432-10-412_homereminder@116.badmintonn
 ers.net
DTSTAMP:20260420T072410Z
SUMMARY:Thuismatch ingevuld? (Essen 1H (80) - Klein Boom 4H (71))
DESCRIPTION:Je hebt 36 uur na aanvang om een thuismatch op Badmintonvlaande
 ren in te vullen. Match info: Essen 1H (80) - Klein Boom 4H (71) - Link: h
 ttps://www.badmintonvlaanderen.be/sport/teammatch.aspx?id=E5F03216-4619-44
 A1-A21C-5EA724CB9432&match=412
DTSTART;TZID=Europe/Brussels:20221101T070000
DTEND;TZID=Europe/Brussels:20221101T070000
END:VEVENT
BEGIN:VEVENT
UID:E5F03216-4619-44A1-A21C-5EA724CB9432-10-400_homereminder@116.badmintonn
 ers.net
DTSTAMP:20260420T072410Z
SUMMARY:Thuismatch ingevuld? (Essen 1H (80) - De Klamp 3H (78))
DESCRIPTION:Je hebt 36 uur na aanvang om een thuismatch op Badmintonvlaande
 ren in te vullen. Match info: Essen 1H (80) - De Klamp 3H (78) - Link: htt
 ps://www.badmintonvlaanderen.be/sport/teammatch.aspx?id=E5F03216-4619-44A1
 -A21C-5EA724CB9432&match=400
DTSTART;TZID=Europe/Brussels:20221129T070000
DTEND;TZID=Europe/Brussels:20221129T070000
END:VEVENT
BEGIN:VEVENT
UID:E5F03216-4619-44A1-A21C-5EA724CB9432-10-431_homereminder@116.badmintonn
 ers.net
DTSTAMP:20260420T072410Z
SUMMARY:Thuismatch ingevuld? (Essen 1H (80) - Waverse 2H (74))
DESCRIPTION:Je hebt 36 uur na aanvang om een thuismatch op Badmintonvlaande
 ren in te vullen. Match info: Essen 1H (80) - Waverse 2H (74) - Link: http
 s://www.badmintonvlaanderen.be/sport/teammatch.aspx?id=E5F03216-4619-44A1-
 A21C-5EA724CB9432&match=431
DTSTART;TZID=Europe/Brussels:20221213T070000
DTEND;TZID=Europe/Brussels:20221213T070000
END:VEVENT
BEGIN:VEVENT
UID:E5F03216-4619-44A1-A21C-5EA724CB9432-10-1599_homereminder@116.badminton
 ners.net
DTSTAMP:20260420T072410Z
SUMMARY:Thuismatch ingevuld? (Essen 1H (80) - Zandhoven 2H (79))
DESCRIPTION:Je hebt 36 uur na aanvang om een thuismatch op Badmintonvlaande
 ren in te vullen. Match info: Essen 1H (80) - Zandhoven 2H (79) - Link: ht
 tps://www.badmintonvlaanderen.be/sport/teammatch.aspx?id=E5F03216-4619-44A
 1-A21C-5EA724CB9432&match=1599
DTSTART;TZID=Europe/Brussels:20230117T070000
DTEND;TZID=Europe/Brussels:20230117T070000
END:VEVENT
BEGIN:VEVENT
UID:E5F03216-4619-44A1-A21C-5EA724CB9432-10-418_homereminder@116.badmintonn
 ers.net
DTSTAMP:20260420T072410Z
SUMMARY:Thuismatch ingevuld? (Essen 1H (80) - Turnhout 2H (70))
DESCRIPTION:Je hebt 36 uur na aanvang om een thuismatch op Badmintonvlaande
 ren in te vullen. Match info: Essen 1H (80) - Turnhout 2H (70) - Link: htt
 ps://www.badmintonvlaanderen.be/sport/teammatch.aspx?id=E5F03216-4619-44A1
 -A21C-5EA724CB9432&match=418
DTSTART;TZID=Europe/Brussels:20230221T070000
DTEND;TZID=Europe/Brussels:20230221T070000
END:VEVENT
BEGIN:VEVENT
UID:E5F03216-4619-44A1-A21C-5EA724CB9432-10-406_homereminder@116.badmintonn
 ers.net
DTSTAMP:20260420T072410Z
SUMMARY:Thuismatch ingevuld? (Essen 1H (80) - Olve 7H (71))
DESCRIPTION:Je hebt 36 uur na aanvang om een thuismatch op Badmintonvlaande
 ren in te vullen. Match info: Essen 1H (80) - Olve 7H (71) - Link: https:/
 /www.badmintonvlaanderen.be/sport/teammatch.aspx?id=E5F03216-4619-44A1-A21
 C-5EA724CB9432&match=406
DTSTART;TZID=Europe/Brussels:20230418T070000
DTEND;TZID=Europe/Brussels:20230418T070000
END:VEVENT
BEGIN:VEVENT
UID:E5F03216-4619-44A1-A21C-5EA724CB9432-10-1593_awayreminder@116.badminton
 ners.net
DTSTAMP:20260420T072410Z
SUMMARY:Uitmatch bevestigd? (Zandhoven 2H (79) - Essen 1H (80))
DESCRIPTION:Je hebt 72 uur na aanvang om een uitmatch op Badmintonvlaandere
 n in te vullen. Match info: Zandhoven 2H (79) - Essen 1H (80) - Link: http
 s://www.badmintonvlaanderen.be/sport/teammatch.aspx?id=E5F03216-4619-44A1-
 A21C-5EA724CB9432&match=1593
DTSTART;TZID=Europe/Brussels:20221006T200000
DTEND;TZID=Europe/Brussels:20221006T200000
END:VEVENT
BEGIN:VEVENT
UID:E5F03216-4619-44A1-A21C-5EA724CB9432-10-424_awayreminder@116.badmintonn
 ers.net
DTSTAMP:20260420T072410Z
SUMMARY:Uitmatch bevestigd? (Turnhout 2H (70) - Essen 1H (80))
DESCRIPTION:Je hebt 72 uur na aanvang om een uitmatch op Badmintonvlaandere
 n in te vullen. Match info: Turnhout 2H (70) - Essen 1H (80) - Link: https
 ://www.badmintonvlaanderen.be/sport/teammatch.aspx?id=E5F03216-4619-44A1-A
 21C-5EA724CB9432&match=424
DTSTART;TZID=Europe/Brussels:20221018T140000
DTEND;TZID=Europe/Brussels:20221018T140000
END:VEVENT
BEGIN:VEVENT
UID:E5F03216-4619-44A1-A21C-5EA724CB9432-10-422_awayreminder@116.badmintonn
 ers.net
DTSTAMP:20260420T072410Z
SUMMARY:Uitmatch bevestigd? (Olve 7H (71) - Essen 1H (80))
DESCRIPTION:Je hebt 72 uur na aanvang om een uitmatch op Badmintonvlaandere
 n in te vullen. Match info: Olve 7H (71) - Essen 1H (80) - Link: https://w
 ww.badmintonvlaanderen.be/sport/teammatch.aspx?id=E5F03216-4619-44A1-A21C-
 5EA724CB9432&match=422
DTSTART;TZID=Europe/Brussels:20221115T103000
DTEND;TZID=Europe/Brussels:20221115T103000
END:VEVENT
BEGIN:VEVENT
UID:E5F03216-4619-44A1-A21C-5EA724CB9432-10-423_awayreminder@116.badmintonn
 ers.net
DTSTAMP:20260420T072410Z
SUMMARY:Uitmatch bevestigd? (Klein Boom 4H (71) - Essen 1H (80))
DESCRIPTION:Je hebt 72 uur na aanvang om een uitmatch op Badmintonvlaandere
 n in te vullen. Match info: Klein Boom 4H (71) - Essen 1H (80) - Link: htt
 ps://www.badmintonvlaanderen.be/sport/teammatch.aspx?id=E5F03216-4619-44A1
 -A21C-5EA724CB9432&match=423
DTSTART;TZID=Europe/Brussels:20230308T190000
DTEND;TZID=Europe/Brussels:20230308T190000
END:VEVENT
BEGIN:VEVENT
UID:E5F03216-4619-44A1-A21C-5EA724CB9432-10-425_awayreminder@116.badmintonn
 ers.net
DTSTAMP:20260420T072410Z
SUMMARY:Uitmatch bevestigd? (Waverse 2H (74) - Essen 1H (80))
DESCRIPTION:Je hebt 72 uur na aanvang om een uitmatch op Badmintonvlaandere
 n in te vullen. Match info: Waverse 2H (74) - Essen 1H (80) - Link: https:
 //www.badmintonvlaanderen.be/sport/teammatch.aspx?id=E5F03216-4619-44A1-A2
 1C-5EA724CB9432&match=425
DTSTART;TZID=Europe/Brussels:20230322T140000
DTEND;TZID=Europe/Brussels:20230322T140000
END:VEVENT
BEGIN:VEVENT
UID:E5F03216-4619-44A1-A21C-5EA724CB9432-10-421_awayreminder@116.badmintonn
 ers.net
DTSTAMP:20260420T072410Z
SUMMARY:Uitmatch bevestigd? (De Klamp 3H (78) - Essen 1H (80))
DESCRIPTION:Je hebt 72 uur na aanvang om een uitmatch op Badmintonvlaandere
 n in te vullen. Match info: De Klamp 3H (78) - Essen 1H (80) - Link: https
 ://www.badmintonvlaanderen.be/sport/teammatch.aspx?id=E5F03216-4619-44A1-A
 21C-5EA724CB9432&match=421
DTSTART;TZID=Europe/Brussels:20230503T181500
DTEND;TZID=Europe/Brussels:20230503T181500
END:VEVENT
END:VCALENDAR