BEGIN:VCALENDAR
VERSION:2.0
PRODID:spatie/icalendar-generator
NAME:turnhout_2h_70_reminders
X-WR-CALNAME:turnhout_2h_70_reminders
BEGIN:VTIMEZONE
TZID:Europe/Brussels
BEGIN:DAYLIGHT
DTSTART:20220327T010000
TZOFFSETFROM:+0100
TZOFFSETTO:+0200
END:DAYLIGHT
BEGIN:STANDARD
DTSTART:20221030T030000
TZOFFSETFROM:+0200
TZOFFSETTO:+0100
END:STANDARD
BEGIN:DAYLIGHT
DTSTART:20230326T010000
TZOFFSETFROM:+0100
TZOFFSETTO:+0200
END:DAYLIGHT
END:VTIMEZONE
BEGIN:VTIMEZONE
TZID:UTC
BEGIN:STANDARD
DTSTART:20250724T055209
TZOFFSETFROM:+0000
TZOFFSETTO:+0000
END:STANDARD
END:VTIMEZONE
BEGIN:VEVENT
UID:E5F03216-4619-44A1-A21C-5EA724CB9432-10-424_homereminder@118.badmintonn
 ers.net
DTSTAMP:20260420T055209Z
SUMMARY:Thuismatch ingevuld? (Turnhout 2H (70) - Essen 1H (80))
DESCRIPTION:Je hebt 36 uur na aanvang om een thuismatch op Badmintonvlaande
 ren in te vullen. Match info: Turnhout 2H (70) - Essen 1H (80) - Link: htt
 ps://www.badmintonvlaanderen.be/sport/teammatch.aspx?id=E5F03216-4619-44A1
 -A21C-5EA724CB9432&match=424
DTSTART;TZID=Europe/Brussels:20221017T020000
DTEND;TZID=Europe/Brussels:20221017T020000
END:VEVENT
BEGIN:VEVENT
UID:E5F03216-4619-44A1-A21C-5EA724CB9432-10-1598_homereminder@118.badminton
 ners.net
DTSTAMP:20260420T055209Z
SUMMARY:Thuismatch ingevuld? (Turnhout 2H (70) - Zandhoven 2H (79))
DESCRIPTION:Je hebt 36 uur na aanvang om een thuismatch op Badmintonvlaande
 ren in te vullen. Match info: Turnhout 2H (70) - Zandhoven 2H (79) - Link:
  https://www.badmintonvlaanderen.be/sport/teammatch.aspx?id=E5F03216-4619-
 44A1-A21C-5EA724CB9432&match=1598
DTSTART;TZID=Europe/Brussels:20221114T020000
DTEND;TZID=Europe/Brussels:20221114T020000
END:VEVENT
BEGIN:VEVENT
UID:E5F03216-4619-44A1-A21C-5EA724CB9432-10-405_homereminder@118.badmintonn
 ers.net
DTSTAMP:20260420T055209Z
SUMMARY:Thuismatch ingevuld? (Turnhout 2H (70) - Olve 7H (71))
DESCRIPTION:Je hebt 36 uur na aanvang om een thuismatch op Badmintonvlaande
 ren in te vullen. Match info: Turnhout 2H (70) - Olve 7H (71) - Link: http
 s://www.badmintonvlaanderen.be/sport/teammatch.aspx?id=E5F03216-4619-44A1-
 A21C-5EA724CB9432&match=405
DTSTART;TZID=Europe/Brussels:20221205T020000
DTEND;TZID=Europe/Brussels:20221205T020000
END:VEVENT
BEGIN:VEVENT
UID:E5F03216-4619-44A1-A21C-5EA724CB9432-10-430_homereminder@118.badmintonn
 ers.net
DTSTAMP:20260420T055209Z
SUMMARY:Thuismatch ingevuld? (Turnhout 2H (70) - Waverse 2H (74))
DESCRIPTION:Je hebt 36 uur na aanvang om een thuismatch op Badmintonvlaande
 ren in te vullen. Match info: Turnhout 2H (70) - Waverse 2H (74) - Link: h
 ttps://www.badmintonvlaanderen.be/sport/teammatch.aspx?id=E5F03216-4619-44
 A1-A21C-5EA724CB9432&match=430
DTSTART;TZID=Europe/Brussels:20230206T020000
DTEND;TZID=Europe/Brussels:20230206T020000
END:VEVENT
BEGIN:VEVENT
UID:E5F03216-4619-44A1-A21C-5EA724CB9432-10-411_homereminder@118.badmintonn
 ers.net
DTSTAMP:20260420T055209Z
SUMMARY:Thuismatch ingevuld? (Turnhout 2H (70) - Klein Boom 4H (71))
DESCRIPTION:Je hebt 36 uur na aanvang om een thuismatch op Badmintonvlaande
 ren in te vullen. Match info: Turnhout 2H (70) - Klein Boom 4H (71) - Link
 : https://www.badmintonvlaanderen.be/sport/teammatch.aspx?id=E5F03216-4619
 -44A1-A21C-5EA724CB9432&match=411
DTSTART;TZID=Europe/Brussels:20230220T020000
DTEND;TZID=Europe/Brussels:20230220T020000
END:VEVENT
BEGIN:VEVENT
UID:E5F03216-4619-44A1-A21C-5EA724CB9432-10-399_homereminder@118.badmintonn
 ers.net
DTSTAMP:20260420T055209Z
SUMMARY:Thuismatch ingevuld? (Turnhout 2H (70) - De Klamp 3H (78))
DESCRIPTION:Je hebt 36 uur na aanvang om een thuismatch op Badmintonvlaande
 ren in te vullen. Match info: Turnhout 2H (70) - De Klamp 3H (78) - Link: 
 https://www.badmintonvlaanderen.be/sport/teammatch.aspx?id=E5F03216-4619-4
 4A1-A21C-5EA724CB9432&match=399
DTSTART;TZID=Europe/Brussels:20230417T020000
DTEND;TZID=Europe/Brussels:20230417T020000
END:VEVENT
BEGIN:VEVENT
UID:E5F03216-4619-44A1-A21C-5EA724CB9432-10-417_awayreminder@118.badmintonn
 ers.net
DTSTAMP:20260420T055209Z
SUMMARY:Uitmatch bevestigd? (Klein Boom 4H (71) - Turnhout 2H (70))
DESCRIPTION:Je hebt 72 uur na aanvang om een uitmatch op Badmintonvlaandere
 n in te vullen. Match info: Klein Boom 4H (71) - Turnhout 2H (70) - Link: 
 https://www.badmintonvlaanderen.be/sport/teammatch.aspx?id=E5F03216-4619-4
 4A1-A21C-5EA724CB9432&match=417
DTSTART;TZID=Europe/Brussels:20220921T190000
DTEND;TZID=Europe/Brussels:20220921T190000
END:VEVENT
BEGIN:VEVENT
UID:E5F03216-4619-44A1-A21C-5EA724CB9432-10-419_awayreminder@118.badmintonn
 ers.net
DTSTAMP:20260420T055209Z
SUMMARY:Uitmatch bevestigd? (Waverse 2H (74) - Turnhout 2H (70))
DESCRIPTION:Je hebt 72 uur na aanvang om een uitmatch op Badmintonvlaandere
 n in te vullen. Match info: Waverse 2H (74) - Turnhout 2H (70) - Link: htt
 ps://www.badmintonvlaanderen.be/sport/teammatch.aspx?id=E5F03216-4619-44A1
 -A21C-5EA724CB9432&match=419
DTSTART;TZID=Europe/Brussels:20221102T140000
DTEND;TZID=Europe/Brussels:20221102T140000
END:VEVENT
BEGIN:VEVENT
UID:E5F03216-4619-44A1-A21C-5EA724CB9432-10-415_awayreminder@118.badmintonn
 ers.net
DTSTAMP:20260420T055209Z
SUMMARY:Uitmatch bevestigd? (De Klamp 3H (78) - Turnhout 2H (70))
DESCRIPTION:Je hebt 72 uur na aanvang om een uitmatch op Badmintonvlaandere
 n in te vullen. Match info: De Klamp 3H (78) - Turnhout 2H (70) - Link: ht
 tps://www.badmintonvlaanderen.be/sport/teammatch.aspx?id=E5F03216-4619-44A
 1-A21C-5EA724CB9432&match=415
DTSTART;TZID=Europe/Brussels:20221116T181500
DTEND;TZID=Europe/Brussels:20221116T181500
END:VEVENT
BEGIN:VEVENT
UID:E5F03216-4619-44A1-A21C-5EA724CB9432-10-418_awayreminder@118.badmintonn
 ers.net
DTSTAMP:20260420T055209Z
SUMMARY:Uitmatch bevestigd? (Essen 1H (80) - Turnhout 2H (70))
DESCRIPTION:Je hebt 72 uur na aanvang om een uitmatch op Badmintonvlaandere
 n in te vullen. Match info: Essen 1H (80) - Turnhout 2H (70) - Link: https
 ://www.badmintonvlaanderen.be/sport/teammatch.aspx?id=E5F03216-4619-44A1-A
 21C-5EA724CB9432&match=418
DTSTART;TZID=Europe/Brussels:20230222T190000
DTEND;TZID=Europe/Brussels:20230222T190000
END:VEVENT
BEGIN:VEVENT
UID:E5F03216-4619-44A1-A21C-5EA724CB9432-10-1592_awayreminder@118.badminton
 ners.net
DTSTAMP:20260420T055209Z
SUMMARY:Uitmatch bevestigd? (Zandhoven 2H (79) - Turnhout 2H (70))
DESCRIPTION:Je hebt 72 uur na aanvang om een uitmatch op Badmintonvlaandere
 n in te vullen. Match info: Zandhoven 2H (79) - Turnhout 2H (70) - Link: h
 ttps://www.badmintonvlaanderen.be/sport/teammatch.aspx?id=E5F03216-4619-44
 A1-A21C-5EA724CB9432&match=1592
DTSTART;TZID=Europe/Brussels:20230302T200000
DTEND;TZID=Europe/Brussels:20230302T200000
END:VEVENT
BEGIN:VEVENT
UID:E5F03216-4619-44A1-A21C-5EA724CB9432-10-416_awayreminder@118.badmintonn
 ers.net
DTSTAMP:20260420T055209Z
SUMMARY:Uitmatch bevestigd? (Olve 7H (71) - Turnhout 2H (70))
DESCRIPTION:Je hebt 72 uur na aanvang om een uitmatch op Badmintonvlaandere
 n in te vullen. Match info: Olve 7H (71) - Turnhout 2H (70) - Link: https:
 //www.badmintonvlaanderen.be/sport/teammatch.aspx?id=E5F03216-4619-44A1-A2
 1C-5EA724CB9432&match=416
DTSTART;TZID=Europe/Brussels:20230328T113000
DTEND;TZID=Europe/Brussels:20230328T113000
END:VEVENT
END:VCALENDAR