BEGIN:VCALENDAR
VERSION:2.0
PRODID:spatie/icalendar-generator
NAME:olve_7h_71_reminders
X-WR-CALNAME:olve_7h_71_reminders
BEGIN:VTIMEZONE
TZID:Europe/Brussels
BEGIN:DAYLIGHT
DTSTART:20220327T010000
TZOFFSETFROM:+0100
TZOFFSETTO:+0200
END:DAYLIGHT
BEGIN:STANDARD
DTSTART:20221030T030000
TZOFFSETFROM:+0200
TZOFFSETTO:+0100
END:STANDARD
BEGIN:DAYLIGHT
DTSTART:20230326T010000
TZOFFSETFROM:+0100
TZOFFSETTO:+0200
END:DAYLIGHT
BEGIN:STANDARD
DTSTART:20231029T030000
TZOFFSETFROM:+0200
TZOFFSETTO:+0100
END:STANDARD
END:VTIMEZONE
BEGIN:VTIMEZONE
TZID:UTC
BEGIN:STANDARD
DTSTART:20250724T072434
TZOFFSETFROM:+0000
TZOFFSETTO:+0000
END:STANDARD
END:VTIMEZONE
BEGIN:VEVENT
UID:E5F03216-4619-44A1-A21C-5EA724CB9432-10-410_homereminder@121.badmintonn
 ers.net
DTSTAMP:20260420T072434Z
SUMMARY:Thuismatch ingevuld? (Olve 7H (71) - Klein Boom 4H (71))
DESCRIPTION:Je hebt 36 uur na aanvang om een thuismatch op Badmintonvlaande
 ren in te vullen. Match info: Olve 7H (71) - Klein Boom 4H (71) - Link: ht
 tps://www.badmintonvlaanderen.be/sport/teammatch.aspx?id=E5F03216-4619-44A
 1-A21C-5EA724CB9432&match=410
DTSTART;TZID=Europe/Brussels:20221002T223000
DTEND;TZID=Europe/Brussels:20221002T223000
END:VEVENT
BEGIN:VEVENT
UID:E5F03216-4619-44A1-A21C-5EA724CB9432-10-422_homereminder@121.badmintonn
 ers.net
DTSTAMP:20260420T072434Z
SUMMARY:Thuismatch ingevuld? (Olve 7H (71) - Essen 1H (80))
DESCRIPTION:Je hebt 36 uur na aanvang om een thuismatch op Badmintonvlaande
 ren in te vullen. Match info: Olve 7H (71) - Essen 1H (80) - Link: https:/
 /www.badmintonvlaanderen.be/sport/teammatch.aspx?id=E5F03216-4619-44A1-A21
 C-5EA724CB9432&match=422
DTSTART;TZID=Europe/Brussels:20221113T223000
DTEND;TZID=Europe/Brussels:20221113T223000
END:VEVENT
BEGIN:VEVENT
UID:E5F03216-4619-44A1-A21C-5EA724CB9432-10-397_homereminder@121.badmintonn
 ers.net
DTSTAMP:20260420T072434Z
SUMMARY:Thuismatch ingevuld? (Olve 7H (71) - De Klamp 3H (78))
DESCRIPTION:Je hebt 36 uur na aanvang om een thuismatch op Badmintonvlaande
 ren in te vullen. Match info: Olve 7H (71) - De Klamp 3H (78) - Link: http
 s://www.badmintonvlaanderen.be/sport/teammatch.aspx?id=E5F03216-4619-44A1-
 A21C-5EA724CB9432&match=397
DTSTART;TZID=Europe/Brussels:20221120T223000
DTEND;TZID=Europe/Brussels:20221120T223000
END:VEVENT
BEGIN:VEVENT
UID:E5F03216-4619-44A1-A21C-5EA724CB9432-10-416_homereminder@121.badmintonn
 ers.net
DTSTAMP:20260420T072434Z
SUMMARY:Thuismatch ingevuld? (Olve 7H (71) - Turnhout 2H (70))
DESCRIPTION:Je hebt 36 uur na aanvang om een thuismatch op Badmintonvlaande
 ren in te vullen. Match info: Olve 7H (71) - Turnhout 2H (70) - Link: http
 s://www.badmintonvlaanderen.be/sport/teammatch.aspx?id=E5F03216-4619-44A1-
 A21C-5EA724CB9432&match=416
DTSTART;TZID=Europe/Brussels:20230326T233000
DTEND;TZID=Europe/Brussels:20230326T233000
END:VEVENT
BEGIN:VEVENT
UID:E5F03216-4619-44A1-A21C-5EA724CB9432-10-1596_homereminder@121.badminton
 ners.net
DTSTAMP:20260420T072434Z
SUMMARY:Thuismatch ingevuld? (Olve 7H (71) - Zandhoven 2H (79))
DESCRIPTION:Je hebt 36 uur na aanvang om een thuismatch op Badmintonvlaande
 ren in te vullen. Match info: Olve 7H (71) - Zandhoven 2H (79) - Link: htt
 ps://www.badmintonvlaanderen.be/sport/teammatch.aspx?id=E5F03216-4619-44A1
 -A21C-5EA724CB9432&match=1596
DTSTART;TZID=Europe/Brussels:20230426T080000
DTEND;TZID=Europe/Brussels:20230426T080000
END:VEVENT
BEGIN:VEVENT
UID:E5F03216-4619-44A1-A21C-5EA724CB9432-10-428_homereminder@121.badmintonn
 ers.net
DTSTAMP:20260420T072434Z
SUMMARY:Thuismatch ingevuld? (Olve 7H (71) - Waverse 2H (74))
DESCRIPTION:Je hebt 36 uur na aanvang om een thuismatch op Badmintonvlaande
 ren in te vullen. Match info: Olve 7H (71) - Waverse 2H (74) - Link: https
 ://www.badmintonvlaanderen.be/sport/teammatch.aspx?id=E5F03216-4619-44A1-A
 21C-5EA724CB9432&match=428
DTSTART;TZID=Europe/Brussels:20230430T223000
DTEND;TZID=Europe/Brussels:20230430T223000
END:VEVENT
BEGIN:VEVENT
UID:E5F03216-4619-44A1-A21C-5EA724CB9432-10-1590_awayreminder@121.badminton
 ners.net
DTSTAMP:20260420T072434Z
SUMMARY:Uitmatch bevestigd? (Zandhoven 2H (79) - Olve 7H (71))
DESCRIPTION:Je hebt 72 uur na aanvang om een uitmatch op Badmintonvlaandere
 n in te vullen. Match info: Zandhoven 2H (79) - Olve 7H (71) - Link: https
 ://www.badmintonvlaanderen.be/sport/teammatch.aspx?id=E5F03216-4619-44A1-A
 21C-5EA724CB9432&match=1590
DTSTART;TZID=Europe/Brussels:20220915T200000
DTEND;TZID=Europe/Brussels:20220915T200000
END:VEVENT
BEGIN:VEVENT
UID:E5F03216-4619-44A1-A21C-5EA724CB9432-10-407_awayreminder@121.badmintonn
 ers.net
DTSTAMP:20260420T072434Z
SUMMARY:Uitmatch bevestigd? (Waverse 2H (74) - Olve 7H (71))
DESCRIPTION:Je hebt 72 uur na aanvang om een uitmatch op Badmintonvlaandere
 n in te vullen. Match info: Waverse 2H (74) - Olve 7H (71) - Link: https:/
 /www.badmintonvlaanderen.be/sport/teammatch.aspx?id=E5F03216-4619-44A1-A21
 C-5EA724CB9432&match=407
DTSTART;TZID=Europe/Brussels:20221130T140000
DTEND;TZID=Europe/Brussels:20221130T140000
END:VEVENT
BEGIN:VEVENT
UID:E5F03216-4619-44A1-A21C-5EA724CB9432-10-405_awayreminder@121.badmintonn
 ers.net
DTSTAMP:20260420T072434Z
SUMMARY:Uitmatch bevestigd? (Turnhout 2H (70) - Olve 7H (71))
DESCRIPTION:Je hebt 72 uur na aanvang om een uitmatch op Badmintonvlaandere
 n in te vullen. Match info: Turnhout 2H (70) - Olve 7H (71) - Link: https:
 //www.badmintonvlaanderen.be/sport/teammatch.aspx?id=E5F03216-4619-44A1-A2
 1C-5EA724CB9432&match=405
DTSTART;TZID=Europe/Brussels:20221206T140000
DTEND;TZID=Europe/Brussels:20221206T140000
END:VEVENT
BEGIN:VEVENT
UID:E5F03216-4619-44A1-A21C-5EA724CB9432-10-404_awayreminder@121.badmintonn
 ers.net
DTSTAMP:20260420T072434Z
SUMMARY:Uitmatch bevestigd? (Klein Boom 4H (71) - Olve 7H (71))
DESCRIPTION:Je hebt 72 uur na aanvang om een uitmatch op Badmintonvlaandere
 n in te vullen. Match info: Klein Boom 4H (71) - Olve 7H (71) - Link: http
 s://www.badmintonvlaanderen.be/sport/teammatch.aspx?id=E5F03216-4619-44A1-
 A21C-5EA724CB9432&match=404
DTSTART;TZID=Europe/Brussels:20230208T190000
DTEND;TZID=Europe/Brussels:20230208T190000
END:VEVENT
BEGIN:VEVENT
UID:E5F03216-4619-44A1-A21C-5EA724CB9432-10-403_awayreminder@121.badmintonn
 ers.net
DTSTAMP:20260420T072434Z
SUMMARY:Uitmatch bevestigd? (De Klamp 3H (78) - Olve 7H (71))
DESCRIPTION:Je hebt 72 uur na aanvang om een uitmatch op Badmintonvlaandere
 n in te vullen. Match info: De Klamp 3H (78) - Olve 7H (71) - Link: https:
 //www.badmintonvlaanderen.be/sport/teammatch.aspx?id=E5F03216-4619-44A1-A2
 1C-5EA724CB9432&match=403
DTSTART;TZID=Europe/Brussels:20230308T181500
DTEND;TZID=Europe/Brussels:20230308T181500
END:VEVENT
BEGIN:VEVENT
UID:E5F03216-4619-44A1-A21C-5EA724CB9432-10-406_awayreminder@121.badmintonn
 ers.net
DTSTAMP:20260420T072434Z
SUMMARY:Uitmatch bevestigd? (Essen 1H (80) - Olve 7H (71))
DESCRIPTION:Je hebt 72 uur na aanvang om een uitmatch op Badmintonvlaandere
 n in te vullen. Match info: Essen 1H (80) - Olve 7H (71) - Link: https://w
 ww.badmintonvlaanderen.be/sport/teammatch.aspx?id=E5F03216-4619-44A1-A21C-
 5EA724CB9432&match=406
DTSTART;TZID=Europe/Brussels:20230419T190000
DTEND;TZID=Europe/Brussels:20230419T190000
END:VEVENT
END:VCALENDAR