BEGIN:VCALENDAR
VERSION:2.0
PRODID:spatie/icalendar-generator
NAME:waverse_2h_74_reminders
X-WR-CALNAME:waverse_2h_74_reminders
BEGIN:VTIMEZONE
TZID:Europe/Brussels
BEGIN:DAYLIGHT
DTSTART:20220327T010000
TZOFFSETFROM:+0100
TZOFFSETTO:+0200
END:DAYLIGHT
BEGIN:STANDARD
DTSTART:20221030T030000
TZOFFSETFROM:+0200
TZOFFSETTO:+0100
END:STANDARD
BEGIN:DAYLIGHT
DTSTART:20230326T010000
TZOFFSETFROM:+0100
TZOFFSETTO:+0200
END:DAYLIGHT
BEGIN:STANDARD
DTSTART:20231029T030000
TZOFFSETFROM:+0200
TZOFFSETTO:+0100
END:STANDARD
END:VTIMEZONE
BEGIN:VTIMEZONE
TZID:UTC
BEGIN:STANDARD
DTSTART:20250724T072432
TZOFFSETFROM:+0000
TZOFFSETTO:+0000
END:STANDARD
END:VTIMEZONE
BEGIN:VEVENT
UID:E5F03216-4619-44A1-A21C-5EA724CB9432-10-419_homereminder@122.badmintonn
 ers.net
DTSTAMP:20260420T072432Z
SUMMARY:Thuismatch ingevuld? (Waverse 2H (74) - Turnhout 2H (70))
DESCRIPTION:Je hebt 36 uur na aanvang om een thuismatch op Badmintonvlaande
 ren in te vullen. Match info: Waverse 2H (74) - Turnhout 2H (70) - Link: h
 ttps://www.badmintonvlaanderen.be/sport/teammatch.aspx?id=E5F03216-4619-44
 A1-A21C-5EA724CB9432&match=419
DTSTART;TZID=Europe/Brussels:20221101T020000
DTEND;TZID=Europe/Brussels:20221101T020000
END:VEVENT
BEGIN:VEVENT
UID:E5F03216-4619-44A1-A21C-5EA724CB9432-10-407_homereminder@122.badmintonn
 ers.net
DTSTAMP:20260420T072432Z
SUMMARY:Thuismatch ingevuld? (Waverse 2H (74) - Olve 7H (71))
DESCRIPTION:Je hebt 36 uur na aanvang om een thuismatch op Badmintonvlaande
 ren in te vullen. Match info: Waverse 2H (74) - Olve 7H (71) - Link: https
 ://www.badmintonvlaanderen.be/sport/teammatch.aspx?id=E5F03216-4619-44A1-A
 21C-5EA724CB9432&match=407
DTSTART;TZID=Europe/Brussels:20221129T020000
DTEND;TZID=Europe/Brussels:20221129T020000
END:VEVENT
BEGIN:VEVENT
UID:E5F03216-4619-44A1-A21C-5EA724CB9432-10-1600_homereminder@122.badminton
 ners.net
DTSTAMP:20260420T072432Z
SUMMARY:Thuismatch ingevuld? (Waverse 2H (74) - Zandhoven 2H (79))
DESCRIPTION:Je hebt 36 uur na aanvang om een thuismatch op Badmintonvlaande
 ren in te vullen. Match info: Waverse 2H (74) - Zandhoven 2H (79) - Link: 
 https://www.badmintonvlaanderen.be/sport/teammatch.aspx?id=E5F03216-4619-4
 4A1-A21C-5EA724CB9432&match=1600
DTSTART;TZID=Europe/Brussels:20221204T080000
DTEND;TZID=Europe/Brussels:20221204T080000
END:VEVENT
BEGIN:VEVENT
UID:E5F03216-4619-44A1-A21C-5EA724CB9432-10-413_homereminder@122.badmintonn
 ers.net
DTSTAMP:20260420T072432Z
SUMMARY:Thuismatch ingevuld? (Waverse 2H (74) - Klein Boom 4H (71))
DESCRIPTION:Je hebt 36 uur na aanvang om een thuismatch op Badmintonvlaande
 ren in te vullen. Match info: Waverse 2H (74) - Klein Boom 4H (71) - Link:
  https://www.badmintonvlaanderen.be/sport/teammatch.aspx?id=E5F03216-4619-
 44A1-A21C-5EA724CB9432&match=413
DTSTART;TZID=Europe/Brussels:20230124T020000
DTEND;TZID=Europe/Brussels:20230124T020000
END:VEVENT
BEGIN:VEVENT
UID:E5F03216-4619-44A1-A21C-5EA724CB9432-10-401_homereminder@122.badmintonn
 ers.net
DTSTAMP:20260420T072432Z
SUMMARY:Thuismatch ingevuld? (Waverse 2H (74) - De Klamp 3H (78))
DESCRIPTION:Je hebt 36 uur na aanvang om een thuismatch op Badmintonvlaande
 ren in te vullen. Match info: Waverse 2H (74) - De Klamp 3H (78) - Link: h
 ttps://www.badmintonvlaanderen.be/sport/teammatch.aspx?id=E5F03216-4619-44
 A1-A21C-5EA724CB9432&match=401
DTSTART;TZID=Europe/Brussels:20230221T020000
DTEND;TZID=Europe/Brussels:20230221T020000
END:VEVENT
BEGIN:VEVENT
UID:E5F03216-4619-44A1-A21C-5EA724CB9432-10-425_homereminder@122.badmintonn
 ers.net
DTSTAMP:20260420T072432Z
SUMMARY:Thuismatch ingevuld? (Waverse 2H (74) - Essen 1H (80))
DESCRIPTION:Je hebt 36 uur na aanvang om een thuismatch op Badmintonvlaande
 ren in te vullen. Match info: Waverse 2H (74) - Essen 1H (80) - Link: http
 s://www.badmintonvlaanderen.be/sport/teammatch.aspx?id=E5F03216-4619-44A1-
 A21C-5EA724CB9432&match=425
DTSTART;TZID=Europe/Brussels:20230321T020000
DTEND;TZID=Europe/Brussels:20230321T020000
END:VEVENT
BEGIN:VEVENT
UID:E5F03216-4619-44A1-A21C-5EA724CB9432-10-427_awayreminder@122.badmintonn
 ers.net
DTSTAMP:20260420T072432Z
SUMMARY:Uitmatch bevestigd? (De Klamp 3H (78) - Waverse 2H (74))
DESCRIPTION:Je hebt 72 uur na aanvang om een uitmatch op Badmintonvlaandere
 n in te vullen. Match info: De Klamp 3H (78) - Waverse 2H (74) - Link: htt
 ps://www.badmintonvlaanderen.be/sport/teammatch.aspx?id=E5F03216-4619-44A1
 -A21C-5EA724CB9432&match=427
DTSTART;TZID=Europe/Brussels:20220921T181500
DTEND;TZID=Europe/Brussels:20220921T181500
END:VEVENT
BEGIN:VEVENT
UID:E5F03216-4619-44A1-A21C-5EA724CB9432-10-429_awayreminder@122.badmintonn
 ers.net
DTSTAMP:20260420T072432Z
SUMMARY:Uitmatch bevestigd? (Klein Boom 4H (71) - Waverse 2H (74))
DESCRIPTION:Je hebt 72 uur na aanvang om een uitmatch op Badmintonvlaandere
 n in te vullen. Match info: Klein Boom 4H (71) - Waverse 2H (74) - Link: h
 ttps://www.badmintonvlaanderen.be/sport/teammatch.aspx?id=E5F03216-4619-44
 A1-A21C-5EA724CB9432&match=429
DTSTART;TZID=Europe/Brussels:20221005T190000
DTEND;TZID=Europe/Brussels:20221005T190000
END:VEVENT
BEGIN:VEVENT
UID:E5F03216-4619-44A1-A21C-5EA724CB9432-10-431_awayreminder@122.badmintonn
 ers.net
DTSTAMP:20260420T072432Z
SUMMARY:Uitmatch bevestigd? (Essen 1H (80) - Waverse 2H (74))
DESCRIPTION:Je hebt 72 uur na aanvang om een uitmatch op Badmintonvlaandere
 n in te vullen. Match info: Essen 1H (80) - Waverse 2H (74) - Link: https:
 //www.badmintonvlaanderen.be/sport/teammatch.aspx?id=E5F03216-4619-44A1-A2
 1C-5EA724CB9432&match=431
DTSTART;TZID=Europe/Brussels:20221214T190000
DTEND;TZID=Europe/Brussels:20221214T190000
END:VEVENT
BEGIN:VEVENT
UID:E5F03216-4619-44A1-A21C-5EA724CB9432-10-430_awayreminder@122.badmintonn
 ers.net
DTSTAMP:20260420T072432Z
SUMMARY:Uitmatch bevestigd? (Turnhout 2H (70) - Waverse 2H (74))
DESCRIPTION:Je hebt 72 uur na aanvang om een uitmatch op Badmintonvlaandere
 n in te vullen. Match info: Turnhout 2H (70) - Waverse 2H (74) - Link: htt
 ps://www.badmintonvlaanderen.be/sport/teammatch.aspx?id=E5F03216-4619-44A1
 -A21C-5EA724CB9432&match=430
DTSTART;TZID=Europe/Brussels:20230207T140000
DTEND;TZID=Europe/Brussels:20230207T140000
END:VEVENT
BEGIN:VEVENT
UID:E5F03216-4619-44A1-A21C-5EA724CB9432-10-1594_awayreminder@122.badminton
 ners.net
DTSTAMP:20260420T072432Z
SUMMARY:Uitmatch bevestigd? (Zandhoven 2H (79) - Waverse 2H (74))
DESCRIPTION:Je hebt 72 uur na aanvang om een uitmatch op Badmintonvlaandere
 n in te vullen. Match info: Zandhoven 2H (79) - Waverse 2H (74) - Link: ht
 tps://www.badmintonvlaanderen.be/sport/teammatch.aspx?id=E5F03216-4619-44A
 1-A21C-5EA724CB9432&match=1594
DTSTART;TZID=Europe/Brussels:20230330T200000
DTEND;TZID=Europe/Brussels:20230330T200000
END:VEVENT
BEGIN:VEVENT
UID:E5F03216-4619-44A1-A21C-5EA724CB9432-10-428_awayreminder@122.badmintonn
 ers.net
DTSTAMP:20260420T072432Z
SUMMARY:Uitmatch bevestigd? (Olve 7H (71) - Waverse 2H (74))
DESCRIPTION:Je hebt 72 uur na aanvang om een uitmatch op Badmintonvlaandere
 n in te vullen. Match info: Olve 7H (71) - Waverse 2H (74) - Link: https:/
 /www.badmintonvlaanderen.be/sport/teammatch.aspx?id=E5F03216-4619-44A1-A21
 C-5EA724CB9432&match=428
DTSTART;TZID=Europe/Brussels:20230502T103000
DTEND;TZID=Europe/Brussels:20230502T103000
END:VEVENT
END:VCALENDAR