BEGIN:VCALENDAR
VERSION:2.0
PRODID:spatie/icalendar-generator
NAME:klein_boom_4h_71_reminders
X-WR-CALNAME:klein_boom_4h_71_reminders
BEGIN:VTIMEZONE
TZID:Europe/Brussels
BEGIN:DAYLIGHT
DTSTART:20220327T010000
TZOFFSETFROM:+0100
TZOFFSETTO:+0200
END:DAYLIGHT
BEGIN:STANDARD
DTSTART:20221030T030000
TZOFFSETFROM:+0200
TZOFFSETTO:+0100
END:STANDARD
BEGIN:DAYLIGHT
DTSTART:20230326T010000
TZOFFSETFROM:+0100
TZOFFSETTO:+0200
END:DAYLIGHT
END:VTIMEZONE
BEGIN:VTIMEZONE
TZID:UTC
BEGIN:STANDARD
DTSTART:20250724T055217
TZOFFSETFROM:+0000
TZOFFSETTO:+0000
END:STANDARD
END:VTIMEZONE
BEGIN:VEVENT
UID:E5F03216-4619-44A1-A21C-5EA724CB9432-10-398_homereminder@123.badmintonn
 ers.net
DTSTAMP:20260420T055217Z
SUMMARY:Thuismatch ingevuld? (Klein Boom 4H (71) - De Klamp 3H (78))
DESCRIPTION:Je hebt 36 uur na aanvang om een thuismatch op Badmintonvlaande
 ren in te vullen. Match info: Klein Boom 4H (71) - De Klamp 3H (78) - Link
 : https://www.badmintonvlaanderen.be/sport/teammatch.aspx?id=E5F03216-4619
 -44A1-A21C-5EA724CB9432&match=398
DTSTART;TZID=Europe/Brussels:20220906T070000
DTEND;TZID=Europe/Brussels:20220906T070000
END:VEVENT
BEGIN:VEVENT
UID:E5F03216-4619-44A1-A21C-5EA724CB9432-10-417_homereminder@123.badmintonn
 ers.net
DTSTAMP:20260420T055217Z
SUMMARY:Thuismatch ingevuld? (Klein Boom 4H (71) - Turnhout 2H (70))
DESCRIPTION:Je hebt 36 uur na aanvang om een thuismatch op Badmintonvlaande
 ren in te vullen. Match info: Klein Boom 4H (71) - Turnhout 2H (70) - Link
 : https://www.badmintonvlaanderen.be/sport/teammatch.aspx?id=E5F03216-4619
 -44A1-A21C-5EA724CB9432&match=417
DTSTART;TZID=Europe/Brussels:20220920T070000
DTEND;TZID=Europe/Brussels:20220920T070000
END:VEVENT
BEGIN:VEVENT
UID:E5F03216-4619-44A1-A21C-5EA724CB9432-10-429_homereminder@123.badmintonn
 ers.net
DTSTAMP:20260420T055217Z
SUMMARY:Thuismatch ingevuld? (Klein Boom 4H (71) - Waverse 2H (74))
DESCRIPTION:Je hebt 36 uur na aanvang om een thuismatch op Badmintonvlaande
 ren in te vullen. Match info: Klein Boom 4H (71) - Waverse 2H (74) - Link:
  https://www.badmintonvlaanderen.be/sport/teammatch.aspx?id=E5F03216-4619-
 44A1-A21C-5EA724CB9432&match=429
DTSTART;TZID=Europe/Brussels:20221004T070000
DTEND;TZID=Europe/Brussels:20221004T070000
END:VEVENT
BEGIN:VEVENT
UID:E5F03216-4619-44A1-A21C-5EA724CB9432-10-404_homereminder@123.badmintonn
 ers.net
DTSTAMP:20260420T055217Z
SUMMARY:Thuismatch ingevuld? (Klein Boom 4H (71) - Olve 7H (71))
DESCRIPTION:Je hebt 36 uur na aanvang om een thuismatch op Badmintonvlaande
 ren in te vullen. Match info: Klein Boom 4H (71) - Olve 7H (71) - Link: ht
 tps://www.badmintonvlaanderen.be/sport/teammatch.aspx?id=E5F03216-4619-44A
 1-A21C-5EA724CB9432&match=404
DTSTART;TZID=Europe/Brussels:20230207T070000
DTEND;TZID=Europe/Brussels:20230207T070000
END:VEVENT
BEGIN:VEVENT
UID:E5F03216-4619-44A1-A21C-5EA724CB9432-10-423_homereminder@123.badmintonn
 ers.net
DTSTAMP:20260420T055217Z
SUMMARY:Thuismatch ingevuld? (Klein Boom 4H (71) - Essen 1H (80))
DESCRIPTION:Je hebt 36 uur na aanvang om een thuismatch op Badmintonvlaande
 ren in te vullen. Match info: Klein Boom 4H (71) - Essen 1H (80) - Link: h
 ttps://www.badmintonvlaanderen.be/sport/teammatch.aspx?id=E5F03216-4619-44
 A1-A21C-5EA724CB9432&match=423
DTSTART;TZID=Europe/Brussels:20230307T070000
DTEND;TZID=Europe/Brussels:20230307T070000
END:VEVENT
BEGIN:VEVENT
UID:E5F03216-4619-44A1-A21C-5EA724CB9432-10-1597_homereminder@123.badminton
 ners.net
DTSTAMP:20260420T055217Z
SUMMARY:Thuismatch ingevuld? (Klein Boom 4H (71) - Zandhoven 2H (79))
DESCRIPTION:Je hebt 36 uur na aanvang om een thuismatch op Badmintonvlaande
 ren in te vullen. Match info: Klein Boom 4H (71) - Zandhoven 2H (79) - Lin
 k: https://www.badmintonvlaanderen.be/sport/teammatch.aspx?id=E5F03216-461
 9-44A1-A21C-5EA724CB9432&match=1597
DTSTART;TZID=Europe/Brussels:20230314T070000
DTEND;TZID=Europe/Brussels:20230314T070000
END:VEVENT
BEGIN:VEVENT
UID:E5F03216-4619-44A1-A21C-5EA724CB9432-10-410_awayreminder@123.badmintonn
 ers.net
DTSTAMP:20260420T055217Z
SUMMARY:Uitmatch bevestigd? (Olve 7H (71) - Klein Boom 4H (71))
DESCRIPTION:Je hebt 72 uur na aanvang om een uitmatch op Badmintonvlaandere
 n in te vullen. Match info: Olve 7H (71) - Klein Boom 4H (71) - Link: http
 s://www.badmintonvlaanderen.be/sport/teammatch.aspx?id=E5F03216-4619-44A1-
 A21C-5EA724CB9432&match=410
DTSTART;TZID=Europe/Brussels:20221004T103000
DTEND;TZID=Europe/Brussels:20221004T103000
END:VEVENT
BEGIN:VEVENT
UID:E5F03216-4619-44A1-A21C-5EA724CB9432-10-412_awayreminder@123.badmintonn
 ers.net
DTSTAMP:20260420T055217Z
SUMMARY:Uitmatch bevestigd? (Essen 1H (80) - Klein Boom 4H (71))
DESCRIPTION:Je hebt 72 uur na aanvang om een uitmatch op Badmintonvlaandere
 n in te vullen. Match info: Essen 1H (80) - Klein Boom 4H (71) - Link: htt
 ps://www.badmintonvlaanderen.be/sport/teammatch.aspx?id=E5F03216-4619-44A1
 -A21C-5EA724CB9432&match=412
DTSTART;TZID=Europe/Brussels:20221102T190000
DTEND;TZID=Europe/Brussels:20221102T190000
END:VEVENT
BEGIN:VEVENT
UID:E5F03216-4619-44A1-A21C-5EA724CB9432-10-1591_awayreminder@123.badminton
 ners.net
DTSTAMP:20260420T055217Z
SUMMARY:Uitmatch bevestigd? (Zandhoven 2H (79) - Klein Boom 4H (71))
DESCRIPTION:Je hebt 72 uur na aanvang om een uitmatch op Badmintonvlaandere
 n in te vullen. Match info: Zandhoven 2H (79) - Klein Boom 4H (71) - Link:
  https://www.badmintonvlaanderen.be/sport/teammatch.aspx?id=E5F03216-4619-
 44A1-A21C-5EA724CB9432&match=1591
DTSTART;TZID=Europe/Brussels:20221124T200000
DTEND;TZID=Europe/Brussels:20221124T200000
END:VEVENT
BEGIN:VEVENT
UID:E5F03216-4619-44A1-A21C-5EA724CB9432-10-413_awayreminder@123.badmintonn
 ers.net
DTSTAMP:20260420T055217Z
SUMMARY:Uitmatch bevestigd? (Waverse 2H (74) - Klein Boom 4H (71))
DESCRIPTION:Je hebt 72 uur na aanvang om een uitmatch op Badmintonvlaandere
 n in te vullen. Match info: Waverse 2H (74) - Klein Boom 4H (71) - Link: h
 ttps://www.badmintonvlaanderen.be/sport/teammatch.aspx?id=E5F03216-4619-44
 A1-A21C-5EA724CB9432&match=413
DTSTART;TZID=Europe/Brussels:20230125T140000
DTEND;TZID=Europe/Brussels:20230125T140000
END:VEVENT
BEGIN:VEVENT
UID:E5F03216-4619-44A1-A21C-5EA724CB9432-10-411_awayreminder@123.badmintonn
 ers.net
DTSTAMP:20260420T055217Z
SUMMARY:Uitmatch bevestigd? (Turnhout 2H (70) - Klein Boom 4H (71))
DESCRIPTION:Je hebt 72 uur na aanvang om een uitmatch op Badmintonvlaandere
 n in te vullen. Match info: Turnhout 2H (70) - Klein Boom 4H (71) - Link: 
 https://www.badmintonvlaanderen.be/sport/teammatch.aspx?id=E5F03216-4619-4
 4A1-A21C-5EA724CB9432&match=411
DTSTART;TZID=Europe/Brussels:20230221T140000
DTEND;TZID=Europe/Brussels:20230221T140000
END:VEVENT
BEGIN:VEVENT
UID:E5F03216-4619-44A1-A21C-5EA724CB9432-10-409_awayreminder@123.badmintonn
 ers.net
DTSTAMP:20260420T055217Z
SUMMARY:Uitmatch bevestigd? (De Klamp 3H (78) - Klein Boom 4H (71))
DESCRIPTION:Je hebt 72 uur na aanvang om een uitmatch op Badmintonvlaandere
 n in te vullen. Match info: De Klamp 3H (78) - Klein Boom 4H (71) - Link: 
 https://www.badmintonvlaanderen.be/sport/teammatch.aspx?id=E5F03216-4619-4
 4A1-A21C-5EA724CB9432&match=409
DTSTART;TZID=Europe/Brussels:20230405T181500
DTEND;TZID=Europe/Brussels:20230405T181500
END:VEVENT
END:VCALENDAR