BEGIN:VCALENDAR
VERSION:2.0
PRODID:spatie/icalendar-generator
NAME:de_klamp_3h_78_reminders
X-WR-CALNAME:de_klamp_3h_78_reminders
BEGIN:VTIMEZONE
TZID:Europe/Brussels
BEGIN:DAYLIGHT
DTSTART:20220327T010000
TZOFFSETFROM:+0100
TZOFFSETTO:+0200
END:DAYLIGHT
BEGIN:STANDARD
DTSTART:20221030T030000
TZOFFSETFROM:+0200
TZOFFSETTO:+0100
END:STANDARD
BEGIN:DAYLIGHT
DTSTART:20230326T010000
TZOFFSETFROM:+0100
TZOFFSETTO:+0200
END:DAYLIGHT
BEGIN:STANDARD
DTSTART:20231029T030000
TZOFFSETFROM:+0200
TZOFFSETTO:+0100
END:STANDARD
END:VTIMEZONE
BEGIN:VTIMEZONE
TZID:UTC
BEGIN:STANDARD
DTSTART:20250724T055215
TZOFFSETFROM:+0000
TZOFFSETTO:+0000
END:STANDARD
END:VTIMEZONE
BEGIN:VEVENT
UID:E5F03216-4619-44A1-A21C-5EA724CB9432-10-427_homereminder@135.badmintonn
 ers.net
DTSTAMP:20260420T055215Z
SUMMARY:Thuismatch ingevuld? (De Klamp 3H (78) - Waverse 2H (74))
DESCRIPTION:Je hebt 36 uur na aanvang om een thuismatch op Badmintonvlaande
 ren in te vullen. Match info: De Klamp 3H (78) - Waverse 2H (74) - Link: h
 ttps://www.badmintonvlaanderen.be/sport/teammatch.aspx?id=E5F03216-4619-44
 A1-A21C-5EA724CB9432&match=427
DTSTART;TZID=Europe/Brussels:20220920T061500
DTEND;TZID=Europe/Brussels:20220920T061500
END:VEVENT
BEGIN:VEVENT
UID:E5F03216-4619-44A1-A21C-5EA724CB9432-10-1595_homereminder@135.badminton
 ners.net
DTSTAMP:20260420T055215Z
SUMMARY:Thuismatch ingevuld? (De Klamp 3H (78) - Zandhoven 2H (79))
DESCRIPTION:Je hebt 36 uur na aanvang om een thuismatch op Badmintonvlaande
 ren in te vullen. Match info: De Klamp 3H (78) - Zandhoven 2H (79) - Link:
  https://www.badmintonvlaanderen.be/sport/teammatch.aspx?id=E5F03216-4619-
 44A1-A21C-5EA724CB9432&match=1595
DTSTART;TZID=Europe/Brussels:20221013T070000
DTEND;TZID=Europe/Brussels:20221013T070000
END:VEVENT
BEGIN:VEVENT
UID:E5F03216-4619-44A1-A21C-5EA724CB9432-10-415_homereminder@135.badmintonn
 ers.net
DTSTAMP:20260420T055215Z
SUMMARY:Thuismatch ingevuld? (De Klamp 3H (78) - Turnhout 2H (70))
DESCRIPTION:Je hebt 36 uur na aanvang om een thuismatch op Badmintonvlaande
 ren in te vullen. Match info: De Klamp 3H (78) - Turnhout 2H (70) - Link: 
 https://www.badmintonvlaanderen.be/sport/teammatch.aspx?id=E5F03216-4619-4
 4A1-A21C-5EA724CB9432&match=415
DTSTART;TZID=Europe/Brussels:20221115T061500
DTEND;TZID=Europe/Brussels:20221115T061500
END:VEVENT
BEGIN:VEVENT
UID:E5F03216-4619-44A1-A21C-5EA724CB9432-10-403_homereminder@135.badmintonn
 ers.net
DTSTAMP:20260420T055215Z
SUMMARY:Thuismatch ingevuld? (De Klamp 3H (78) - Olve 7H (71))
DESCRIPTION:Je hebt 36 uur na aanvang om een thuismatch op Badmintonvlaande
 ren in te vullen. Match info: De Klamp 3H (78) - Olve 7H (71) - Link: http
 s://www.badmintonvlaanderen.be/sport/teammatch.aspx?id=E5F03216-4619-44A1-
 A21C-5EA724CB9432&match=403
DTSTART;TZID=Europe/Brussels:20230307T061500
DTEND;TZID=Europe/Brussels:20230307T061500
END:VEVENT
BEGIN:VEVENT
UID:E5F03216-4619-44A1-A21C-5EA724CB9432-10-409_homereminder@135.badmintonn
 ers.net
DTSTAMP:20260420T055215Z
SUMMARY:Thuismatch ingevuld? (De Klamp 3H (78) - Klein Boom 4H (71))
DESCRIPTION:Je hebt 36 uur na aanvang om een thuismatch op Badmintonvlaande
 ren in te vullen. Match info: De Klamp 3H (78) - Klein Boom 4H (71) - Link
 : https://www.badmintonvlaanderen.be/sport/teammatch.aspx?id=E5F03216-4619
 -44A1-A21C-5EA724CB9432&match=409
DTSTART;TZID=Europe/Brussels:20230404T061500
DTEND;TZID=Europe/Brussels:20230404T061500
END:VEVENT
BEGIN:VEVENT
UID:E5F03216-4619-44A1-A21C-5EA724CB9432-10-421_homereminder@135.badmintonn
 ers.net
DTSTAMP:20260420T055215Z
SUMMARY:Thuismatch ingevuld? (De Klamp 3H (78) - Essen 1H (80))
DESCRIPTION:Je hebt 36 uur na aanvang om een thuismatch op Badmintonvlaande
 ren in te vullen. Match info: De Klamp 3H (78) - Essen 1H (80) - Link: htt
 ps://www.badmintonvlaanderen.be/sport/teammatch.aspx?id=E5F03216-4619-44A1
 -A21C-5EA724CB9432&match=421
DTSTART;TZID=Europe/Brussels:20230502T061500
DTEND;TZID=Europe/Brussels:20230502T061500
END:VEVENT
BEGIN:VEVENT
UID:E5F03216-4619-44A1-A21C-5EA724CB9432-10-398_awayreminder@135.badmintonn
 ers.net
DTSTAMP:20260420T055215Z
SUMMARY:Uitmatch bevestigd? (Klein Boom 4H (71) - De Klamp 3H (78))
DESCRIPTION:Je hebt 72 uur na aanvang om een uitmatch op Badmintonvlaandere
 n in te vullen. Match info: Klein Boom 4H (71) - De Klamp 3H (78) - Link: 
 https://www.badmintonvlaanderen.be/sport/teammatch.aspx?id=E5F03216-4619-4
 4A1-A21C-5EA724CB9432&match=398
DTSTART;TZID=Europe/Brussels:20220907T190000
DTEND;TZID=Europe/Brussels:20220907T190000
END:VEVENT
BEGIN:VEVENT
UID:E5F03216-4619-44A1-A21C-5EA724CB9432-10-397_awayreminder@135.badmintonn
 ers.net
DTSTAMP:20260420T055215Z
SUMMARY:Uitmatch bevestigd? (Olve 7H (71) - De Klamp 3H (78))
DESCRIPTION:Je hebt 72 uur na aanvang om een uitmatch op Badmintonvlaandere
 n in te vullen. Match info: Olve 7H (71) - De Klamp 3H (78) - Link: https:
 //www.badmintonvlaanderen.be/sport/teammatch.aspx?id=E5F03216-4619-44A1-A2
 1C-5EA724CB9432&match=397
DTSTART;TZID=Europe/Brussels:20221122T103000
DTEND;TZID=Europe/Brussels:20221122T103000
END:VEVENT
BEGIN:VEVENT
UID:E5F03216-4619-44A1-A21C-5EA724CB9432-10-400_awayreminder@135.badmintonn
 ers.net
DTSTAMP:20260420T055215Z
SUMMARY:Uitmatch bevestigd? (Essen 1H (80) - De Klamp 3H (78))
DESCRIPTION:Je hebt 72 uur na aanvang om een uitmatch op Badmintonvlaandere
 n in te vullen. Match info: Essen 1H (80) - De Klamp 3H (78) - Link: https
 ://www.badmintonvlaanderen.be/sport/teammatch.aspx?id=E5F03216-4619-44A1-A
 21C-5EA724CB9432&match=400
DTSTART;TZID=Europe/Brussels:20221130T190000
DTEND;TZID=Europe/Brussels:20221130T190000
END:VEVENT
BEGIN:VEVENT
UID:E5F03216-4619-44A1-A21C-5EA724CB9432-10-1589_awayreminder@135.badminton
 ners.net
DTSTAMP:20260420T055215Z
SUMMARY:Uitmatch bevestigd? (Zandhoven 2H (79) - De Klamp 3H (78))
DESCRIPTION:Je hebt 72 uur na aanvang om een uitmatch op Badmintonvlaandere
 n in te vullen. Match info: Zandhoven 2H (79) - De Klamp 3H (78) - Link: h
 ttps://www.badmintonvlaanderen.be/sport/teammatch.aspx?id=E5F03216-4619-44
 A1-A21C-5EA724CB9432&match=1589
DTSTART;TZID=Europe/Brussels:20230202T200000
DTEND;TZID=Europe/Brussels:20230202T200000
END:VEVENT
BEGIN:VEVENT
UID:E5F03216-4619-44A1-A21C-5EA724CB9432-10-401_awayreminder@135.badmintonn
 ers.net
DTSTAMP:20260420T055215Z
SUMMARY:Uitmatch bevestigd? (Waverse 2H (74) - De Klamp 3H (78))
DESCRIPTION:Je hebt 72 uur na aanvang om een uitmatch op Badmintonvlaandere
 n in te vullen. Match info: Waverse 2H (74) - De Klamp 3H (78) - Link: htt
 ps://www.badmintonvlaanderen.be/sport/teammatch.aspx?id=E5F03216-4619-44A1
 -A21C-5EA724CB9432&match=401
DTSTART;TZID=Europe/Brussels:20230222T140000
DTEND;TZID=Europe/Brussels:20230222T140000
END:VEVENT
BEGIN:VEVENT
UID:E5F03216-4619-44A1-A21C-5EA724CB9432-10-399_awayreminder@135.badmintonn
 ers.net
DTSTAMP:20260420T055215Z
SUMMARY:Uitmatch bevestigd? (Turnhout 2H (70) - De Klamp 3H (78))
DESCRIPTION:Je hebt 72 uur na aanvang om een uitmatch op Badmintonvlaandere
 n in te vullen. Match info: Turnhout 2H (70) - De Klamp 3H (78) - Link: ht
 tps://www.badmintonvlaanderen.be/sport/teammatch.aspx?id=E5F03216-4619-44A
 1-A21C-5EA724CB9432&match=399
DTSTART;TZID=Europe/Brussels:20230418T140000
DTEND;TZID=Europe/Brussels:20230418T140000
END:VEVENT
END:VCALENDAR