BEGIN:VCALENDAR
VERSION:2.0
PRODID:spatie/icalendar-generator
NAME:zandhoven_2h_79_reminders
X-WR-CALNAME:zandhoven_2h_79_reminders
BEGIN:VTIMEZONE
TZID:Europe/Brussels
BEGIN:DAYLIGHT
DTSTART:20220327T010000
TZOFFSETFROM:+0100
TZOFFSETTO:+0200
END:DAYLIGHT
BEGIN:STANDARD
DTSTART:20221030T030000
TZOFFSETFROM:+0200
TZOFFSETTO:+0100
END:STANDARD
BEGIN:DAYLIGHT
DTSTART:20230326T010000
TZOFFSETFROM:+0100
TZOFFSETTO:+0200
END:DAYLIGHT
BEGIN:STANDARD
DTSTART:20231029T030000
TZOFFSETFROM:+0200
TZOFFSETTO:+0100
END:STANDARD
END:VTIMEZONE
BEGIN:VTIMEZONE
TZID:UTC
BEGIN:STANDARD
DTSTART:20250724T055214
TZOFFSETFROM:+0000
TZOFFSETTO:+0000
END:STANDARD
END:VTIMEZONE
BEGIN:VEVENT
UID:E5F03216-4619-44A1-A21C-5EA724CB9432-10-1590_homereminder@223.badminton
 ners.net
DTSTAMP:20260420T055214Z
SUMMARY:Thuismatch ingevuld? (Zandhoven 2H (79) - Olve 7H (71))
DESCRIPTION:Je hebt 36 uur na aanvang om een thuismatch op Badmintonvlaande
 ren in te vullen. Match info: Zandhoven 2H (79) - Olve 7H (71) - Link: htt
 ps://www.badmintonvlaanderen.be/sport/teammatch.aspx?id=E5F03216-4619-44A1
 -A21C-5EA724CB9432&match=1590
DTSTART;TZID=Europe/Brussels:20220914T080000
DTEND;TZID=Europe/Brussels:20220914T080000
END:VEVENT
BEGIN:VEVENT
UID:E5F03216-4619-44A1-A21C-5EA724CB9432-10-1593_homereminder@223.badminton
 ners.net
DTSTAMP:20260420T055214Z
SUMMARY:Thuismatch ingevuld? (Zandhoven 2H (79) - Essen 1H (80))
DESCRIPTION:Je hebt 36 uur na aanvang om een thuismatch op Badmintonvlaande
 ren in te vullen. Match info: Zandhoven 2H (79) - Essen 1H (80) - Link: ht
 tps://www.badmintonvlaanderen.be/sport/teammatch.aspx?id=E5F03216-4619-44A
 1-A21C-5EA724CB9432&match=1593
DTSTART;TZID=Europe/Brussels:20221005T080000
DTEND;TZID=Europe/Brussels:20221005T080000
END:VEVENT
BEGIN:VEVENT
UID:E5F03216-4619-44A1-A21C-5EA724CB9432-10-1591_homereminder@223.badminton
 ners.net
DTSTAMP:20260420T055214Z
SUMMARY:Thuismatch ingevuld? (Zandhoven 2H (79) - Klein Boom 4H (71))
DESCRIPTION:Je hebt 36 uur na aanvang om een thuismatch op Badmintonvlaande
 ren in te vullen. Match info: Zandhoven 2H (79) - Klein Boom 4H (71) - Lin
 k: https://www.badmintonvlaanderen.be/sport/teammatch.aspx?id=E5F03216-461
 9-44A1-A21C-5EA724CB9432&match=1591
DTSTART;TZID=Europe/Brussels:20221123T080000
DTEND;TZID=Europe/Brussels:20221123T080000
END:VEVENT
BEGIN:VEVENT
UID:E5F03216-4619-44A1-A21C-5EA724CB9432-10-1589_homereminder@223.badminton
 ners.net
DTSTAMP:20260420T055214Z
SUMMARY:Thuismatch ingevuld? (Zandhoven 2H (79) - De Klamp 3H (78))
DESCRIPTION:Je hebt 36 uur na aanvang om een thuismatch op Badmintonvlaande
 ren in te vullen. Match info: Zandhoven 2H (79) - De Klamp 3H (78) - Link:
  https://www.badmintonvlaanderen.be/sport/teammatch.aspx?id=E5F03216-4619-
 44A1-A21C-5EA724CB9432&match=1589
DTSTART;TZID=Europe/Brussels:20230201T080000
DTEND;TZID=Europe/Brussels:20230201T080000
END:VEVENT
BEGIN:VEVENT
UID:E5F03216-4619-44A1-A21C-5EA724CB9432-10-1592_homereminder@223.badminton
 ners.net
DTSTAMP:20260420T055214Z
SUMMARY:Thuismatch ingevuld? (Zandhoven 2H (79) - Turnhout 2H (70))
DESCRIPTION:Je hebt 36 uur na aanvang om een thuismatch op Badmintonvlaande
 ren in te vullen. Match info: Zandhoven 2H (79) - Turnhout 2H (70) - Link:
  https://www.badmintonvlaanderen.be/sport/teammatch.aspx?id=E5F03216-4619-
 44A1-A21C-5EA724CB9432&match=1592
DTSTART;TZID=Europe/Brussels:20230301T080000
DTEND;TZID=Europe/Brussels:20230301T080000
END:VEVENT
BEGIN:VEVENT
UID:E5F03216-4619-44A1-A21C-5EA724CB9432-10-1594_homereminder@223.badminton
 ners.net
DTSTAMP:20260420T055214Z
SUMMARY:Thuismatch ingevuld? (Zandhoven 2H (79) - Waverse 2H (74))
DESCRIPTION:Je hebt 36 uur na aanvang om een thuismatch op Badmintonvlaande
 ren in te vullen. Match info: Zandhoven 2H (79) - Waverse 2H (74) - Link: 
 https://www.badmintonvlaanderen.be/sport/teammatch.aspx?id=E5F03216-4619-4
 4A1-A21C-5EA724CB9432&match=1594
DTSTART;TZID=Europe/Brussels:20230329T080000
DTEND;TZID=Europe/Brussels:20230329T080000
END:VEVENT
BEGIN:VEVENT
UID:E5F03216-4619-44A1-A21C-5EA724CB9432-10-1595_awayreminder@223.badminton
 ners.net
DTSTAMP:20260420T055214Z
SUMMARY:Uitmatch bevestigd? (De Klamp 3H (78) - Zandhoven 2H (79))
DESCRIPTION:Je hebt 72 uur na aanvang om een uitmatch op Badmintonvlaandere
 n in te vullen. Match info: De Klamp 3H (78) - Zandhoven 2H (79) - Link: h
 ttps://www.badmintonvlaanderen.be/sport/teammatch.aspx?id=E5F03216-4619-44
 A1-A21C-5EA724CB9432&match=1595
DTSTART;TZID=Europe/Brussels:20221014T190000
DTEND;TZID=Europe/Brussels:20221014T190000
END:VEVENT
BEGIN:VEVENT
UID:E5F03216-4619-44A1-A21C-5EA724CB9432-10-1598_awayreminder@223.badminton
 ners.net
DTSTAMP:20260420T055214Z
SUMMARY:Uitmatch bevestigd? (Turnhout 2H (70) - Zandhoven 2H (79))
DESCRIPTION:Je hebt 72 uur na aanvang om een uitmatch op Badmintonvlaandere
 n in te vullen. Match info: Turnhout 2H (70) - Zandhoven 2H (79) - Link: h
 ttps://www.badmintonvlaanderen.be/sport/teammatch.aspx?id=E5F03216-4619-44
 A1-A21C-5EA724CB9432&match=1598
DTSTART;TZID=Europe/Brussels:20221115T140000
DTEND;TZID=Europe/Brussels:20221115T140000
END:VEVENT
BEGIN:VEVENT
UID:E5F03216-4619-44A1-A21C-5EA724CB9432-10-1600_awayreminder@223.badminton
 ners.net
DTSTAMP:20260420T055214Z
SUMMARY:Uitmatch bevestigd? (Waverse 2H (74) - Zandhoven 2H (79))
DESCRIPTION:Je hebt 72 uur na aanvang om een uitmatch op Badmintonvlaandere
 n in te vullen. Match info: Waverse 2H (74) - Zandhoven 2H (79) - Link: ht
 tps://www.badmintonvlaanderen.be/sport/teammatch.aspx?id=E5F03216-4619-44A
 1-A21C-5EA724CB9432&match=1600
DTSTART;TZID=Europe/Brussels:20221205T200000
DTEND;TZID=Europe/Brussels:20221205T200000
END:VEVENT
BEGIN:VEVENT
UID:E5F03216-4619-44A1-A21C-5EA724CB9432-10-1599_awayreminder@223.badminton
 ners.net
DTSTAMP:20260420T055214Z
SUMMARY:Uitmatch bevestigd? (Essen 1H (80) - Zandhoven 2H (79))
DESCRIPTION:Je hebt 72 uur na aanvang om een uitmatch op Badmintonvlaandere
 n in te vullen. Match info: Essen 1H (80) - Zandhoven 2H (79) - Link: http
 s://www.badmintonvlaanderen.be/sport/teammatch.aspx?id=E5F03216-4619-44A1-
 A21C-5EA724CB9432&match=1599
DTSTART;TZID=Europe/Brussels:20230118T190000
DTEND;TZID=Europe/Brussels:20230118T190000
END:VEVENT
BEGIN:VEVENT
UID:E5F03216-4619-44A1-A21C-5EA724CB9432-10-1597_awayreminder@223.badminton
 ners.net
DTSTAMP:20260420T055214Z
SUMMARY:Uitmatch bevestigd? (Klein Boom 4H (71) - Zandhoven 2H (79))
DESCRIPTION:Je hebt 72 uur na aanvang om een uitmatch op Badmintonvlaandere
 n in te vullen. Match info: Klein Boom 4H (71) - Zandhoven 2H (79) - Link:
  https://www.badmintonvlaanderen.be/sport/teammatch.aspx?id=E5F03216-4619-
 44A1-A21C-5EA724CB9432&match=1597
DTSTART;TZID=Europe/Brussels:20230315T190000
DTEND;TZID=Europe/Brussels:20230315T190000
END:VEVENT
BEGIN:VEVENT
UID:E5F03216-4619-44A1-A21C-5EA724CB9432-10-1596_awayreminder@223.badminton
 ners.net
DTSTAMP:20260420T055214Z
SUMMARY:Uitmatch bevestigd? (Olve 7H (71) - Zandhoven 2H (79))
DESCRIPTION:Je hebt 72 uur na aanvang om een uitmatch op Badmintonvlaandere
 n in te vullen. Match info: Olve 7H (71) - Zandhoven 2H (79) - Link: https
 ://www.badmintonvlaanderen.be/sport/teammatch.aspx?id=E5F03216-4619-44A1-A
 21C-5EA724CB9432&match=1596
DTSTART;TZID=Europe/Brussels:20230427T200000
DTEND;TZID=Europe/Brussels:20230427T200000
END:VEVENT
END:VCALENDAR