BEGIN:VCALENDAR
VERSION:2.0
PRODID:spatie/icalendar-generator
NAME:bacss_1d_58_reminders
X-WR-CALNAME:bacss_1d_58_reminders
BEGIN:VTIMEZONE
TZID:Europe/Brussels
BEGIN:DAYLIGHT
DTSTART:20220327T010000
TZOFFSETFROM:+0100
TZOFFSETTO:+0200
END:DAYLIGHT
BEGIN:STANDARD
DTSTART:20221030T030000
TZOFFSETFROM:+0200
TZOFFSETTO:+0100
END:STANDARD
BEGIN:DAYLIGHT
DTSTART:20230326T010000
TZOFFSETFROM:+0100
TZOFFSETTO:+0200
END:DAYLIGHT
BEGIN:STANDARD
DTSTART:20231029T030000
TZOFFSETFROM:+0200
TZOFFSETTO:+0100
END:STANDARD
END:VTIMEZONE
BEGIN:VTIMEZONE
TZID:UTC
BEGIN:STANDARD
DTSTART:20250724T072435
TZOFFSETFROM:+0000
TZOFFSETTO:+0000
END:STANDARD
END:VTIMEZONE
BEGIN:VEVENT
UID:E5F03216-4619-44A1-A21C-5EA724CB9432-17-757_homereminder@145.badmintonn
 ers.net
DTSTAMP:20260420T072435Z
SUMMARY:Thuismatch ingevuld? (Bacss 1D (58) - Brasschaat 2D (49))
DESCRIPTION:Je hebt 36 uur na aanvang om een thuismatch op Badmintonvlaande
 ren in te vullen. Match info: Bacss 1D (58) - Brasschaat 2D (49) - Link: h
 ttps://www.badmintonvlaanderen.be/sport/teammatch.aspx?id=E5F03216-4619-44
 A1-A21C-5EA724CB9432&match=757
DTSTART;TZID=Europe/Brussels:20220912T220000
DTEND;TZID=Europe/Brussels:20220912T220000
END:VEVENT
BEGIN:VEVENT
UID:E5F03216-4619-44A1-A21C-5EA724CB9432-17-731_homereminder@145.badmintonn
 ers.net
DTSTAMP:20260420T072435Z
SUMMARY:Thuismatch ingevuld? (Bacss 1D (58) - Olve 3D (61))
DESCRIPTION:Je hebt 36 uur na aanvang om een thuismatch op Badmintonvlaande
 ren in te vullen. Match info: Bacss 1D (58) - Olve 3D (61) - Link: https:/
 /www.badmintonvlaanderen.be/sport/teammatch.aspx?id=E5F03216-4619-44A1-A21
 C-5EA724CB9432&match=731
DTSTART;TZID=Europe/Brussels:20220918T081500
DTEND;TZID=Europe/Brussels:20220918T081500
END:VEVENT
BEGIN:VEVENT
UID:E5F03216-4619-44A1-A21C-5EA724CB9432-17-747_homereminder@145.badmintonn
 ers.net
DTSTAMP:20260420T072435Z
SUMMARY:Thuismatch ingevuld? (Bacss 1D (58) - Spinshuttle 1D (57))
DESCRIPTION:Je hebt 36 uur na aanvang om een thuismatch op Badmintonvlaande
 ren in te vullen. Match info: Bacss 1D (58) - Spinshuttle 1D (57) - Link: 
 https://www.badmintonvlaanderen.be/sport/teammatch.aspx?id=E5F03216-4619-4
 4A1-A21C-5EA724CB9432&match=747
DTSTART;TZID=Europe/Brussels:20221031T220000
DTEND;TZID=Europe/Brussels:20221031T220000
END:VEVENT
BEGIN:VEVENT
UID:E5F03216-4619-44A1-A21C-5EA724CB9432-17-752_homereminder@145.badmintonn
 ers.net
DTSTAMP:20260420T072435Z
SUMMARY:Thuismatch ingevuld? (Bacss 1D (58) - Molse 1D (54))
DESCRIPTION:Je hebt 36 uur na aanvang om een thuismatch op Badmintonvlaande
 ren in te vullen. Match info: Bacss 1D (58) - Molse 1D (54) - Link: https:
 //www.badmintonvlaanderen.be/sport/teammatch.aspx?id=E5F03216-4619-44A1-A2
 1C-5EA724CB9432&match=752
DTSTART;TZID=Europe/Brussels:20230226T081500
DTEND;TZID=Europe/Brussels:20230226T081500
END:VEVENT
BEGIN:VEVENT
UID:E5F03216-4619-44A1-A21C-5EA724CB9432-17-736_homereminder@145.badmintonn
 ers.net
DTSTAMP:20260420T072435Z
SUMMARY:Thuismatch ingevuld? (Bacss 1D (58) - Klein Boom 2D (58))
DESCRIPTION:Je hebt 36 uur na aanvang om een thuismatch op Badmintonvlaande
 ren in te vullen. Match info: Bacss 1D (58) - Klein Boom 2D (58) - Link: h
 ttps://www.badmintonvlaanderen.be/sport/teammatch.aspx?id=E5F03216-4619-44
 A1-A21C-5EA724CB9432&match=736
DTSTART;TZID=Europe/Brussels:20230305T081500
DTEND;TZID=Europe/Brussels:20230305T081500
END:VEVENT
BEGIN:VEVENT
UID:E5F03216-4619-44A1-A21C-5EA724CB9432-17-743_awayreminder@145.badmintonn
 ers.net
DTSTAMP:20260420T072435Z
SUMMARY:Uitmatch bevestigd? (Molse 1D (54) - Bacss 1D (58))
DESCRIPTION:Je hebt 72 uur na aanvang om een uitmatch op Badmintonvlaandere
 n in te vullen. Match info: Molse 1D (54) - Bacss 1D (58) - Link: https://
 www.badmintonvlaanderen.be/sport/teammatch.aspx?id=E5F03216-4619-44A1-A21C
 -5EA724CB9432&match=743
DTSTART;TZID=Europe/Brussels:20221011T193000
DTEND;TZID=Europe/Brussels:20221011T193000
END:VEVENT
BEGIN:VEVENT
UID:E5F03216-4619-44A1-A21C-5EA724CB9432-17-741_awayreminder@145.badmintonn
 ers.net
DTSTAMP:20260420T072435Z
SUMMARY:Uitmatch bevestigd? (Klein Boom 2D (58) - Bacss 1D (58))
DESCRIPTION:Je hebt 72 uur na aanvang om een uitmatch op Badmintonvlaandere
 n in te vullen. Match info: Klein Boom 2D (58) - Bacss 1D (58) - Link: htt
 ps://www.badmintonvlaanderen.be/sport/teammatch.aspx?id=E5F03216-4619-44A1
 -A21C-5EA724CB9432&match=741
DTSTART;TZID=Europe/Brussels:20221214T190000
DTEND;TZID=Europe/Brussels:20221214T190000
END:VEVENT
BEGIN:VEVENT
UID:E5F03216-4619-44A1-A21C-5EA724CB9432-17-740_awayreminder@145.badmintonn
 ers.net
DTSTAMP:20260420T072435Z
SUMMARY:Uitmatch bevestigd? (Olve 3D (61) - Bacss 1D (58))
DESCRIPTION:Je hebt 72 uur na aanvang om een uitmatch op Badmintonvlaandere
 n in te vullen. Match info: Olve 3D (61) - Bacss 1D (58) - Link: https://w
 ww.badmintonvlaanderen.be/sport/teammatch.aspx?id=E5F03216-4619-44A1-A21C-
 5EA724CB9432&match=740
DTSTART;TZID=Europe/Brussels:20230221T103000
DTEND;TZID=Europe/Brussels:20230221T103000
END:VEVENT
BEGIN:VEVENT
UID:E5F03216-4619-44A1-A21C-5EA724CB9432-17-742_awayreminder@145.badmintonn
 ers.net
DTSTAMP:20260420T072435Z
SUMMARY:Uitmatch bevestigd? (Spinshuttle 1D (57) - Bacss 1D (58))
DESCRIPTION:Je hebt 72 uur na aanvang om een uitmatch op Badmintonvlaandere
 n in te vullen. Match info: Spinshuttle 1D (57) - Bacss 1D (58) - Link: ht
 tps://www.badmintonvlaanderen.be/sport/teammatch.aspx?id=E5F03216-4619-44A
 1-A21C-5EA724CB9432&match=742
DTSTART;TZID=Europe/Brussels:20230419T093000
DTEND;TZID=Europe/Brussels:20230419T093000
END:VEVENT
BEGIN:VEVENT
UID:E5F03216-4619-44A1-A21C-5EA724CB9432-17-744_awayreminder@145.badmintonn
 ers.net
DTSTAMP:20260420T072435Z
SUMMARY:Uitmatch bevestigd? (Brasschaat 2D (49) - Bacss 1D (58))
DESCRIPTION:Je hebt 72 uur na aanvang om een uitmatch op Badmintonvlaandere
 n in te vullen. Match info: Brasschaat 2D (49) - Bacss 1D (58) - Link: htt
 ps://www.badmintonvlaanderen.be/sport/teammatch.aspx?id=E5F03216-4619-44A1
 -A21C-5EA724CB9432&match=744
DTSTART;TZID=Europe/Brussels:20230503T190000
DTEND;TZID=Europe/Brussels:20230503T190000
END:VEVENT
END:VCALENDAR