BEGIN:VCALENDAR
VERSION:2.0
PRODID:spatie/icalendar-generator
NAME:klein_boom_2d_58_reminders
X-WR-CALNAME:klein_boom_2d_58_reminders
BEGIN:VTIMEZONE
TZID:Europe/Brussels
BEGIN:DAYLIGHT
DTSTART:20220327T010000
TZOFFSETFROM:+0100
TZOFFSETTO:+0200
END:DAYLIGHT
BEGIN:STANDARD
DTSTART:20221030T030000
TZOFFSETFROM:+0200
TZOFFSETTO:+0100
END:STANDARD
BEGIN:DAYLIGHT
DTSTART:20230326T010000
TZOFFSETFROM:+0100
TZOFFSETTO:+0200
END:DAYLIGHT
END:VTIMEZONE
BEGIN:VTIMEZONE
TZID:UTC
BEGIN:STANDARD
DTSTART:20250724T055215
TZOFFSETFROM:+0000
TZOFFSETTO:+0000
END:STANDARD
END:VTIMEZONE
BEGIN:VEVENT
UID:E5F03216-4619-44A1-A21C-5EA724CB9432-17-751_homereminder@147.badmintonn
 ers.net
DTSTAMP:20260420T055215Z
SUMMARY:Thuismatch ingevuld? (Klein Boom 2D (58) - Molse 1D (54))
DESCRIPTION:Je hebt 36 uur na aanvang om een thuismatch op Badmintonvlaande
 ren in te vullen. Match info: Klein Boom 2D (58) - Molse 1D (54) - Link: h
 ttps://www.badmintonvlaanderen.be/sport/teammatch.aspx?id=E5F03216-4619-44
 A1-A21C-5EA724CB9432&match=751
DTSTART;TZID=Europe/Brussels:20221026T080000
DTEND;TZID=Europe/Brussels:20221026T080000
END:VEVENT
BEGIN:VEVENT
UID:E5F03216-4619-44A1-A21C-5EA724CB9432-17-756_homereminder@147.badmintonn
 ers.net
DTSTAMP:20260420T055215Z
SUMMARY:Thuismatch ingevuld? (Klein Boom 2D (58) - Brasschaat 2D (49))
DESCRIPTION:Je hebt 36 uur na aanvang om een thuismatch op Badmintonvlaande
 ren in te vullen. Match info: Klein Boom 2D (58) - Brasschaat 2D (49) - Li
 nk: https://www.badmintonvlaanderen.be/sport/teammatch.aspx?id=E5F03216-46
 19-44A1-A21C-5EA724CB9432&match=756
DTSTART;TZID=Europe/Brussels:20221115T070000
DTEND;TZID=Europe/Brussels:20221115T070000
END:VEVENT
BEGIN:VEVENT
UID:E5F03216-4619-44A1-A21C-5EA724CB9432-17-741_homereminder@147.badmintonn
 ers.net
DTSTAMP:20260420T055215Z
SUMMARY:Thuismatch ingevuld? (Klein Boom 2D (58) - Bacss 1D (58))
DESCRIPTION:Je hebt 36 uur na aanvang om een thuismatch op Badmintonvlaande
 ren in te vullen. Match info: Klein Boom 2D (58) - Bacss 1D (58) - Link: h
 ttps://www.badmintonvlaanderen.be/sport/teammatch.aspx?id=E5F03216-4619-44
 A1-A21C-5EA724CB9432&match=741
DTSTART;TZID=Europe/Brussels:20221213T070000
DTEND;TZID=Europe/Brussels:20221213T070000
END:VEVENT
BEGIN:VEVENT
UID:E5F03216-4619-44A1-A21C-5EA724CB9432-17-730_homereminder@147.badmintonn
 ers.net
DTSTAMP:20260420T055215Z
SUMMARY:Thuismatch ingevuld? (Klein Boom 2D (58) - Olve 3D (61))
DESCRIPTION:Je hebt 36 uur na aanvang om een thuismatch op Badmintonvlaande
 ren in te vullen. Match info: Klein Boom 2D (58) - Olve 3D (61) - Link: ht
 tps://www.badmintonvlaanderen.be/sport/teammatch.aspx?id=E5F03216-4619-44A
 1-A21C-5EA724CB9432&match=730
DTSTART;TZID=Europe/Brussels:20230124T070000
DTEND;TZID=Europe/Brussels:20230124T070000
END:VEVENT
BEGIN:VEVENT
UID:E5F03216-4619-44A1-A21C-5EA724CB9432-17-746_homereminder@147.badmintonn
 ers.net
DTSTAMP:20260420T055215Z
SUMMARY:Thuismatch ingevuld? (Klein Boom 2D (58) - Spinshuttle 1D (57))
DESCRIPTION:Je hebt 36 uur na aanvang om een thuismatch op Badmintonvlaande
 ren in te vullen. Match info: Klein Boom 2D (58) - Spinshuttle 1D (57) - L
 ink: https://www.badmintonvlaanderen.be/sport/teammatch.aspx?id=E5F03216-4
 619-44A1-A21C-5EA724CB9432&match=746
DTSTART;TZID=Europe/Brussels:20230404T070000
DTEND;TZID=Europe/Brussels:20230404T070000
END:VEVENT
BEGIN:VEVENT
UID:E5F03216-4619-44A1-A21C-5EA724CB9432-17-735_awayreminder@147.badmintonn
 ers.net
DTSTAMP:20260420T055215Z
SUMMARY:Uitmatch bevestigd? (Olve 3D (61) - Klein Boom 2D (58))
DESCRIPTION:Je hebt 72 uur na aanvang om een uitmatch op Badmintonvlaandere
 n in te vullen. Match info: Olve 3D (61) - Klein Boom 2D (58) - Link: http
 s://www.badmintonvlaanderen.be/sport/teammatch.aspx?id=E5F03216-4619-44A1-
 A21C-5EA724CB9432&match=735
DTSTART;TZID=Europe/Brussels:20221101T093000
DTEND;TZID=Europe/Brussels:20221101T093000
END:VEVENT
BEGIN:VEVENT
UID:E5F03216-4619-44A1-A21C-5EA724CB9432-17-737_awayreminder@147.badmintonn
 ers.net
DTSTAMP:20260420T055215Z
SUMMARY:Uitmatch bevestigd? (Spinshuttle 1D (57) - Klein Boom 2D (58))
DESCRIPTION:Je hebt 72 uur na aanvang om een uitmatch op Badmintonvlaandere
 n in te vullen. Match info: Spinshuttle 1D (57) - Klein Boom 2D (58) - Lin
 k: https://www.badmintonvlaanderen.be/sport/teammatch.aspx?id=E5F03216-461
 9-44A1-A21C-5EA724CB9432&match=737
DTSTART;TZID=Europe/Brussels:20221130T093000
DTEND;TZID=Europe/Brussels:20221130T093000
END:VEVENT
BEGIN:VEVENT
UID:E5F03216-4619-44A1-A21C-5EA724CB9432-17-739_awayreminder@147.badmintonn
 ers.net
DTSTAMP:20260420T055215Z
SUMMARY:Uitmatch bevestigd? (Brasschaat 2D (49) - Klein Boom 2D (58))
DESCRIPTION:Je hebt 72 uur na aanvang om een uitmatch op Badmintonvlaandere
 n in te vullen. Match info: Brasschaat 2D (49) - Klein Boom 2D (58) - Link
 : https://www.badmintonvlaanderen.be/sport/teammatch.aspx?id=E5F03216-4619
 -44A1-A21C-5EA724CB9432&match=739
DTSTART;TZID=Europe/Brussels:20230208T190000
DTEND;TZID=Europe/Brussels:20230208T190000
END:VEVENT
BEGIN:VEVENT
UID:E5F03216-4619-44A1-A21C-5EA724CB9432-17-738_awayreminder@147.badmintonn
 ers.net
DTSTAMP:20260420T055215Z
SUMMARY:Uitmatch bevestigd? (Molse 1D (54) - Klein Boom 2D (58))
DESCRIPTION:Je hebt 72 uur na aanvang om een uitmatch op Badmintonvlaandere
 n in te vullen. Match info: Molse 1D (54) - Klein Boom 2D (58) - Link: htt
 ps://www.badmintonvlaanderen.be/sport/teammatch.aspx?id=E5F03216-4619-44A1
 -A21C-5EA724CB9432&match=738
DTSTART;TZID=Europe/Brussels:20230228T193000
DTEND;TZID=Europe/Brussels:20230228T193000
END:VEVENT
BEGIN:VEVENT
UID:E5F03216-4619-44A1-A21C-5EA724CB9432-17-736_awayreminder@147.badmintonn
 ers.net
DTSTAMP:20260420T055215Z
SUMMARY:Uitmatch bevestigd? (Bacss 1D (58) - Klein Boom 2D (58))
DESCRIPTION:Je hebt 72 uur na aanvang om een uitmatch op Badmintonvlaandere
 n in te vullen. Match info: Bacss 1D (58) - Klein Boom 2D (58) - Link: htt
 ps://www.badmintonvlaanderen.be/sport/teammatch.aspx?id=E5F03216-4619-44A1
 -A21C-5EA724CB9432&match=736
DTSTART;TZID=Europe/Brussels:20230306T201500
DTEND;TZID=Europe/Brussels:20230306T201500
END:VEVENT
END:VCALENDAR