BEGIN:VCALENDAR
VERSION:2.0
PRODID:spatie/icalendar-generator
NAME:olve_3d_61_reminders
X-WR-CALNAME:olve_3d_61_reminders
BEGIN:VTIMEZONE
TZID:Europe/Brussels
BEGIN:DAYLIGHT
DTSTART:20220327T010000
TZOFFSETFROM:+0100
TZOFFSETTO:+0200
END:DAYLIGHT
BEGIN:STANDARD
DTSTART:20221030T030000
TZOFFSETFROM:+0200
TZOFFSETTO:+0100
END:STANDARD
BEGIN:DAYLIGHT
DTSTART:20230326T010000
TZOFFSETFROM:+0100
TZOFFSETTO:+0200
END:DAYLIGHT
END:VTIMEZONE
BEGIN:VTIMEZONE
TZID:UTC
BEGIN:STANDARD
DTSTART:20250724T072432
TZOFFSETFROM:+0000
TZOFFSETTO:+0000
END:STANDARD
END:VTIMEZONE
BEGIN:VEVENT
UID:E5F03216-4619-44A1-A21C-5EA724CB9432-17-755_homereminder@148.badmintonn
 ers.net
DTSTAMP:20260420T072432Z
SUMMARY:Thuismatch ingevuld? (Olve 3D (61) - Brasschaat 2D (49))
DESCRIPTION:Je hebt 36 uur na aanvang om een thuismatch op Badmintonvlaande
 ren in te vullen. Match info: Olve 3D (61) - Brasschaat 2D (49) - Link: ht
 tps://www.badmintonvlaanderen.be/sport/teammatch.aspx?id=E5F03216-4619-44A
 1-A21C-5EA724CB9432&match=755
DTSTART;TZID=Europe/Brussels:20220911T223000
DTEND;TZID=Europe/Brussels:20220911T223000
END:VEVENT
BEGIN:VEVENT
UID:E5F03216-4619-44A1-A21C-5EA724CB9432-17-745_homereminder@148.badmintonn
 ers.net
DTSTAMP:20260420T072432Z
SUMMARY:Thuismatch ingevuld? (Olve 3D (61) - Spinshuttle 1D (57))
DESCRIPTION:Je hebt 36 uur na aanvang om een thuismatch op Badmintonvlaande
 ren in te vullen. Match info: Olve 3D (61) - Spinshuttle 1D (57) - Link: h
 ttps://www.badmintonvlaanderen.be/sport/teammatch.aspx?id=E5F03216-4619-44
 A1-A21C-5EA724CB9432&match=745
DTSTART;TZID=Europe/Brussels:20220925T223000
DTEND;TZID=Europe/Brussels:20220925T223000
END:VEVENT
BEGIN:VEVENT
UID:E5F03216-4619-44A1-A21C-5EA724CB9432-17-735_homereminder@148.badmintonn
 ers.net
DTSTAMP:20260420T072432Z
SUMMARY:Thuismatch ingevuld? (Olve 3D (61) - Klein Boom 2D (58))
DESCRIPTION:Je hebt 36 uur na aanvang om een thuismatch op Badmintonvlaande
 ren in te vullen. Match info: Olve 3D (61) - Klein Boom 2D (58) - Link: ht
 tps://www.badmintonvlaanderen.be/sport/teammatch.aspx?id=E5F03216-4619-44A
 1-A21C-5EA724CB9432&match=735
DTSTART;TZID=Europe/Brussels:20221030T213000
DTEND;TZID=Europe/Brussels:20221030T213000
END:VEVENT
BEGIN:VEVENT
UID:E5F03216-4619-44A1-A21C-5EA724CB9432-17-740_homereminder@148.badmintonn
 ers.net
DTSTAMP:20260420T072432Z
SUMMARY:Thuismatch ingevuld? (Olve 3D (61) - Bacss 1D (58))
DESCRIPTION:Je hebt 36 uur na aanvang om een thuismatch op Badmintonvlaande
 ren in te vullen. Match info: Olve 3D (61) - Bacss 1D (58) - Link: https:/
 /www.badmintonvlaanderen.be/sport/teammatch.aspx?id=E5F03216-4619-44A1-A21
 C-5EA724CB9432&match=740
DTSTART;TZID=Europe/Brussels:20230219T223000
DTEND;TZID=Europe/Brussels:20230219T223000
END:VEVENT
BEGIN:VEVENT
UID:E5F03216-4619-44A1-A21C-5EA724CB9432-17-750_homereminder@148.badmintonn
 ers.net
DTSTAMP:20260420T072432Z
SUMMARY:Thuismatch ingevuld? (Olve 3D (61) - Molse 1D (54))
DESCRIPTION:Je hebt 36 uur na aanvang om een thuismatch op Badmintonvlaande
 ren in te vullen. Match info: Olve 3D (61) - Molse 1D (54) - Link: https:/
 /www.badmintonvlaanderen.be/sport/teammatch.aspx?id=E5F03216-4619-44A1-A21
 C-5EA724CB9432&match=750
DTSTART;TZID=Europe/Brussels:20230319T223000
DTEND;TZID=Europe/Brussels:20230319T223000
END:VEVENT
BEGIN:VEVENT
UID:E5F03216-4619-44A1-A21C-5EA724CB9432-17-731_awayreminder@148.badmintonn
 ers.net
DTSTAMP:20260420T072432Z
SUMMARY:Uitmatch bevestigd? (Bacss 1D (58) - Olve 3D (61))
DESCRIPTION:Je hebt 72 uur na aanvang om een uitmatch op Badmintonvlaandere
 n in te vullen. Match info: Bacss 1D (58) - Olve 3D (61) - Link: https://w
 ww.badmintonvlaanderen.be/sport/teammatch.aspx?id=E5F03216-4619-44A1-A21C-
 5EA724CB9432&match=731
DTSTART;TZID=Europe/Brussels:20220919T201500
DTEND;TZID=Europe/Brussels:20220919T201500
END:VEVENT
BEGIN:VEVENT
UID:E5F03216-4619-44A1-A21C-5EA724CB9432-17-733_awayreminder@148.badmintonn
 ers.net
DTSTAMP:20260420T072432Z
SUMMARY:Uitmatch bevestigd? (Molse 1D (54) - Olve 3D (61))
DESCRIPTION:Je hebt 72 uur na aanvang om een uitmatch op Badmintonvlaandere
 n in te vullen. Match info: Molse 1D (54) - Olve 3D (61) - Link: https://w
 ww.badmintonvlaanderen.be/sport/teammatch.aspx?id=E5F03216-4619-44A1-A21C-
 5EA724CB9432&match=733
DTSTART;TZID=Europe/Brussels:20221206T193000
DTEND;TZID=Europe/Brussels:20221206T193000
END:VEVENT
BEGIN:VEVENT
UID:E5F03216-4619-44A1-A21C-5EA724CB9432-17-730_awayreminder@148.badmintonn
 ers.net
DTSTAMP:20260420T072432Z
SUMMARY:Uitmatch bevestigd? (Klein Boom 2D (58) - Olve 3D (61))
DESCRIPTION:Je hebt 72 uur na aanvang om een uitmatch op Badmintonvlaandere
 n in te vullen. Match info: Klein Boom 2D (58) - Olve 3D (61) - Link: http
 s://www.badmintonvlaanderen.be/sport/teammatch.aspx?id=E5F03216-4619-44A1-
 A21C-5EA724CB9432&match=730
DTSTART;TZID=Europe/Brussels:20230125T190000
DTEND;TZID=Europe/Brussels:20230125T190000
END:VEVENT
BEGIN:VEVENT
UID:E5F03216-4619-44A1-A21C-5EA724CB9432-17-732_awayreminder@148.badmintonn
 ers.net
DTSTAMP:20260420T072432Z
SUMMARY:Uitmatch bevestigd? (Spinshuttle 1D (57) - Olve 3D (61))
DESCRIPTION:Je hebt 72 uur na aanvang om een uitmatch op Badmintonvlaandere
 n in te vullen. Match info: Spinshuttle 1D (57) - Olve 3D (61) - Link: htt
 ps://www.badmintonvlaanderen.be/sport/teammatch.aspx?id=E5F03216-4619-44A1
 -A21C-5EA724CB9432&match=732
DTSTART;TZID=Europe/Brussels:20230308T093000
DTEND;TZID=Europe/Brussels:20230308T093000
END:VEVENT
BEGIN:VEVENT
UID:E5F03216-4619-44A1-A21C-5EA724CB9432-17-734_awayreminder@148.badmintonn
 ers.net
DTSTAMP:20260420T072432Z
SUMMARY:Uitmatch bevestigd? (Brasschaat 2D (49) - Olve 3D (61))
DESCRIPTION:Je hebt 72 uur na aanvang om een uitmatch op Badmintonvlaandere
 n in te vullen. Match info: Brasschaat 2D (49) - Olve 3D (61) - Link: http
 s://www.badmintonvlaanderen.be/sport/teammatch.aspx?id=E5F03216-4619-44A1-
 A21C-5EA724CB9432&match=734
DTSTART;TZID=Europe/Brussels:20230419T190000
DTEND;TZID=Europe/Brussels:20230419T190000
END:VEVENT
END:VCALENDAR