BEGIN:VCALENDAR
VERSION:2.0
PRODID:spatie/icalendar-generator
NAME:spinshuttle_1d_57_reminders
X-WR-CALNAME:spinshuttle_1d_57_reminders
BEGIN:VTIMEZONE
TZID:Europe/Brussels
BEGIN:DAYLIGHT
DTSTART:20220327T010000
TZOFFSETFROM:+0100
TZOFFSETTO:+0200
END:DAYLIGHT
BEGIN:STANDARD
DTSTART:20221030T030000
TZOFFSETFROM:+0200
TZOFFSETTO:+0100
END:STANDARD
BEGIN:DAYLIGHT
DTSTART:20230326T010000
TZOFFSETFROM:+0100
TZOFFSETTO:+0200
END:DAYLIGHT
END:VTIMEZONE
BEGIN:VTIMEZONE
TZID:UTC
BEGIN:STANDARD
DTSTART:20250724T055127
TZOFFSETFROM:+0000
TZOFFSETTO:+0000
END:STANDARD
END:VTIMEZONE
BEGIN:VEVENT
UID:E5F03216-4619-44A1-A21C-5EA724CB9432-17-737_homereminder@151.badmintonn
 ers.net
DTSTAMP:20260420T055127Z
SUMMARY:Thuismatch ingevuld? (Spinshuttle 1D (57) - Klein Boom 2D (58))
DESCRIPTION:Je hebt 36 uur na aanvang om een thuismatch op Badmintonvlaande
 ren in te vullen. Match info: Spinshuttle 1D (57) - Klein Boom 2D (58) - L
 ink: https://www.badmintonvlaanderen.be/sport/teammatch.aspx?id=E5F03216-4
 619-44A1-A21C-5EA724CB9432&match=737
DTSTART;TZID=Europe/Brussels:20221128T213000
DTEND;TZID=Europe/Brussels:20221128T213000
END:VEVENT
BEGIN:VEVENT
UID:E5F03216-4619-44A1-A21C-5EA724CB9432-17-753_homereminder@151.badmintonn
 ers.net
DTSTAMP:20260420T055127Z
SUMMARY:Thuismatch ingevuld? (Spinshuttle 1D (57) - Molse 1D (54))
DESCRIPTION:Je hebt 36 uur na aanvang om een thuismatch op Badmintonvlaande
 ren in te vullen. Match info: Spinshuttle 1D (57) - Molse 1D (54) - Link: 
 https://www.badmintonvlaanderen.be/sport/teammatch.aspx?id=E5F03216-4619-4
 4A1-A21C-5EA724CB9432&match=753
DTSTART;TZID=Europe/Brussels:20230109T213000
DTEND;TZID=Europe/Brussels:20230109T213000
END:VEVENT
BEGIN:VEVENT
UID:E5F03216-4619-44A1-A21C-5EA724CB9432-17-758_homereminder@151.badmintonn
 ers.net
DTSTAMP:20260420T055127Z
SUMMARY:Thuismatch ingevuld? (Spinshuttle 1D (57) - Brasschaat 2D (49))
DESCRIPTION:Je hebt 36 uur na aanvang om een thuismatch op Badmintonvlaande
 ren in te vullen. Match info: Spinshuttle 1D (57) - Brasschaat 2D (49) - L
 ink: https://www.badmintonvlaanderen.be/sport/teammatch.aspx?id=E5F03216-4
 619-44A1-A21C-5EA724CB9432&match=758
DTSTART;TZID=Europe/Brussels:20230123T213000
DTEND;TZID=Europe/Brussels:20230123T213000
END:VEVENT
BEGIN:VEVENT
UID:E5F03216-4619-44A1-A21C-5EA724CB9432-17-732_homereminder@151.badmintonn
 ers.net
DTSTAMP:20260420T055127Z
SUMMARY:Thuismatch ingevuld? (Spinshuttle 1D (57) - Olve 3D (61))
DESCRIPTION:Je hebt 36 uur na aanvang om een thuismatch op Badmintonvlaande
 ren in te vullen. Match info: Spinshuttle 1D (57) - Olve 3D (61) - Link: h
 ttps://www.badmintonvlaanderen.be/sport/teammatch.aspx?id=E5F03216-4619-44
 A1-A21C-5EA724CB9432&match=732
DTSTART;TZID=Europe/Brussels:20230306T213000
DTEND;TZID=Europe/Brussels:20230306T213000
END:VEVENT
BEGIN:VEVENT
UID:E5F03216-4619-44A1-A21C-5EA724CB9432-17-742_homereminder@151.badmintonn
 ers.net
DTSTAMP:20260420T055127Z
SUMMARY:Thuismatch ingevuld? (Spinshuttle 1D (57) - Bacss 1D (58))
DESCRIPTION:Je hebt 36 uur na aanvang om een thuismatch op Badmintonvlaande
 ren in te vullen. Match info: Spinshuttle 1D (57) - Bacss 1D (58) - Link: 
 https://www.badmintonvlaanderen.be/sport/teammatch.aspx?id=E5F03216-4619-4
 4A1-A21C-5EA724CB9432&match=742
DTSTART;TZID=Europe/Brussels:20230417T213000
DTEND;TZID=Europe/Brussels:20230417T213000
END:VEVENT
BEGIN:VEVENT
UID:E5F03216-4619-44A1-A21C-5EA724CB9432-17-745_awayreminder@151.badmintonn
 ers.net
DTSTAMP:20260420T055127Z
SUMMARY:Uitmatch bevestigd? (Olve 3D (61) - Spinshuttle 1D (57))
DESCRIPTION:Je hebt 72 uur na aanvang om een uitmatch op Badmintonvlaandere
 n in te vullen. Match info: Olve 3D (61) - Spinshuttle 1D (57) - Link: htt
 ps://www.badmintonvlaanderen.be/sport/teammatch.aspx?id=E5F03216-4619-44A1
 -A21C-5EA724CB9432&match=745
DTSTART;TZID=Europe/Brussels:20220927T103000
DTEND;TZID=Europe/Brussels:20220927T103000
END:VEVENT
BEGIN:VEVENT
UID:E5F03216-4619-44A1-A21C-5EA724CB9432-17-749_awayreminder@151.badmintonn
 ers.net
DTSTAMP:20260420T055127Z
SUMMARY:Uitmatch bevestigd? (Brasschaat 2D (49) - Spinshuttle 1D (57))
DESCRIPTION:Je hebt 72 uur na aanvang om een uitmatch op Badmintonvlaandere
 n in te vullen. Match info: Brasschaat 2D (49) - Spinshuttle 1D (57) - Lin
 k: https://www.badmintonvlaanderen.be/sport/teammatch.aspx?id=E5F03216-461
 9-44A1-A21C-5EA724CB9432&match=749
DTSTART;TZID=Europe/Brussels:20221019T190000
DTEND;TZID=Europe/Brussels:20221019T190000
END:VEVENT
BEGIN:VEVENT
UID:E5F03216-4619-44A1-A21C-5EA724CB9432-17-747_awayreminder@151.badmintonn
 ers.net
DTSTAMP:20260420T055127Z
SUMMARY:Uitmatch bevestigd? (Bacss 1D (58) - Spinshuttle 1D (57))
DESCRIPTION:Je hebt 72 uur na aanvang om een uitmatch op Badmintonvlaandere
 n in te vullen. Match info: Bacss 1D (58) - Spinshuttle 1D (57) - Link: ht
 tps://www.badmintonvlaanderen.be/sport/teammatch.aspx?id=E5F03216-4619-44A
 1-A21C-5EA724CB9432&match=747
DTSTART;TZID=Europe/Brussels:20221102T100000
DTEND;TZID=Europe/Brussels:20221102T100000
END:VEVENT
BEGIN:VEVENT
UID:E5F03216-4619-44A1-A21C-5EA724CB9432-17-748_awayreminder@151.badmintonn
 ers.net
DTSTAMP:20260420T055127Z
SUMMARY:Uitmatch bevestigd? (Molse 1D (54) - Spinshuttle 1D (57))
DESCRIPTION:Je hebt 72 uur na aanvang om een uitmatch op Badmintonvlaandere
 n in te vullen. Match info: Molse 1D (54) - Spinshuttle 1D (57) - Link: ht
 tps://www.badmintonvlaanderen.be/sport/teammatch.aspx?id=E5F03216-4619-44A
 1-A21C-5EA724CB9432&match=748
DTSTART;TZID=Europe/Brussels:20221122T193000
DTEND;TZID=Europe/Brussels:20221122T193000
END:VEVENT
BEGIN:VEVENT
UID:E5F03216-4619-44A1-A21C-5EA724CB9432-17-746_awayreminder@151.badmintonn
 ers.net
DTSTAMP:20260420T055127Z
SUMMARY:Uitmatch bevestigd? (Klein Boom 2D (58) - Spinshuttle 1D (57))
DESCRIPTION:Je hebt 72 uur na aanvang om een uitmatch op Badmintonvlaandere
 n in te vullen. Match info: Klein Boom 2D (58) - Spinshuttle 1D (57) - Lin
 k: https://www.badmintonvlaanderen.be/sport/teammatch.aspx?id=E5F03216-461
 9-44A1-A21C-5EA724CB9432&match=746
DTSTART;TZID=Europe/Brussels:20230405T190000
DTEND;TZID=Europe/Brussels:20230405T190000
END:VEVENT
END:VCALENDAR