BEGIN:VCALENDAR
VERSION:2.0
PRODID:spatie/icalendar-generator
NAME:molse_1d_54_reminders
X-WR-CALNAME:molse_1d_54_reminders
BEGIN:VTIMEZONE
TZID:Europe/Brussels
BEGIN:DAYLIGHT
DTSTART:20220327T010000
TZOFFSETFROM:+0100
TZOFFSETTO:+0200
END:DAYLIGHT
BEGIN:STANDARD
DTSTART:20221030T030000
TZOFFSETFROM:+0200
TZOFFSETTO:+0100
END:STANDARD
BEGIN:DAYLIGHT
DTSTART:20230326T010000
TZOFFSETFROM:+0100
TZOFFSETTO:+0200
END:DAYLIGHT
END:VTIMEZONE
BEGIN:VTIMEZONE
TZID:UTC
BEGIN:STANDARD
DTSTART:20250724T055215
TZOFFSETFROM:+0000
TZOFFSETTO:+0000
END:STANDARD
END:VTIMEZONE
BEGIN:VEVENT
UID:E5F03216-4619-44A1-A21C-5EA724CB9432-17-743_homereminder@153.badmintonn
 ers.net
DTSTAMP:20260420T055215Z
SUMMARY:Thuismatch ingevuld? (Molse 1D (54) - Bacss 1D (58))
DESCRIPTION:Je hebt 36 uur na aanvang om een thuismatch op Badmintonvlaande
 ren in te vullen. Match info: Molse 1D (54) - Bacss 1D (58) - Link: https:
 //www.badmintonvlaanderen.be/sport/teammatch.aspx?id=E5F03216-4619-44A1-A2
 1C-5EA724CB9432&match=743
DTSTART;TZID=Europe/Brussels:20221010T073000
DTEND;TZID=Europe/Brussels:20221010T073000
END:VEVENT
BEGIN:VEVENT
UID:E5F03216-4619-44A1-A21C-5EA724CB9432-17-748_homereminder@153.badmintonn
 ers.net
DTSTAMP:20260420T055215Z
SUMMARY:Thuismatch ingevuld? (Molse 1D (54) - Spinshuttle 1D (57))
DESCRIPTION:Je hebt 36 uur na aanvang om een thuismatch op Badmintonvlaande
 ren in te vullen. Match info: Molse 1D (54) - Spinshuttle 1D (57) - Link: 
 https://www.badmintonvlaanderen.be/sport/teammatch.aspx?id=E5F03216-4619-4
 4A1-A21C-5EA724CB9432&match=748
DTSTART;TZID=Europe/Brussels:20221121T073000
DTEND;TZID=Europe/Brussels:20221121T073000
END:VEVENT
BEGIN:VEVENT
UID:E5F03216-4619-44A1-A21C-5EA724CB9432-17-733_homereminder@153.badmintonn
 ers.net
DTSTAMP:20260420T055215Z
SUMMARY:Thuismatch ingevuld? (Molse 1D (54) - Olve 3D (61))
DESCRIPTION:Je hebt 36 uur na aanvang om een thuismatch op Badmintonvlaande
 ren in te vullen. Match info: Molse 1D (54) - Olve 3D (61) - Link: https:/
 /www.badmintonvlaanderen.be/sport/teammatch.aspx?id=E5F03216-4619-44A1-A21
 C-5EA724CB9432&match=733
DTSTART;TZID=Europe/Brussels:20221205T073000
DTEND;TZID=Europe/Brussels:20221205T073000
END:VEVENT
BEGIN:VEVENT
UID:E5F03216-4619-44A1-A21C-5EA724CB9432-17-738_homereminder@153.badmintonn
 ers.net
DTSTAMP:20260420T055215Z
SUMMARY:Thuismatch ingevuld? (Molse 1D (54) - Klein Boom 2D (58))
DESCRIPTION:Je hebt 36 uur na aanvang om een thuismatch op Badmintonvlaande
 ren in te vullen. Match info: Molse 1D (54) - Klein Boom 2D (58) - Link: h
 ttps://www.badmintonvlaanderen.be/sport/teammatch.aspx?id=E5F03216-4619-44
 A1-A21C-5EA724CB9432&match=738
DTSTART;TZID=Europe/Brussels:20230227T073000
DTEND;TZID=Europe/Brussels:20230227T073000
END:VEVENT
BEGIN:VEVENT
UID:E5F03216-4619-44A1-A21C-5EA724CB9432-17-759_homereminder@153.badmintonn
 ers.net
DTSTAMP:20260420T055215Z
SUMMARY:Thuismatch ingevuld? (Molse 1D (54) - Brasschaat 2D (49))
DESCRIPTION:Je hebt 36 uur na aanvang om een thuismatch op Badmintonvlaande
 ren in te vullen. Match info: Molse 1D (54) - Brasschaat 2D (49) - Link: h
 ttps://www.badmintonvlaanderen.be/sport/teammatch.aspx?id=E5F03216-4619-44
 A1-A21C-5EA724CB9432&match=759
DTSTART;TZID=Europe/Brussels:20230306T073000
DTEND;TZID=Europe/Brussels:20230306T073000
END:VEVENT
BEGIN:VEVENT
UID:E5F03216-4619-44A1-A21C-5EA724CB9432-17-751_awayreminder@153.badmintonn
 ers.net
DTSTAMP:20260420T055215Z
SUMMARY:Uitmatch bevestigd? (Klein Boom 2D (58) - Molse 1D (54))
DESCRIPTION:Je hebt 72 uur na aanvang om een uitmatch op Badmintonvlaandere
 n in te vullen. Match info: Klein Boom 2D (58) - Molse 1D (54) - Link: htt
 ps://www.badmintonvlaanderen.be/sport/teammatch.aspx?id=E5F03216-4619-44A1
 -A21C-5EA724CB9432&match=751
DTSTART;TZID=Europe/Brussels:20221027T200000
DTEND;TZID=Europe/Brussels:20221027T200000
END:VEVENT
BEGIN:VEVENT
UID:E5F03216-4619-44A1-A21C-5EA724CB9432-17-754_awayreminder@153.badmintonn
 ers.net
DTSTAMP:20260420T055215Z
SUMMARY:Uitmatch bevestigd? (Brasschaat 2D (49) - Molse 1D (54))
DESCRIPTION:Je hebt 72 uur na aanvang om een uitmatch op Badmintonvlaandere
 n in te vullen. Match info: Brasschaat 2D (49) - Molse 1D (54) - Link: htt
 ps://www.badmintonvlaanderen.be/sport/teammatch.aspx?id=E5F03216-4619-44A1
 -A21C-5EA724CB9432&match=754
DTSTART;TZID=Europe/Brussels:20221214T190000
DTEND;TZID=Europe/Brussels:20221214T190000
END:VEVENT
BEGIN:VEVENT
UID:E5F03216-4619-44A1-A21C-5EA724CB9432-17-753_awayreminder@153.badmintonn
 ers.net
DTSTAMP:20260420T055215Z
SUMMARY:Uitmatch bevestigd? (Spinshuttle 1D (57) - Molse 1D (54))
DESCRIPTION:Je hebt 72 uur na aanvang om een uitmatch op Badmintonvlaandere
 n in te vullen. Match info: Spinshuttle 1D (57) - Molse 1D (54) - Link: ht
 tps://www.badmintonvlaanderen.be/sport/teammatch.aspx?id=E5F03216-4619-44A
 1-A21C-5EA724CB9432&match=753
DTSTART;TZID=Europe/Brussels:20230111T093000
DTEND;TZID=Europe/Brussels:20230111T093000
END:VEVENT
BEGIN:VEVENT
UID:E5F03216-4619-44A1-A21C-5EA724CB9432-17-752_awayreminder@153.badmintonn
 ers.net
DTSTAMP:20260420T055215Z
SUMMARY:Uitmatch bevestigd? (Bacss 1D (58) - Molse 1D (54))
DESCRIPTION:Je hebt 72 uur na aanvang om een uitmatch op Badmintonvlaandere
 n in te vullen. Match info: Bacss 1D (58) - Molse 1D (54) - Link: https://
 www.badmintonvlaanderen.be/sport/teammatch.aspx?id=E5F03216-4619-44A1-A21C
 -5EA724CB9432&match=752
DTSTART;TZID=Europe/Brussels:20230227T201500
DTEND;TZID=Europe/Brussels:20230227T201500
END:VEVENT
BEGIN:VEVENT
UID:E5F03216-4619-44A1-A21C-5EA724CB9432-17-750_awayreminder@153.badmintonn
 ers.net
DTSTAMP:20260420T055215Z
SUMMARY:Uitmatch bevestigd? (Olve 3D (61) - Molse 1D (54))
DESCRIPTION:Je hebt 72 uur na aanvang om een uitmatch op Badmintonvlaandere
 n in te vullen. Match info: Olve 3D (61) - Molse 1D (54) - Link: https://w
 ww.badmintonvlaanderen.be/sport/teammatch.aspx?id=E5F03216-4619-44A1-A21C-
 5EA724CB9432&match=750
DTSTART;TZID=Europe/Brussels:20230321T103000
DTEND;TZID=Europe/Brussels:20230321T103000
END:VEVENT
END:VCALENDAR