BEGIN:VCALENDAR
VERSION:2.0
PRODID:spatie/icalendar-generator
NAME:brasschaat_2d_49_reminders
X-WR-CALNAME:brasschaat_2d_49_reminders
BEGIN:VTIMEZONE
TZID:Europe/Brussels
BEGIN:DAYLIGHT
DTSTART:20220327T010000
TZOFFSETFROM:+0100
TZOFFSETTO:+0200
END:DAYLIGHT
BEGIN:STANDARD
DTSTART:20221030T030000
TZOFFSETFROM:+0200
TZOFFSETTO:+0100
END:STANDARD
BEGIN:DAYLIGHT
DTSTART:20230326T010000
TZOFFSETFROM:+0100
TZOFFSETTO:+0200
END:DAYLIGHT
BEGIN:STANDARD
DTSTART:20231029T030000
TZOFFSETFROM:+0200
TZOFFSETTO:+0100
END:STANDARD
END:VTIMEZONE
BEGIN:VTIMEZONE
TZID:UTC
BEGIN:STANDARD
DTSTART:20250724T072432
TZOFFSETFROM:+0000
TZOFFSETTO:+0000
END:STANDARD
END:VTIMEZONE
BEGIN:VEVENT
UID:E5F03216-4619-44A1-A21C-5EA724CB9432-17-749_homereminder@154.badmintonn
 ers.net
DTSTAMP:20260420T072432Z
SUMMARY:Thuismatch ingevuld? (Brasschaat 2D (49) - Spinshuttle 1D (57))
DESCRIPTION:Je hebt 36 uur na aanvang om een thuismatch op Badmintonvlaande
 ren in te vullen. Match info: Brasschaat 2D (49) - Spinshuttle 1D (57) - L
 ink: https://www.badmintonvlaanderen.be/sport/teammatch.aspx?id=E5F03216-4
 619-44A1-A21C-5EA724CB9432&match=749
DTSTART;TZID=Europe/Brussels:20221018T070000
DTEND;TZID=Europe/Brussels:20221018T070000
END:VEVENT
BEGIN:VEVENT
UID:E5F03216-4619-44A1-A21C-5EA724CB9432-17-754_homereminder@154.badmintonn
 ers.net
DTSTAMP:20260420T072432Z
SUMMARY:Thuismatch ingevuld? (Brasschaat 2D (49) - Molse 1D (54))
DESCRIPTION:Je hebt 36 uur na aanvang om een thuismatch op Badmintonvlaande
 ren in te vullen. Match info: Brasschaat 2D (49) - Molse 1D (54) - Link: h
 ttps://www.badmintonvlaanderen.be/sport/teammatch.aspx?id=E5F03216-4619-44
 A1-A21C-5EA724CB9432&match=754
DTSTART;TZID=Europe/Brussels:20221213T070000
DTEND;TZID=Europe/Brussels:20221213T070000
END:VEVENT
BEGIN:VEVENT
UID:E5F03216-4619-44A1-A21C-5EA724CB9432-17-739_homereminder@154.badmintonn
 ers.net
DTSTAMP:20260420T072432Z
SUMMARY:Thuismatch ingevuld? (Brasschaat 2D (49) - Klein Boom 2D (58))
DESCRIPTION:Je hebt 36 uur na aanvang om een thuismatch op Badmintonvlaande
 ren in te vullen. Match info: Brasschaat 2D (49) - Klein Boom 2D (58) - Li
 nk: https://www.badmintonvlaanderen.be/sport/teammatch.aspx?id=E5F03216-46
 19-44A1-A21C-5EA724CB9432&match=739
DTSTART;TZID=Europe/Brussels:20230207T070000
DTEND;TZID=Europe/Brussels:20230207T070000
END:VEVENT
BEGIN:VEVENT
UID:E5F03216-4619-44A1-A21C-5EA724CB9432-17-734_homereminder@154.badmintonn
 ers.net
DTSTAMP:20260420T072432Z
SUMMARY:Thuismatch ingevuld? (Brasschaat 2D (49) - Olve 3D (61))
DESCRIPTION:Je hebt 36 uur na aanvang om een thuismatch op Badmintonvlaande
 ren in te vullen. Match info: Brasschaat 2D (49) - Olve 3D (61) - Link: ht
 tps://www.badmintonvlaanderen.be/sport/teammatch.aspx?id=E5F03216-4619-44A
 1-A21C-5EA724CB9432&match=734
DTSTART;TZID=Europe/Brussels:20230418T070000
DTEND;TZID=Europe/Brussels:20230418T070000
END:VEVENT
BEGIN:VEVENT
UID:E5F03216-4619-44A1-A21C-5EA724CB9432-17-744_homereminder@154.badmintonn
 ers.net
DTSTAMP:20260420T072432Z
SUMMARY:Thuismatch ingevuld? (Brasschaat 2D (49) - Bacss 1D (58))
DESCRIPTION:Je hebt 36 uur na aanvang om een thuismatch op Badmintonvlaande
 ren in te vullen. Match info: Brasschaat 2D (49) - Bacss 1D (58) - Link: h
 ttps://www.badmintonvlaanderen.be/sport/teammatch.aspx?id=E5F03216-4619-44
 A1-A21C-5EA724CB9432&match=744
DTSTART;TZID=Europe/Brussels:20230502T070000
DTEND;TZID=Europe/Brussels:20230502T070000
END:VEVENT
BEGIN:VEVENT
UID:E5F03216-4619-44A1-A21C-5EA724CB9432-17-755_awayreminder@154.badmintonn
 ers.net
DTSTAMP:20260420T072432Z
SUMMARY:Uitmatch bevestigd? (Olve 3D (61) - Brasschaat 2D (49))
DESCRIPTION:Je hebt 72 uur na aanvang om een uitmatch op Badmintonvlaandere
 n in te vullen. Match info: Olve 3D (61) - Brasschaat 2D (49) - Link: http
 s://www.badmintonvlaanderen.be/sport/teammatch.aspx?id=E5F03216-4619-44A1-
 A21C-5EA724CB9432&match=755
DTSTART;TZID=Europe/Brussels:20220913T103000
DTEND;TZID=Europe/Brussels:20220913T103000
END:VEVENT
BEGIN:VEVENT
UID:E5F03216-4619-44A1-A21C-5EA724CB9432-17-757_awayreminder@154.badmintonn
 ers.net
DTSTAMP:20260420T072432Z
SUMMARY:Uitmatch bevestigd? (Bacss 1D (58) - Brasschaat 2D (49))
DESCRIPTION:Je hebt 72 uur na aanvang om een uitmatch op Badmintonvlaandere
 n in te vullen. Match info: Bacss 1D (58) - Brasschaat 2D (49) - Link: htt
 ps://www.badmintonvlaanderen.be/sport/teammatch.aspx?id=E5F03216-4619-44A1
 -A21C-5EA724CB9432&match=757
DTSTART;TZID=Europe/Brussels:20220914T100000
DTEND;TZID=Europe/Brussels:20220914T100000
END:VEVENT
BEGIN:VEVENT
UID:E5F03216-4619-44A1-A21C-5EA724CB9432-17-756_awayreminder@154.badmintonn
 ers.net
DTSTAMP:20260420T072432Z
SUMMARY:Uitmatch bevestigd? (Klein Boom 2D (58) - Brasschaat 2D (49))
DESCRIPTION:Je hebt 72 uur na aanvang om een uitmatch op Badmintonvlaandere
 n in te vullen. Match info: Klein Boom 2D (58) - Brasschaat 2D (49) - Link
 : https://www.badmintonvlaanderen.be/sport/teammatch.aspx?id=E5F03216-4619
 -44A1-A21C-5EA724CB9432&match=756
DTSTART;TZID=Europe/Brussels:20221116T190000
DTEND;TZID=Europe/Brussels:20221116T190000
END:VEVENT
BEGIN:VEVENT
UID:E5F03216-4619-44A1-A21C-5EA724CB9432-17-758_awayreminder@154.badmintonn
 ers.net
DTSTAMP:20260420T072432Z
SUMMARY:Uitmatch bevestigd? (Spinshuttle 1D (57) - Brasschaat 2D (49))
DESCRIPTION:Je hebt 72 uur na aanvang om een uitmatch op Badmintonvlaandere
 n in te vullen. Match info: Spinshuttle 1D (57) - Brasschaat 2D (49) - Lin
 k: https://www.badmintonvlaanderen.be/sport/teammatch.aspx?id=E5F03216-461
 9-44A1-A21C-5EA724CB9432&match=758
DTSTART;TZID=Europe/Brussels:20230125T093000
DTEND;TZID=Europe/Brussels:20230125T093000
END:VEVENT
BEGIN:VEVENT
UID:E5F03216-4619-44A1-A21C-5EA724CB9432-17-759_awayreminder@154.badmintonn
 ers.net
DTSTAMP:20260420T072432Z
SUMMARY:Uitmatch bevestigd? (Molse 1D (54) - Brasschaat 2D (49))
DESCRIPTION:Je hebt 72 uur na aanvang om een uitmatch op Badmintonvlaandere
 n in te vullen. Match info: Molse 1D (54) - Brasschaat 2D (49) - Link: htt
 ps://www.badmintonvlaanderen.be/sport/teammatch.aspx?id=E5F03216-4619-44A1
 -A21C-5EA724CB9432&match=759
DTSTART;TZID=Europe/Brussels:20230307T193000
DTEND;TZID=Europe/Brussels:20230307T193000
END:VEVENT
END:VCALENDAR