BEGIN:VCALENDAR
VERSION:2.0
PRODID:spatie/icalendar-generator
NAME:de_nekker_1d_70_reminders
X-WR-CALNAME:de_nekker_1d_70_reminders
BEGIN:VTIMEZONE
TZID:Europe/Brussels
BEGIN:DAYLIGHT
DTSTART:20220327T010000
TZOFFSETFROM:+0100
TZOFFSETTO:+0200
END:DAYLIGHT
BEGIN:STANDARD
DTSTART:20221030T030000
TZOFFSETFROM:+0200
TZOFFSETTO:+0100
END:STANDARD
BEGIN:DAYLIGHT
DTSTART:20230326T010000
TZOFFSETFROM:+0100
TZOFFSETTO:+0200
END:DAYLIGHT
END:VTIMEZONE
BEGIN:VTIMEZONE
TZID:UTC
BEGIN:STANDARD
DTSTART:20250724T072410
TZOFFSETFROM:+0000
TZOFFSETTO:+0000
END:STANDARD
END:VTIMEZONE
BEGIN:VEVENT
UID:E5F03216-4619-44A1-A21C-5EA724CB9432-19-836_homereminder@155.badmintonn
 ers.net
DTSTAMP:20260420T072410Z
SUMMARY:Thuismatch ingevuld? (De Nekker 1D (70) - Merksplas 1D (78))
DESCRIPTION:Je hebt 36 uur na aanvang om een thuismatch op Badmintonvlaande
 ren in te vullen. Match info: De Nekker 1D (70) - Merksplas 1D (78) - Link
 : https://www.badmintonvlaanderen.be/sport/teammatch.aspx?id=E5F03216-4619
 -44A1-A21C-5EA724CB9432&match=836
DTSTART;TZID=Europe/Brussels:20220930T083000
DTEND;TZID=Europe/Brussels:20220930T083000
END:VEVENT
BEGIN:VEVENT
UID:E5F03216-4619-44A1-A21C-5EA724CB9432-19-841_homereminder@155.badmintonn
 ers.net
DTSTAMP:20260420T072410Z
SUMMARY:Thuismatch ingevuld? (De Nekker 1D (70) - Smash 1D (69))
DESCRIPTION:Je hebt 36 uur na aanvang om een thuismatch op Badmintonvlaande
 ren in te vullen. Match info: De Nekker 1D (70) - Smash 1D (69) - Link: ht
 tps://www.badmintonvlaanderen.be/sport/teammatch.aspx?id=E5F03216-4619-44A
 1-A21C-5EA724CB9432&match=841
DTSTART;TZID=Europe/Brussels:20221028T083000
DTEND;TZID=Europe/Brussels:20221028T083000
END:VEVENT
BEGIN:VEVENT
UID:E5F03216-4619-44A1-A21C-5EA724CB9432-19-826_homereminder@155.badmintonn
 ers.net
DTSTAMP:20260420T072410Z
SUMMARY:Thuismatch ingevuld? (De Nekker 1D (70) - Zoersel 1D (68))
DESCRIPTION:Je hebt 36 uur na aanvang om een thuismatch op Badmintonvlaande
 ren in te vullen. Match info: De Nekker 1D (70) - Zoersel 1D (68) - Link: 
 https://www.badmintonvlaanderen.be/sport/teammatch.aspx?id=E5F03216-4619-4
 4A1-A21C-5EA724CB9432&match=826
DTSTART;TZID=Europe/Brussels:20221209T083000
DTEND;TZID=Europe/Brussels:20221209T083000
END:VEVENT
BEGIN:VEVENT
UID:E5F03216-4619-44A1-A21C-5EA724CB9432-19-815_homereminder@155.badmintonn
 ers.net
DTSTAMP:20260420T072410Z
SUMMARY:Thuismatch ingevuld? (De Nekker 1D (70) - Amateurs 2D (73))
DESCRIPTION:Je hebt 36 uur na aanvang om een thuismatch op Badmintonvlaande
 ren in te vullen. Match info: De Nekker 1D (70) - Amateurs 2D (73) - Link:
  https://www.badmintonvlaanderen.be/sport/teammatch.aspx?id=E5F03216-4619-
 44A1-A21C-5EA724CB9432&match=815
DTSTART;TZID=Europe/Brussels:20230217T083000
DTEND;TZID=Europe/Brussels:20230217T083000
END:VEVENT
BEGIN:VEVENT
UID:E5F03216-4619-44A1-A21C-5EA724CB9432-19-831_homereminder@155.badmintonn
 ers.net
DTSTAMP:20260420T072410Z
SUMMARY:Thuismatch ingevuld? (De Nekker 1D (70) - Klein Boom 3D (62))
DESCRIPTION:Je hebt 36 uur na aanvang om een thuismatch op Badmintonvlaande
 ren in te vullen. Match info: De Nekker 1D (70) - Klein Boom 3D (62) - Lin
 k: https://www.badmintonvlaanderen.be/sport/teammatch.aspx?id=E5F03216-461
 9-44A1-A21C-5EA724CB9432&match=831
DTSTART;TZID=Europe/Brussels:20230407T083000
DTEND;TZID=Europe/Brussels:20230407T083000
END:VEVENT
BEGIN:VEVENT
UID:E5F03216-4619-44A1-A21C-5EA724CB9432-19-820_awayreminder@155.badmintonn
 ers.net
DTSTAMP:20260420T072410Z
SUMMARY:Uitmatch bevestigd? (Amateurs 2D (73) - De Nekker 1D (70))
DESCRIPTION:Je hebt 72 uur na aanvang om een uitmatch op Badmintonvlaandere
 n in te vullen. Match info: Amateurs 2D (73) - De Nekker 1D (70) - Link: h
 ttps://www.badmintonvlaanderen.be/sport/teammatch.aspx?id=E5F03216-4619-44
 A1-A21C-5EA724CB9432&match=820
DTSTART;TZID=Europe/Brussels:20221013T200000
DTEND;TZID=Europe/Brussels:20221013T200000
END:VEVENT
BEGIN:VEVENT
UID:E5F03216-4619-44A1-A21C-5EA724CB9432-19-822_awayreminder@155.badmintonn
 ers.net
DTSTAMP:20260420T072410Z
SUMMARY:Uitmatch bevestigd? (Klein Boom 3D (62) - De Nekker 1D (70))
DESCRIPTION:Je hebt 72 uur na aanvang om een uitmatch op Badmintonvlaandere
 n in te vullen. Match info: Klein Boom 3D (62) - De Nekker 1D (70) - Link:
  https://www.badmintonvlaanderen.be/sport/teammatch.aspx?id=E5F03216-4619-
 44A1-A21C-5EA724CB9432&match=822
DTSTART;TZID=Europe/Brussels:20221130T190000
DTEND;TZID=Europe/Brussels:20221130T190000
END:VEVENT
BEGIN:VEVENT
UID:E5F03216-4619-44A1-A21C-5EA724CB9432-19-823_awayreminder@155.badmintonn
 ers.net
DTSTAMP:20260420T072410Z
SUMMARY:Uitmatch bevestigd? (Merksplas 1D (78) - De Nekker 1D (70))
DESCRIPTION:Je hebt 72 uur na aanvang om een uitmatch op Badmintonvlaandere
 n in te vullen. Match info: Merksplas 1D (78) - De Nekker 1D (70) - Link: 
 https://www.badmintonvlaanderen.be/sport/teammatch.aspx?id=E5F03216-4619-4
 4A1-A21C-5EA724CB9432&match=823
DTSTART;TZID=Europe/Brussels:20230125T190000
DTEND;TZID=Europe/Brussels:20230125T190000
END:VEVENT
BEGIN:VEVENT
UID:E5F03216-4619-44A1-A21C-5EA724CB9432-19-824_awayreminder@155.badmintonn
 ers.net
DTSTAMP:20260420T072410Z
SUMMARY:Uitmatch bevestigd? (Smash 1D (69) - De Nekker 1D (70))
DESCRIPTION:Je hebt 72 uur na aanvang om een uitmatch op Badmintonvlaandere
 n in te vullen. Match info: Smash 1D (69) - De Nekker 1D (70) - Link: http
 s://www.badmintonvlaanderen.be/sport/teammatch.aspx?id=E5F03216-4619-44A1-
 A21C-5EA724CB9432&match=824
DTSTART;TZID=Europe/Brussels:20230308T100000
DTEND;TZID=Europe/Brussels:20230308T100000
END:VEVENT
BEGIN:VEVENT
UID:E5F03216-4619-44A1-A21C-5EA724CB9432-19-821_awayreminder@155.badmintonn
 ers.net
DTSTAMP:20260420T072410Z
SUMMARY:Uitmatch bevestigd? (Zoersel 1D (68) - De Nekker 1D (70))
DESCRIPTION:Je hebt 72 uur na aanvang om een uitmatch op Badmintonvlaandere
 n in te vullen. Match info: Zoersel 1D (68) - De Nekker 1D (70) - Link: ht
 tps://www.badmintonvlaanderen.be/sport/teammatch.aspx?id=E5F03216-4619-44A
 1-A21C-5EA724CB9432&match=821
DTSTART;TZID=Europe/Brussels:20230322T120000
DTEND;TZID=Europe/Brussels:20230322T120000
END:VEVENT
END:VCALENDAR