BEGIN:VCALENDAR
VERSION:2.0
PRODID:spatie/icalendar-generator
NAME:zoersel_1d_68_reminders
X-WR-CALNAME:zoersel_1d_68_reminders
BEGIN:VTIMEZONE
TZID:Europe/Brussels
BEGIN:DAYLIGHT
DTSTART:20220327T010000
TZOFFSETFROM:+0100
TZOFFSETTO:+0200
END:DAYLIGHT
BEGIN:STANDARD
DTSTART:20221030T030000
TZOFFSETFROM:+0200
TZOFFSETTO:+0100
END:STANDARD
BEGIN:DAYLIGHT
DTSTART:20230326T010000
TZOFFSETFROM:+0100
TZOFFSETTO:+0200
END:DAYLIGHT
END:VTIMEZONE
BEGIN:VTIMEZONE
TZID:UTC
BEGIN:STANDARD
DTSTART:20250724T055217
TZOFFSETFROM:+0000
TZOFFSETTO:+0000
END:STANDARD
END:VTIMEZONE
BEGIN:VEVENT
UID:E5F03216-4619-44A1-A21C-5EA724CB9432-19-832_homereminder@157.badmintonn
 ers.net
DTSTAMP:20260420T055217Z
SUMMARY:Thuismatch ingevuld? (Zoersel 1D (68) - Klein Boom 3D (62))
DESCRIPTION:Je hebt 36 uur na aanvang om een thuismatch op Badmintonvlaande
 ren in te vullen. Match info: Zoersel 1D (68) - Klein Boom 3D (62) - Link:
  https://www.badmintonvlaanderen.be/sport/teammatch.aspx?id=E5F03216-4619-
 44A1-A21C-5EA724CB9432&match=832
DTSTART;TZID=Europe/Brussels:20221004T000000
DTEND;TZID=Europe/Brussels:20221004T000000
END:VEVENT
BEGIN:VEVENT
UID:E5F03216-4619-44A1-A21C-5EA724CB9432-19-816_homereminder@157.badmintonn
 ers.net
DTSTAMP:20260420T055217Z
SUMMARY:Thuismatch ingevuld? (Zoersel 1D (68) - Amateurs 2D (73))
DESCRIPTION:Je hebt 36 uur na aanvang om een thuismatch op Badmintonvlaande
 ren in te vullen. Match info: Zoersel 1D (68) - Amateurs 2D (73) - Link: h
 ttps://www.badmintonvlaanderen.be/sport/teammatch.aspx?id=E5F03216-4619-44
 A1-A21C-5EA724CB9432&match=816
DTSTART;TZID=Europe/Brussels:20221101T000000
DTEND;TZID=Europe/Brussels:20221101T000000
END:VEVENT
BEGIN:VEVENT
UID:E5F03216-4619-44A1-A21C-5EA724CB9432-19-842_homereminder@157.badmintonn
 ers.net
DTSTAMP:20260420T055217Z
SUMMARY:Thuismatch ingevuld? (Zoersel 1D (68) - Smash 1D (69))
DESCRIPTION:Je hebt 36 uur na aanvang om een thuismatch op Badmintonvlaande
 ren in te vullen. Match info: Zoersel 1D (68) - Smash 1D (69) - Link: http
 s://www.badmintonvlaanderen.be/sport/teammatch.aspx?id=E5F03216-4619-44A1-
 A21C-5EA724CB9432&match=842
DTSTART;TZID=Europe/Brussels:20221129T000000
DTEND;TZID=Europe/Brussels:20221129T000000
END:VEVENT
BEGIN:VEVENT
UID:E5F03216-4619-44A1-A21C-5EA724CB9432-19-837_homereminder@157.badmintonn
 ers.net
DTSTAMP:20260420T055217Z
SUMMARY:Thuismatch ingevuld? (Zoersel 1D (68) - Merksplas 1D (78))
DESCRIPTION:Je hebt 36 uur na aanvang om een thuismatch op Badmintonvlaande
 ren in te vullen. Match info: Zoersel 1D (68) - Merksplas 1D (78) - Link: 
 https://www.badmintonvlaanderen.be/sport/teammatch.aspx?id=E5F03216-4619-4
 4A1-A21C-5EA724CB9432&match=837
DTSTART;TZID=Europe/Brussels:20230221T000000
DTEND;TZID=Europe/Brussels:20230221T000000
END:VEVENT
BEGIN:VEVENT
UID:E5F03216-4619-44A1-A21C-5EA724CB9432-19-821_homereminder@157.badmintonn
 ers.net
DTSTAMP:20260420T055217Z
SUMMARY:Thuismatch ingevuld? (Zoersel 1D (68) - De Nekker 1D (70))
DESCRIPTION:Je hebt 36 uur na aanvang om een thuismatch op Badmintonvlaande
 ren in te vullen. Match info: Zoersel 1D (68) - De Nekker 1D (70) - Link: 
 https://www.badmintonvlaanderen.be/sport/teammatch.aspx?id=E5F03216-4619-4
 4A1-A21C-5EA724CB9432&match=821
DTSTART;TZID=Europe/Brussels:20230321T000000
DTEND;TZID=Europe/Brussels:20230321T000000
END:VEVENT
BEGIN:VEVENT
UID:E5F03216-4619-44A1-A21C-5EA724CB9432-19-828_awayreminder@157.badmintonn
 ers.net
DTSTAMP:20260420T055217Z
SUMMARY:Uitmatch bevestigd? (Merksplas 1D (78) - Zoersel 1D (68))
DESCRIPTION:Je hebt 72 uur na aanvang om een uitmatch op Badmintonvlaandere
 n in te vullen. Match info: Merksplas 1D (78) - Zoersel 1D (68) - Link: ht
 tps://www.badmintonvlaanderen.be/sport/teammatch.aspx?id=E5F03216-4619-44A
 1-A21C-5EA724CB9432&match=828
DTSTART;TZID=Europe/Brussels:20221019T190000
DTEND;TZID=Europe/Brussels:20221019T190000
END:VEVENT
BEGIN:VEVENT
UID:E5F03216-4619-44A1-A21C-5EA724CB9432-19-826_awayreminder@157.badmintonn
 ers.net
DTSTAMP:20260420T055217Z
SUMMARY:Uitmatch bevestigd? (De Nekker 1D (70) - Zoersel 1D (68))
DESCRIPTION:Je hebt 72 uur na aanvang om een uitmatch op Badmintonvlaandere
 n in te vullen. Match info: De Nekker 1D (70) - Zoersel 1D (68) - Link: ht
 tps://www.badmintonvlaanderen.be/sport/teammatch.aspx?id=E5F03216-4619-44A
 1-A21C-5EA724CB9432&match=826
DTSTART;TZID=Europe/Brussels:20221210T203000
DTEND;TZID=Europe/Brussels:20221210T203000
END:VEVENT
BEGIN:VEVENT
UID:E5F03216-4619-44A1-A21C-5EA724CB9432-19-827_awayreminder@157.badmintonn
 ers.net
DTSTAMP:20260420T055217Z
SUMMARY:Uitmatch bevestigd? (Klein Boom 3D (62) - Zoersel 1D (68))
DESCRIPTION:Je hebt 72 uur na aanvang om een uitmatch op Badmintonvlaandere
 n in te vullen. Match info: Klein Boom 3D (62) - Zoersel 1D (68) - Link: h
 ttps://www.badmintonvlaanderen.be/sport/teammatch.aspx?id=E5F03216-4619-44
 A1-A21C-5EA724CB9432&match=827
DTSTART;TZID=Europe/Brussels:20230208T190000
DTEND;TZID=Europe/Brussels:20230208T190000
END:VEVENT
BEGIN:VEVENT
UID:E5F03216-4619-44A1-A21C-5EA724CB9432-19-825_awayreminder@157.badmintonn
 ers.net
DTSTAMP:20260420T055217Z
SUMMARY:Uitmatch bevestigd? (Amateurs 2D (73) - Zoersel 1D (68))
DESCRIPTION:Je hebt 72 uur na aanvang om een uitmatch op Badmintonvlaandere
 n in te vullen. Match info: Amateurs 2D (73) - Zoersel 1D (68) - Link: htt
 ps://www.badmintonvlaanderen.be/sport/teammatch.aspx?id=E5F03216-4619-44A1
 -A21C-5EA724CB9432&match=825
DTSTART;TZID=Europe/Brussels:20230302T200000
DTEND;TZID=Europe/Brussels:20230302T200000
END:VEVENT
BEGIN:VEVENT
UID:E5F03216-4619-44A1-A21C-5EA724CB9432-19-829_awayreminder@157.badmintonn
 ers.net
DTSTAMP:20260420T055217Z
SUMMARY:Uitmatch bevestigd? (Smash 1D (69) - Zoersel 1D (68))
DESCRIPTION:Je hebt 72 uur na aanvang om een uitmatch op Badmintonvlaandere
 n in te vullen. Match info: Smash 1D (69) - Zoersel 1D (68) - Link: https:
 //www.badmintonvlaanderen.be/sport/teammatch.aspx?id=E5F03216-4619-44A1-A2
 1C-5EA724CB9432&match=829
DTSTART;TZID=Europe/Brussels:20230405T100000
DTEND;TZID=Europe/Brussels:20230405T100000
END:VEVENT
END:VCALENDAR