BEGIN:VCALENDAR
VERSION:2.0
PRODID:spatie/icalendar-generator
NAME:smash_1d_69_reminders
X-WR-CALNAME:smash_1d_69_reminders
BEGIN:VTIMEZONE
TZID:Europe/Brussels
BEGIN:DAYLIGHT
DTSTART:20220327T010000
TZOFFSETFROM:+0100
TZOFFSETTO:+0200
END:DAYLIGHT
BEGIN:STANDARD
DTSTART:20221030T030000
TZOFFSETFROM:+0200
TZOFFSETTO:+0100
END:STANDARD
BEGIN:DAYLIGHT
DTSTART:20230326T010000
TZOFFSETFROM:+0100
TZOFFSETTO:+0200
END:DAYLIGHT
END:VTIMEZONE
BEGIN:VTIMEZONE
TZID:UTC
BEGIN:STANDARD
DTSTART:20250724T055216
TZOFFSETFROM:+0000
TZOFFSETTO:+0000
END:STANDARD
END:VTIMEZONE
BEGIN:VEVENT
UID:E5F03216-4619-44A1-A21C-5EA724CB9432-19-834_homereminder@159.badmintonn
 ers.net
DTSTAMP:20260420T055216Z
SUMMARY:Thuismatch ingevuld? (Smash 1D (69) - Klein Boom 3D (62))
DESCRIPTION:Je hebt 36 uur na aanvang om een thuismatch op Badmintonvlaande
 ren in te vullen. Match info: Smash 1D (69) - Klein Boom 3D (62) - Link: h
 ttps://www.badmintonvlaanderen.be/sport/teammatch.aspx?id=E5F03216-4619-44
 A1-A21C-5EA724CB9432&match=834
DTSTART;TZID=Europe/Brussels:20221205T220000
DTEND;TZID=Europe/Brussels:20221205T220000
END:VEVENT
BEGIN:VEVENT
UID:E5F03216-4619-44A1-A21C-5EA724CB9432-19-839_homereminder@159.badmintonn
 ers.net
DTSTAMP:20260420T055216Z
SUMMARY:Thuismatch ingevuld? (Smash 1D (69) - Merksplas 1D (78))
DESCRIPTION:Je hebt 36 uur na aanvang om een thuismatch op Badmintonvlaande
 ren in te vullen. Match info: Smash 1D (69) - Merksplas 1D (78) - Link: ht
 tps://www.badmintonvlaanderen.be/sport/teammatch.aspx?id=E5F03216-4619-44A
 1-A21C-5EA724CB9432&match=839
DTSTART;TZID=Europe/Brussels:20221212T220000
DTEND;TZID=Europe/Brussels:20221212T220000
END:VEVENT
BEGIN:VEVENT
UID:E5F03216-4619-44A1-A21C-5EA724CB9432-19-819_homereminder@159.badmintonn
 ers.net
DTSTAMP:20260420T055216Z
SUMMARY:Thuismatch ingevuld? (Smash 1D (69) - Amateurs 2D (73))
DESCRIPTION:Je hebt 36 uur na aanvang om een thuismatch op Badmintonvlaande
 ren in te vullen. Match info: Smash 1D (69) - Amateurs 2D (73) - Link: htt
 ps://www.badmintonvlaanderen.be/sport/teammatch.aspx?id=E5F03216-4619-44A1
 -A21C-5EA724CB9432&match=819
DTSTART;TZID=Europe/Brussels:20230123T220000
DTEND;TZID=Europe/Brussels:20230123T220000
END:VEVENT
BEGIN:VEVENT
UID:E5F03216-4619-44A1-A21C-5EA724CB9432-19-824_homereminder@159.badmintonn
 ers.net
DTSTAMP:20260420T055216Z
SUMMARY:Thuismatch ingevuld? (Smash 1D (69) - De Nekker 1D (70))
DESCRIPTION:Je hebt 36 uur na aanvang om een thuismatch op Badmintonvlaande
 ren in te vullen. Match info: Smash 1D (69) - De Nekker 1D (70) - Link: ht
 tps://www.badmintonvlaanderen.be/sport/teammatch.aspx?id=E5F03216-4619-44A
 1-A21C-5EA724CB9432&match=824
DTSTART;TZID=Europe/Brussels:20230306T220000
DTEND;TZID=Europe/Brussels:20230306T220000
END:VEVENT
BEGIN:VEVENT
UID:E5F03216-4619-44A1-A21C-5EA724CB9432-19-829_homereminder@159.badmintonn
 ers.net
DTSTAMP:20260420T055216Z
SUMMARY:Thuismatch ingevuld? (Smash 1D (69) - Zoersel 1D (68))
DESCRIPTION:Je hebt 36 uur na aanvang om een thuismatch op Badmintonvlaande
 ren in te vullen. Match info: Smash 1D (69) - Zoersel 1D (68) - Link: http
 s://www.badmintonvlaanderen.be/sport/teammatch.aspx?id=E5F03216-4619-44A1-
 A21C-5EA724CB9432&match=829
DTSTART;TZID=Europe/Brussels:20230403T220000
DTEND;TZID=Europe/Brussels:20230403T220000
END:VEVENT
BEGIN:VEVENT
UID:E5F03216-4619-44A1-A21C-5EA724CB9432-19-840_awayreminder@159.badmintonn
 ers.net
DTSTAMP:20260420T055216Z
SUMMARY:Uitmatch bevestigd? (Amateurs 2D (73) - Smash 1D (69))
DESCRIPTION:Je hebt 72 uur na aanvang om een uitmatch op Badmintonvlaandere
 n in te vullen. Match info: Amateurs 2D (73) - Smash 1D (69) - Link: https
 ://www.badmintonvlaanderen.be/sport/teammatch.aspx?id=E5F03216-4619-44A1-A
 21C-5EA724CB9432&match=840
DTSTART;TZID=Europe/Brussels:20221020T200000
DTEND;TZID=Europe/Brussels:20221020T200000
END:VEVENT
BEGIN:VEVENT
UID:E5F03216-4619-44A1-A21C-5EA724CB9432-19-841_awayreminder@159.badmintonn
 ers.net
DTSTAMP:20260420T055216Z
SUMMARY:Uitmatch bevestigd? (De Nekker 1D (70) - Smash 1D (69))
DESCRIPTION:Je hebt 72 uur na aanvang om een uitmatch op Badmintonvlaandere
 n in te vullen. Match info: De Nekker 1D (70) - Smash 1D (69) - Link: http
 s://www.badmintonvlaanderen.be/sport/teammatch.aspx?id=E5F03216-4619-44A1-
 A21C-5EA724CB9432&match=841
DTSTART;TZID=Europe/Brussels:20221029T203000
DTEND;TZID=Europe/Brussels:20221029T203000
END:VEVENT
BEGIN:VEVENT
UID:E5F03216-4619-44A1-A21C-5EA724CB9432-19-842_awayreminder@159.badmintonn
 ers.net
DTSTAMP:20260420T055216Z
SUMMARY:Uitmatch bevestigd? (Zoersel 1D (68) - Smash 1D (69))
DESCRIPTION:Je hebt 72 uur na aanvang om een uitmatch op Badmintonvlaandere
 n in te vullen. Match info: Zoersel 1D (68) - Smash 1D (69) - Link: https:
 //www.badmintonvlaanderen.be/sport/teammatch.aspx?id=E5F03216-4619-44A1-A2
 1C-5EA724CB9432&match=842
DTSTART;TZID=Europe/Brussels:20221130T120000
DTEND;TZID=Europe/Brussels:20221130T120000
END:VEVENT
BEGIN:VEVENT
UID:E5F03216-4619-44A1-A21C-5EA724CB9432-19-843_awayreminder@159.badmintonn
 ers.net
DTSTAMP:20260420T055216Z
SUMMARY:Uitmatch bevestigd? (Klein Boom 3D (62) - Smash 1D (69))
DESCRIPTION:Je hebt 72 uur na aanvang om een uitmatch op Badmintonvlaandere
 n in te vullen. Match info: Klein Boom 3D (62) - Smash 1D (69) - Link: htt
 ps://www.badmintonvlaanderen.be/sport/teammatch.aspx?id=E5F03216-4619-44A1
 -A21C-5EA724CB9432&match=843
DTSTART;TZID=Europe/Brussels:20230119T200000
DTEND;TZID=Europe/Brussels:20230119T200000
END:VEVENT
BEGIN:VEVENT
UID:E5F03216-4619-44A1-A21C-5EA724CB9432-19-844_awayreminder@159.badmintonn
 ers.net
DTSTAMP:20260420T055216Z
SUMMARY:Uitmatch bevestigd? (Merksplas 1D (78) - Smash 1D (69))
DESCRIPTION:Je hebt 72 uur na aanvang om een uitmatch op Badmintonvlaandere
 n in te vullen. Match info: Merksplas 1D (78) - Smash 1D (69) - Link: http
 s://www.badmintonvlaanderen.be/sport/teammatch.aspx?id=E5F03216-4619-44A1-
 A21C-5EA724CB9432&match=844
DTSTART;TZID=Europe/Brussels:20230322T190000
DTEND;TZID=Europe/Brussels:20230322T190000
END:VEVENT
END:VCALENDAR