BEGIN:VCALENDAR
VERSION:2.0
PRODID:spatie/icalendar-generator
NAME:klein_boom_3d_62_reminders
X-WR-CALNAME:klein_boom_3d_62_reminders
BEGIN:VTIMEZONE
TZID:Europe/Brussels
BEGIN:DAYLIGHT
DTSTART:20220327T010000
TZOFFSETFROM:+0100
TZOFFSETTO:+0200
END:DAYLIGHT
BEGIN:STANDARD
DTSTART:20221030T030000
TZOFFSETFROM:+0200
TZOFFSETTO:+0100
END:STANDARD
BEGIN:DAYLIGHT
DTSTART:20230326T010000
TZOFFSETFROM:+0100
TZOFFSETTO:+0200
END:DAYLIGHT
END:VTIMEZONE
BEGIN:VTIMEZONE
TZID:UTC
BEGIN:STANDARD
DTSTART:20250724T055212
TZOFFSETFROM:+0000
TZOFFSETTO:+0000
END:STANDARD
END:VTIMEZONE
BEGIN:VEVENT
UID:E5F03216-4619-44A1-A21C-5EA724CB9432-19-838_homereminder@163.badmintonn
 ers.net
DTSTAMP:20260420T055212Z
SUMMARY:Thuismatch ingevuld? (Klein Boom 3D (62) - Merksplas 1D (78))
DESCRIPTION:Je hebt 36 uur na aanvang om een thuismatch op Badmintonvlaande
 ren in te vullen. Match info: Klein Boom 3D (62) - Merksplas 1D (78) - Lin
 k: https://www.badmintonvlaanderen.be/sport/teammatch.aspx?id=E5F03216-461
 9-44A1-A21C-5EA724CB9432&match=838
DTSTART;TZID=Europe/Brussels:20221101T070000
DTEND;TZID=Europe/Brussels:20221101T070000
END:VEVENT
BEGIN:VEVENT
UID:E5F03216-4619-44A1-A21C-5EA724CB9432-19-822_homereminder@163.badmintonn
 ers.net
DTSTAMP:20260420T055212Z
SUMMARY:Thuismatch ingevuld? (Klein Boom 3D (62) - De Nekker 1D (70))
DESCRIPTION:Je hebt 36 uur na aanvang om een thuismatch op Badmintonvlaande
 ren in te vullen. Match info: Klein Boom 3D (62) - De Nekker 1D (70) - Lin
 k: https://www.badmintonvlaanderen.be/sport/teammatch.aspx?id=E5F03216-461
 9-44A1-A21C-5EA724CB9432&match=822
DTSTART;TZID=Europe/Brussels:20221129T070000
DTEND;TZID=Europe/Brussels:20221129T070000
END:VEVENT
BEGIN:VEVENT
UID:E5F03216-4619-44A1-A21C-5EA724CB9432-19-843_homereminder@163.badmintonn
 ers.net
DTSTAMP:20260420T055212Z
SUMMARY:Thuismatch ingevuld? (Klein Boom 3D (62) - Smash 1D (69))
DESCRIPTION:Je hebt 36 uur na aanvang om een thuismatch op Badmintonvlaande
 ren in te vullen. Match info: Klein Boom 3D (62) - Smash 1D (69) - Link: h
 ttps://www.badmintonvlaanderen.be/sport/teammatch.aspx?id=E5F03216-4619-44
 A1-A21C-5EA724CB9432&match=843
DTSTART;TZID=Europe/Brussels:20230118T080000
DTEND;TZID=Europe/Brussels:20230118T080000
END:VEVENT
BEGIN:VEVENT
UID:E5F03216-4619-44A1-A21C-5EA724CB9432-19-827_homereminder@163.badmintonn
 ers.net
DTSTAMP:20260420T055212Z
SUMMARY:Thuismatch ingevuld? (Klein Boom 3D (62) - Zoersel 1D (68))
DESCRIPTION:Je hebt 36 uur na aanvang om een thuismatch op Badmintonvlaande
 ren in te vullen. Match info: Klein Boom 3D (62) - Zoersel 1D (68) - Link:
  https://www.badmintonvlaanderen.be/sport/teammatch.aspx?id=E5F03216-4619-
 44A1-A21C-5EA724CB9432&match=827
DTSTART;TZID=Europe/Brussels:20230207T070000
DTEND;TZID=Europe/Brussels:20230207T070000
END:VEVENT
BEGIN:VEVENT
UID:E5F03216-4619-44A1-A21C-5EA724CB9432-19-817_homereminder@163.badmintonn
 ers.net
DTSTAMP:20260420T055212Z
SUMMARY:Thuismatch ingevuld? (Klein Boom 3D (62) - Amateurs 2D (73))
DESCRIPTION:Je hebt 36 uur na aanvang om een thuismatch op Badmintonvlaande
 ren in te vullen. Match info: Klein Boom 3D (62) - Amateurs 2D (73) - Link
 : https://www.badmintonvlaanderen.be/sport/teammatch.aspx?id=E5F03216-4619
 -44A1-A21C-5EA724CB9432&match=817
DTSTART;TZID=Europe/Brussels:20230321T070000
DTEND;TZID=Europe/Brussels:20230321T070000
END:VEVENT
BEGIN:VEVENT
UID:E5F03216-4619-44A1-A21C-5EA724CB9432-19-832_awayreminder@163.badmintonn
 ers.net
DTSTAMP:20260420T055212Z
SUMMARY:Uitmatch bevestigd? (Zoersel 1D (68) - Klein Boom 3D (62))
DESCRIPTION:Je hebt 72 uur na aanvang om een uitmatch op Badmintonvlaandere
 n in te vullen. Match info: Zoersel 1D (68) - Klein Boom 3D (62) - Link: h
 ttps://www.badmintonvlaanderen.be/sport/teammatch.aspx?id=E5F03216-4619-44
 A1-A21C-5EA724CB9432&match=832
DTSTART;TZID=Europe/Brussels:20221005T120000
DTEND;TZID=Europe/Brussels:20221005T120000
END:VEVENT
BEGIN:VEVENT
UID:E5F03216-4619-44A1-A21C-5EA724CB9432-19-830_awayreminder@163.badmintonn
 ers.net
DTSTAMP:20260420T055212Z
SUMMARY:Uitmatch bevestigd? (Amateurs 2D (73) - Klein Boom 3D (62))
DESCRIPTION:Je hebt 72 uur na aanvang om een uitmatch op Badmintonvlaandere
 n in te vullen. Match info: Amateurs 2D (73) - Klein Boom 3D (62) - Link: 
 https://www.badmintonvlaanderen.be/sport/teammatch.aspx?id=E5F03216-4619-4
 4A1-A21C-5EA724CB9432&match=830
DTSTART;TZID=Europe/Brussels:20221110T200000
DTEND;TZID=Europe/Brussels:20221110T200000
END:VEVENT
BEGIN:VEVENT
UID:E5F03216-4619-44A1-A21C-5EA724CB9432-19-834_awayreminder@163.badmintonn
 ers.net
DTSTAMP:20260420T055212Z
SUMMARY:Uitmatch bevestigd? (Smash 1D (69) - Klein Boom 3D (62))
DESCRIPTION:Je hebt 72 uur na aanvang om een uitmatch op Badmintonvlaandere
 n in te vullen. Match info: Smash 1D (69) - Klein Boom 3D (62) - Link: htt
 ps://www.badmintonvlaanderen.be/sport/teammatch.aspx?id=E5F03216-4619-44A1
 -A21C-5EA724CB9432&match=834
DTSTART;TZID=Europe/Brussels:20221207T100000
DTEND;TZID=Europe/Brussels:20221207T100000
END:VEVENT
BEGIN:VEVENT
UID:E5F03216-4619-44A1-A21C-5EA724CB9432-19-831_awayreminder@163.badmintonn
 ers.net
DTSTAMP:20260420T055212Z
SUMMARY:Uitmatch bevestigd? (De Nekker 1D (70) - Klein Boom 3D (62))
DESCRIPTION:Je hebt 72 uur na aanvang om een uitmatch op Badmintonvlaandere
 n in te vullen. Match info: De Nekker 1D (70) - Klein Boom 3D (62) - Link:
  https://www.badmintonvlaanderen.be/sport/teammatch.aspx?id=E5F03216-4619-
 44A1-A21C-5EA724CB9432&match=831
DTSTART;TZID=Europe/Brussels:20230408T203000
DTEND;TZID=Europe/Brussels:20230408T203000
END:VEVENT
BEGIN:VEVENT
UID:E5F03216-4619-44A1-A21C-5EA724CB9432-19-833_awayreminder@163.badmintonn
 ers.net
DTSTAMP:20260420T055212Z
SUMMARY:Uitmatch bevestigd? (Merksplas 1D (78) - Klein Boom 3D (62))
DESCRIPTION:Je hebt 72 uur na aanvang om een uitmatch op Badmintonvlaandere
 n in te vullen. Match info: Merksplas 1D (78) - Klein Boom 3D (62) - Link:
  https://www.badmintonvlaanderen.be/sport/teammatch.aspx?id=E5F03216-4619-
 44A1-A21C-5EA724CB9432&match=833
DTSTART;TZID=Europe/Brussels:20230419T190000
DTEND;TZID=Europe/Brussels:20230419T190000
END:VEVENT
END:VCALENDAR