BEGIN:VCALENDAR
VERSION:2.0
PRODID:spatie/icalendar-generator
NAME:merksplas_1d_78_reminders
X-WR-CALNAME:merksplas_1d_78_reminders
BEGIN:VTIMEZONE
TZID:Europe/Brussels
BEGIN:DAYLIGHT
DTSTART:20220327T010000
TZOFFSETFROM:+0100
TZOFFSETTO:+0200
END:DAYLIGHT
BEGIN:STANDARD
DTSTART:20221030T030000
TZOFFSETFROM:+0200
TZOFFSETTO:+0100
END:STANDARD
BEGIN:DAYLIGHT
DTSTART:20230326T010000
TZOFFSETFROM:+0100
TZOFFSETTO:+0200
END:DAYLIGHT
END:VTIMEZONE
BEGIN:VTIMEZONE
TZID:UTC
BEGIN:STANDARD
DTSTART:20250724T072433
TZOFFSETFROM:+0000
TZOFFSETTO:+0000
END:STANDARD
END:VTIMEZONE
BEGIN:VEVENT
UID:E5F03216-4619-44A1-A21C-5EA724CB9432-19-828_homereminder@165.badmintonn
 ers.net
DTSTAMP:20260420T072433Z
SUMMARY:Thuismatch ingevuld? (Merksplas 1D (78) - Zoersel 1D (68))
DESCRIPTION:Je hebt 36 uur na aanvang om een thuismatch op Badmintonvlaande
 ren in te vullen. Match info: Merksplas 1D (78) - Zoersel 1D (68) - Link: 
 https://www.badmintonvlaanderen.be/sport/teammatch.aspx?id=E5F03216-4619-4
 4A1-A21C-5EA724CB9432&match=828
DTSTART;TZID=Europe/Brussels:20221018T070000
DTEND;TZID=Europe/Brussels:20221018T070000
END:VEVENT
BEGIN:VEVENT
UID:E5F03216-4619-44A1-A21C-5EA724CB9432-19-818_homereminder@165.badmintonn
 ers.net
DTSTAMP:20260420T072433Z
SUMMARY:Thuismatch ingevuld? (Merksplas 1D (78) - Amateurs 2D (73))
DESCRIPTION:Je hebt 36 uur na aanvang om een thuismatch op Badmintonvlaande
 ren in te vullen. Match info: Merksplas 1D (78) - Amateurs 2D (73) - Link:
  https://www.badmintonvlaanderen.be/sport/teammatch.aspx?id=E5F03216-4619-
 44A1-A21C-5EA724CB9432&match=818
DTSTART;TZID=Europe/Brussels:20221129T070000
DTEND;TZID=Europe/Brussels:20221129T070000
END:VEVENT
BEGIN:VEVENT
UID:E5F03216-4619-44A1-A21C-5EA724CB9432-19-823_homereminder@165.badmintonn
 ers.net
DTSTAMP:20260420T072433Z
SUMMARY:Thuismatch ingevuld? (Merksplas 1D (78) - De Nekker 1D (70))
DESCRIPTION:Je hebt 36 uur na aanvang om een thuismatch op Badmintonvlaande
 ren in te vullen. Match info: Merksplas 1D (78) - De Nekker 1D (70) - Link
 : https://www.badmintonvlaanderen.be/sport/teammatch.aspx?id=E5F03216-4619
 -44A1-A21C-5EA724CB9432&match=823
DTSTART;TZID=Europe/Brussels:20230124T070000
DTEND;TZID=Europe/Brussels:20230124T070000
END:VEVENT
BEGIN:VEVENT
UID:E5F03216-4619-44A1-A21C-5EA724CB9432-19-844_homereminder@165.badmintonn
 ers.net
DTSTAMP:20260420T072433Z
SUMMARY:Thuismatch ingevuld? (Merksplas 1D (78) - Smash 1D (69))
DESCRIPTION:Je hebt 36 uur na aanvang om een thuismatch op Badmintonvlaande
 ren in te vullen. Match info: Merksplas 1D (78) - Smash 1D (69) - Link: ht
 tps://www.badmintonvlaanderen.be/sport/teammatch.aspx?id=E5F03216-4619-44A
 1-A21C-5EA724CB9432&match=844
DTSTART;TZID=Europe/Brussels:20230321T070000
DTEND;TZID=Europe/Brussels:20230321T070000
END:VEVENT
BEGIN:VEVENT
UID:E5F03216-4619-44A1-A21C-5EA724CB9432-19-833_homereminder@165.badmintonn
 ers.net
DTSTAMP:20260420T072433Z
SUMMARY:Thuismatch ingevuld? (Merksplas 1D (78) - Klein Boom 3D (62))
DESCRIPTION:Je hebt 36 uur na aanvang om een thuismatch op Badmintonvlaande
 ren in te vullen. Match info: Merksplas 1D (78) - Klein Boom 3D (62) - Lin
 k: https://www.badmintonvlaanderen.be/sport/teammatch.aspx?id=E5F03216-461
 9-44A1-A21C-5EA724CB9432&match=833
DTSTART;TZID=Europe/Brussels:20230418T070000
DTEND;TZID=Europe/Brussels:20230418T070000
END:VEVENT
BEGIN:VEVENT
UID:E5F03216-4619-44A1-A21C-5EA724CB9432-19-836_awayreminder@165.badmintonn
 ers.net
DTSTAMP:20260420T072433Z
SUMMARY:Uitmatch bevestigd? (De Nekker 1D (70) - Merksplas 1D (78))
DESCRIPTION:Je hebt 72 uur na aanvang om een uitmatch op Badmintonvlaandere
 n in te vullen. Match info: De Nekker 1D (70) - Merksplas 1D (78) - Link: 
 https://www.badmintonvlaanderen.be/sport/teammatch.aspx?id=E5F03216-4619-4
 4A1-A21C-5EA724CB9432&match=836
DTSTART;TZID=Europe/Brussels:20221001T203000
DTEND;TZID=Europe/Brussels:20221001T203000
END:VEVENT
BEGIN:VEVENT
UID:E5F03216-4619-44A1-A21C-5EA724CB9432-19-838_awayreminder@165.badmintonn
 ers.net
DTSTAMP:20260420T072433Z
SUMMARY:Uitmatch bevestigd? (Klein Boom 3D (62) - Merksplas 1D (78))
DESCRIPTION:Je hebt 72 uur na aanvang om een uitmatch op Badmintonvlaandere
 n in te vullen. Match info: Klein Boom 3D (62) - Merksplas 1D (78) - Link:
  https://www.badmintonvlaanderen.be/sport/teammatch.aspx?id=E5F03216-4619-
 44A1-A21C-5EA724CB9432&match=838
DTSTART;TZID=Europe/Brussels:20221102T190000
DTEND;TZID=Europe/Brussels:20221102T190000
END:VEVENT
BEGIN:VEVENT
UID:E5F03216-4619-44A1-A21C-5EA724CB9432-19-839_awayreminder@165.badmintonn
 ers.net
DTSTAMP:20260420T072433Z
SUMMARY:Uitmatch bevestigd? (Smash 1D (69) - Merksplas 1D (78))
DESCRIPTION:Je hebt 72 uur na aanvang om een uitmatch op Badmintonvlaandere
 n in te vullen. Match info: Smash 1D (69) - Merksplas 1D (78) - Link: http
 s://www.badmintonvlaanderen.be/sport/teammatch.aspx?id=E5F03216-4619-44A1-
 A21C-5EA724CB9432&match=839
DTSTART;TZID=Europe/Brussels:20221214T100000
DTEND;TZID=Europe/Brussels:20221214T100000
END:VEVENT
BEGIN:VEVENT
UID:E5F03216-4619-44A1-A21C-5EA724CB9432-19-837_awayreminder@165.badmintonn
 ers.net
DTSTAMP:20260420T072433Z
SUMMARY:Uitmatch bevestigd? (Zoersel 1D (68) - Merksplas 1D (78))
DESCRIPTION:Je hebt 72 uur na aanvang om een uitmatch op Badmintonvlaandere
 n in te vullen. Match info: Zoersel 1D (68) - Merksplas 1D (78) - Link: ht
 tps://www.badmintonvlaanderen.be/sport/teammatch.aspx?id=E5F03216-4619-44A
 1-A21C-5EA724CB9432&match=837
DTSTART;TZID=Europe/Brussels:20230222T120000
DTEND;TZID=Europe/Brussels:20230222T120000
END:VEVENT
BEGIN:VEVENT
UID:E5F03216-4619-44A1-A21C-5EA724CB9432-19-835_awayreminder@165.badmintonn
 ers.net
DTSTAMP:20260420T072433Z
SUMMARY:Uitmatch bevestigd? (Amateurs 2D (73) - Merksplas 1D (78))
DESCRIPTION:Je hebt 72 uur na aanvang om een uitmatch op Badmintonvlaandere
 n in te vullen. Match info: Amateurs 2D (73) - Merksplas 1D (78) - Link: h
 ttps://www.badmintonvlaanderen.be/sport/teammatch.aspx?id=E5F03216-4619-44
 A1-A21C-5EA724CB9432&match=835
DTSTART;TZID=Europe/Brussels:20230330T200000
DTEND;TZID=Europe/Brussels:20230330T200000
END:VEVENT
END:VCALENDAR