BEGIN:VCALENDAR
VERSION:2.0
PRODID:spatie/icalendar-generator
NAME:amateurs_2d_73_reminders
X-WR-CALNAME:amateurs_2d_73_reminders
BEGIN:VTIMEZONE
TZID:Europe/Brussels
BEGIN:DAYLIGHT
DTSTART:20220327T010000
TZOFFSETFROM:+0100
TZOFFSETTO:+0200
END:DAYLIGHT
BEGIN:STANDARD
DTSTART:20221030T030000
TZOFFSETFROM:+0200
TZOFFSETTO:+0100
END:STANDARD
BEGIN:DAYLIGHT
DTSTART:20230326T010000
TZOFFSETFROM:+0100
TZOFFSETTO:+0200
END:DAYLIGHT
END:VTIMEZONE
BEGIN:VTIMEZONE
TZID:UTC
BEGIN:STANDARD
DTSTART:20250724T072434
TZOFFSETFROM:+0000
TZOFFSETTO:+0000
END:STANDARD
END:VTIMEZONE
BEGIN:VEVENT
UID:E5F03216-4619-44A1-A21C-5EA724CB9432-19-820_homereminder@166.badmintonn
 ers.net
DTSTAMP:20260420T072434Z
SUMMARY:Thuismatch ingevuld? (Amateurs 2D (73) - De Nekker 1D (70))
DESCRIPTION:Je hebt 36 uur na aanvang om een thuismatch op Badmintonvlaande
 ren in te vullen. Match info: Amateurs 2D (73) - De Nekker 1D (70) - Link:
  https://www.badmintonvlaanderen.be/sport/teammatch.aspx?id=E5F03216-4619-
 44A1-A21C-5EA724CB9432&match=820
DTSTART;TZID=Europe/Brussels:20221012T080000
DTEND;TZID=Europe/Brussels:20221012T080000
END:VEVENT
BEGIN:VEVENT
UID:E5F03216-4619-44A1-A21C-5EA724CB9432-19-840_homereminder@166.badmintonn
 ers.net
DTSTAMP:20260420T072434Z
SUMMARY:Thuismatch ingevuld? (Amateurs 2D (73) - Smash 1D (69))
DESCRIPTION:Je hebt 36 uur na aanvang om een thuismatch op Badmintonvlaande
 ren in te vullen. Match info: Amateurs 2D (73) - Smash 1D (69) - Link: htt
 ps://www.badmintonvlaanderen.be/sport/teammatch.aspx?id=E5F03216-4619-44A1
 -A21C-5EA724CB9432&match=840
DTSTART;TZID=Europe/Brussels:20221019T080000
DTEND;TZID=Europe/Brussels:20221019T080000
END:VEVENT
BEGIN:VEVENT
UID:E5F03216-4619-44A1-A21C-5EA724CB9432-19-830_homereminder@166.badmintonn
 ers.net
DTSTAMP:20260420T072434Z
SUMMARY:Thuismatch ingevuld? (Amateurs 2D (73) - Klein Boom 3D (62))
DESCRIPTION:Je hebt 36 uur na aanvang om een thuismatch op Badmintonvlaande
 ren in te vullen. Match info: Amateurs 2D (73) - Klein Boom 3D (62) - Link
 : https://www.badmintonvlaanderen.be/sport/teammatch.aspx?id=E5F03216-4619
 -44A1-A21C-5EA724CB9432&match=830
DTSTART;TZID=Europe/Brussels:20221109T080000
DTEND;TZID=Europe/Brussels:20221109T080000
END:VEVENT
BEGIN:VEVENT
UID:E5F03216-4619-44A1-A21C-5EA724CB9432-19-825_homereminder@166.badmintonn
 ers.net
DTSTAMP:20260420T072434Z
SUMMARY:Thuismatch ingevuld? (Amateurs 2D (73) - Zoersel 1D (68))
DESCRIPTION:Je hebt 36 uur na aanvang om een thuismatch op Badmintonvlaande
 ren in te vullen. Match info: Amateurs 2D (73) - Zoersel 1D (68) - Link: h
 ttps://www.badmintonvlaanderen.be/sport/teammatch.aspx?id=E5F03216-4619-44
 A1-A21C-5EA724CB9432&match=825
DTSTART;TZID=Europe/Brussels:20230301T080000
DTEND;TZID=Europe/Brussels:20230301T080000
END:VEVENT
BEGIN:VEVENT
UID:E5F03216-4619-44A1-A21C-5EA724CB9432-19-835_homereminder@166.badmintonn
 ers.net
DTSTAMP:20260420T072434Z
SUMMARY:Thuismatch ingevuld? (Amateurs 2D (73) - Merksplas 1D (78))
DESCRIPTION:Je hebt 36 uur na aanvang om een thuismatch op Badmintonvlaande
 ren in te vullen. Match info: Amateurs 2D (73) - Merksplas 1D (78) - Link:
  https://www.badmintonvlaanderen.be/sport/teammatch.aspx?id=E5F03216-4619-
 44A1-A21C-5EA724CB9432&match=835
DTSTART;TZID=Europe/Brussels:20230329T080000
DTEND;TZID=Europe/Brussels:20230329T080000
END:VEVENT
BEGIN:VEVENT
UID:E5F03216-4619-44A1-A21C-5EA724CB9432-19-816_awayreminder@166.badmintonn
 ers.net
DTSTAMP:20260420T072434Z
SUMMARY:Uitmatch bevestigd? (Zoersel 1D (68) - Amateurs 2D (73))
DESCRIPTION:Je hebt 72 uur na aanvang om een uitmatch op Badmintonvlaandere
 n in te vullen. Match info: Zoersel 1D (68) - Amateurs 2D (73) - Link: htt
 ps://www.badmintonvlaanderen.be/sport/teammatch.aspx?id=E5F03216-4619-44A1
 -A21C-5EA724CB9432&match=816
DTSTART;TZID=Europe/Brussels:20221102T120000
DTEND;TZID=Europe/Brussels:20221102T120000
END:VEVENT
BEGIN:VEVENT
UID:E5F03216-4619-44A1-A21C-5EA724CB9432-19-818_awayreminder@166.badmintonn
 ers.net
DTSTAMP:20260420T072434Z
SUMMARY:Uitmatch bevestigd? (Merksplas 1D (78) - Amateurs 2D (73))
DESCRIPTION:Je hebt 72 uur na aanvang om een uitmatch op Badmintonvlaandere
 n in te vullen. Match info: Merksplas 1D (78) - Amateurs 2D (73) - Link: h
 ttps://www.badmintonvlaanderen.be/sport/teammatch.aspx?id=E5F03216-4619-44
 A1-A21C-5EA724CB9432&match=818
DTSTART;TZID=Europe/Brussels:20221130T190000
DTEND;TZID=Europe/Brussels:20221130T190000
END:VEVENT
BEGIN:VEVENT
UID:E5F03216-4619-44A1-A21C-5EA724CB9432-19-819_awayreminder@166.badmintonn
 ers.net
DTSTAMP:20260420T072434Z
SUMMARY:Uitmatch bevestigd? (Smash 1D (69) - Amateurs 2D (73))
DESCRIPTION:Je hebt 72 uur na aanvang om een uitmatch op Badmintonvlaandere
 n in te vullen. Match info: Smash 1D (69) - Amateurs 2D (73) - Link: https
 ://www.badmintonvlaanderen.be/sport/teammatch.aspx?id=E5F03216-4619-44A1-A
 21C-5EA724CB9432&match=819
DTSTART;TZID=Europe/Brussels:20230125T100000
DTEND;TZID=Europe/Brussels:20230125T100000
END:VEVENT
BEGIN:VEVENT
UID:E5F03216-4619-44A1-A21C-5EA724CB9432-19-815_awayreminder@166.badmintonn
 ers.net
DTSTAMP:20260420T072434Z
SUMMARY:Uitmatch bevestigd? (De Nekker 1D (70) - Amateurs 2D (73))
DESCRIPTION:Je hebt 72 uur na aanvang om een uitmatch op Badmintonvlaandere
 n in te vullen. Match info: De Nekker 1D (70) - Amateurs 2D (73) - Link: h
 ttps://www.badmintonvlaanderen.be/sport/teammatch.aspx?id=E5F03216-4619-44
 A1-A21C-5EA724CB9432&match=815
DTSTART;TZID=Europe/Brussels:20230218T203000
DTEND;TZID=Europe/Brussels:20230218T203000
END:VEVENT
BEGIN:VEVENT
UID:E5F03216-4619-44A1-A21C-5EA724CB9432-19-817_awayreminder@166.badmintonn
 ers.net
DTSTAMP:20260420T072434Z
SUMMARY:Uitmatch bevestigd? (Klein Boom 3D (62) - Amateurs 2D (73))
DESCRIPTION:Je hebt 72 uur na aanvang om een uitmatch op Badmintonvlaandere
 n in te vullen. Match info: Klein Boom 3D (62) - Amateurs 2D (73) - Link: 
 https://www.badmintonvlaanderen.be/sport/teammatch.aspx?id=E5F03216-4619-4
 4A1-A21C-5EA724CB9432&match=817
DTSTART;TZID=Europe/Brussels:20230322T190000
DTEND;TZID=Europe/Brussels:20230322T190000
END:VEVENT
END:VCALENDAR