BEGIN:VCALENDAR
VERSION:2.0
PRODID:spatie/icalendar-generator
NAME:herentals_1h_38_reminders
X-WR-CALNAME:herentals_1h_38_reminders
BEGIN:VTIMEZONE
TZID:Europe/Brussels
BEGIN:DAYLIGHT
DTSTART:20220327T010000
TZOFFSETFROM:+0100
TZOFFSETTO:+0200
END:DAYLIGHT
BEGIN:STANDARD
DTSTART:20221030T030000
TZOFFSETFROM:+0200
TZOFFSETTO:+0100
END:STANDARD
BEGIN:DAYLIGHT
DTSTART:20230326T010000
TZOFFSETFROM:+0100
TZOFFSETTO:+0200
END:DAYLIGHT
END:VTIMEZONE
BEGIN:VTIMEZONE
TZID:UTC
BEGIN:STANDARD
DTSTART:20250724T055136
TZOFFSETFROM:+0000
TZOFFSETTO:+0000
END:STANDARD
END:VTIMEZONE
BEGIN:VEVENT
UID:E5F03216-4619-44A1-A21C-5EA724CB9432-2-79_homereminder@10.badmintonners
 .net
DTSTAMP:20260420T055136Z
SUMMARY:Thuismatch ingevuld? (Herentals 1H (38) - De Nekker 2H (38))
DESCRIPTION:Je hebt 36 uur na aanvang om een thuismatch op Badmintonvlaande
 ren in te vullen. Match info: Herentals 1H (38) - De Nekker 2H (38) - Link
 : https://www.badmintonvlaanderen.be/sport/teammatch.aspx?id=E5F03216-4619
 -44A1-A21C-5EA724CB9432&match=79
DTSTART;TZID=Europe/Brussels:20221016T090000
DTEND;TZID=Europe/Brussels:20221016T090000
END:VEVENT
BEGIN:VEVENT
UID:E5F03216-4619-44A1-A21C-5EA724CB9432-2-63_homereminder@10.badmintonners
 .net
DTSTAMP:20260420T055136Z
SUMMARY:Thuismatch ingevuld? (Herentals 1H (38) - Rita Serveert 1H (42))
DESCRIPTION:Je hebt 36 uur na aanvang om een thuismatch op Badmintonvlaande
 ren in te vullen. Match info: Herentals 1H (38) - Rita Serveert 1H (42) - 
 Link: https://www.badmintonvlaanderen.be/sport/teammatch.aspx?id=E5F03216-
 4619-44A1-A21C-5EA724CB9432&match=63
DTSTART;TZID=Europe/Brussels:20221127T090000
DTEND;TZID=Europe/Brussels:20221127T090000
END:VEVENT
BEGIN:VEVENT
UID:E5F03216-4619-44A1-A21C-5EA724CB9432-2-68_homereminder@10.badmintonners
 .net
DTSTAMP:20260420T055136Z
SUMMARY:Thuismatch ingevuld? (Herentals 1H (38) - Bacss 1H (44))
DESCRIPTION:Je hebt 36 uur na aanvang om een thuismatch op Badmintonvlaande
 ren in te vullen. Match info: Herentals 1H (38) - Bacss 1H (44) - Link: ht
 tps://www.badmintonvlaanderen.be/sport/teammatch.aspx?id=E5F03216-4619-44A
 1-A21C-5EA724CB9432&match=68
DTSTART;TZID=Europe/Brussels:20230122T090000
DTEND;TZID=Europe/Brussels:20230122T090000
END:VEVENT
BEGIN:VEVENT
UID:E5F03216-4619-44A1-A21C-5EA724CB9432-2-84_homereminder@10.badmintonners
 .net
DTSTAMP:20260420T055136Z
SUMMARY:Thuismatch ingevuld? (Herentals 1H (38) - Waverse 1H (41))
DESCRIPTION:Je hebt 36 uur na aanvang om een thuismatch op Badmintonvlaande
 ren in te vullen. Match info: Herentals 1H (38) - Waverse 1H (41) - Link: 
 https://www.badmintonvlaanderen.be/sport/teammatch.aspx?id=E5F03216-4619-4
 4A1-A21C-5EA724CB9432&match=84
DTSTART;TZID=Europe/Brussels:20230219T090000
DTEND;TZID=Europe/Brussels:20230219T090000
END:VEVENT
BEGIN:VEVENT
UID:E5F03216-4619-44A1-A21C-5EA724CB9432-2-58_homereminder@10.badmintonners
 .net
DTSTAMP:20260420T055136Z
SUMMARY:Thuismatch ingevuld? (Herentals 1H (38) - Klein Boom 1H (42))
DESCRIPTION:Je hebt 36 uur na aanvang om een thuismatch op Badmintonvlaande
 ren in te vullen. Match info: Herentals 1H (38) - Klein Boom 1H (42) - Lin
 k: https://www.badmintonvlaanderen.be/sport/teammatch.aspx?id=E5F03216-461
 9-44A1-A21C-5EA724CB9432&match=58
DTSTART;TZID=Europe/Brussels:20230402T090000
DTEND;TZID=Europe/Brussels:20230402T090000
END:VEVENT
BEGIN:VEVENT
UID:E5F03216-4619-44A1-A21C-5EA724CB9432-2-75_awayreminder@10.badmintonners
 .net
DTSTAMP:20260420T055136Z
SUMMARY:Uitmatch bevestigd? (Waverse 1H (41) - Herentals 1H (38))
DESCRIPTION:Je hebt 72 uur na aanvang om een uitmatch op Badmintonvlaandere
 n in te vullen. Match info: Waverse 1H (41) - Herentals 1H (38) - Link: ht
 tps://www.badmintonvlaanderen.be/sport/teammatch.aspx?id=E5F03216-4619-44A
 1-A21C-5EA724CB9432&match=75
DTSTART;TZID=Europe/Brussels:20221005T140000
DTEND;TZID=Europe/Brussels:20221005T140000
END:VEVENT
BEGIN:VEVENT
UID:E5F03216-4619-44A1-A21C-5EA724CB9432-2-73_awayreminder@10.badmintonners
 .net
DTSTAMP:20260420T055136Z
SUMMARY:Uitmatch bevestigd? (Bacss 1H (44) - Herentals 1H (38))
DESCRIPTION:Je hebt 72 uur na aanvang om een uitmatch op Badmintonvlaandere
 n in te vullen. Match info: Bacss 1H (44) - Herentals 1H (38) - Link: http
 s://www.badmintonvlaanderen.be/sport/teammatch.aspx?id=E5F03216-4619-44A1-
 A21C-5EA724CB9432&match=73
DTSTART;TZID=Europe/Brussels:20221212T201500
DTEND;TZID=Europe/Brussels:20221212T201500
END:VEVENT
BEGIN:VEVENT
UID:E5F03216-4619-44A1-A21C-5EA724CB9432-2-71_awayreminder@10.badmintonners
 .net
DTSTAMP:20260420T055136Z
SUMMARY:Uitmatch bevestigd? (Klein Boom 1H (42) - Herentals 1H (38))
DESCRIPTION:Je hebt 72 uur na aanvang om een uitmatch op Badmintonvlaandere
 n in te vullen. Match info: Klein Boom 1H (42) - Herentals 1H (38) - Link:
  https://www.badmintonvlaanderen.be/sport/teammatch.aspx?id=E5F03216-4619-
 44A1-A21C-5EA724CB9432&match=71
DTSTART;TZID=Europe/Brussels:20221222T200000
DTEND;TZID=Europe/Brussels:20221222T200000
END:VEVENT
BEGIN:VEVENT
UID:E5F03216-4619-44A1-A21C-5EA724CB9432-2-72_awayreminder@10.badmintonners
 .net
DTSTAMP:20260420T055136Z
SUMMARY:Uitmatch bevestigd? (Rita Serveert 1H (42) - Herentals 1H (38))
DESCRIPTION:Je hebt 72 uur na aanvang om een uitmatch op Badmintonvlaandere
 n in te vullen. Match info: Rita Serveert 1H (42) - Herentals 1H (38) - Li
 nk: https://www.badmintonvlaanderen.be/sport/teammatch.aspx?id=E5F03216-46
 19-44A1-A21C-5EA724CB9432&match=72
DTSTART;TZID=Europe/Brussels:20230208T190000
DTEND;TZID=Europe/Brussels:20230208T190000
END:VEVENT
BEGIN:VEVENT
UID:E5F03216-4619-44A1-A21C-5EA724CB9432-2-74_awayreminder@10.badmintonners
 .net
DTSTAMP:20260420T055136Z
SUMMARY:Uitmatch bevestigd? (De Nekker 2H (38) - Herentals 1H (38))
DESCRIPTION:Je hebt 72 uur na aanvang om een uitmatch op Badmintonvlaandere
 n in te vullen. Match info: De Nekker 2H (38) - Herentals 1H (38) - Link: 
 https://www.badmintonvlaanderen.be/sport/teammatch.aspx?id=E5F03216-4619-4
 4A1-A21C-5EA724CB9432&match=74
DTSTART;TZID=Europe/Brussels:20230325T203000
DTEND;TZID=Europe/Brussels:20230325T203000
END:VEVENT
END:VCALENDAR