BEGIN:VCALENDAR
VERSION:2.0
PRODID:spatie/icalendar-generator
NAME:waverse_1h_41_reminders
X-WR-CALNAME:waverse_1h_41_reminders
BEGIN:VTIMEZONE
TZID:Europe/Brussels
BEGIN:DAYLIGHT
DTSTART:20220327T010000
TZOFFSETFROM:+0100
TZOFFSETTO:+0200
END:DAYLIGHT
BEGIN:STANDARD
DTSTART:20221030T030000
TZOFFSETFROM:+0200
TZOFFSETTO:+0100
END:STANDARD
BEGIN:DAYLIGHT
DTSTART:20230326T010000
TZOFFSETFROM:+0100
TZOFFSETTO:+0200
END:DAYLIGHT
BEGIN:STANDARD
DTSTART:20231029T030000
TZOFFSETFROM:+0200
TZOFFSETTO:+0100
END:STANDARD
END:VTIMEZONE
BEGIN:VTIMEZONE
TZID:UTC
BEGIN:STANDARD
DTSTART:20250724T055144
TZOFFSETFROM:+0000
TZOFFSETTO:+0000
END:STANDARD
END:VTIMEZONE
BEGIN:VEVENT
UID:E5F03216-4619-44A1-A21C-5EA724CB9432-2-75_homereminder@4.badmintonners.
 net
DTSTAMP:20260420T055144Z
SUMMARY:Thuismatch ingevuld? (Waverse 1H (41) - Herentals 1H (38))
DESCRIPTION:Je hebt 36 uur na aanvang om een thuismatch op Badmintonvlaande
 ren in te vullen. Match info: Waverse 1H (41) - Herentals 1H (38) - Link: 
 https://www.badmintonvlaanderen.be/sport/teammatch.aspx?id=E5F03216-4619-4
 4A1-A21C-5EA724CB9432&match=75
DTSTART;TZID=Europe/Brussels:20221004T020000
DTEND;TZID=Europe/Brussels:20221004T020000
END:VEVENT
BEGIN:VEVENT
UID:E5F03216-4619-44A1-A21C-5EA724CB9432-2-80_homereminder@4.badmintonners.
 net
DTSTAMP:20260420T055144Z
SUMMARY:Thuismatch ingevuld? (Waverse 1H (41) - De Nekker 2H (38))
DESCRIPTION:Je hebt 36 uur na aanvang om een thuismatch op Badmintonvlaande
 ren in te vullen. Match info: Waverse 1H (41) - De Nekker 2H (38) - Link: 
 https://www.badmintonvlaanderen.be/sport/teammatch.aspx?id=E5F03216-4619-4
 4A1-A21C-5EA724CB9432&match=80
DTSTART;TZID=Europe/Brussels:20221101T020000
DTEND;TZID=Europe/Brussels:20221101T020000
END:VEVENT
BEGIN:VEVENT
UID:E5F03216-4619-44A1-A21C-5EA724CB9432-2-60_homereminder@4.badmintonners.
 net
DTSTAMP:20260420T055144Z
SUMMARY:Thuismatch ingevuld? (Waverse 1H (41) - Klein Boom 1H (42))
DESCRIPTION:Je hebt 36 uur na aanvang om een thuismatch op Badmintonvlaande
 ren in te vullen. Match info: Waverse 1H (41) - Klein Boom 1H (42) - Link:
  https://www.badmintonvlaanderen.be/sport/teammatch.aspx?id=E5F03216-4619-
 44A1-A21C-5EA724CB9432&match=60
DTSTART;TZID=Europe/Brussels:20221129T020000
DTEND;TZID=Europe/Brussels:20221129T020000
END:VEVENT
BEGIN:VEVENT
UID:E5F03216-4619-44A1-A21C-5EA724CB9432-2-65_homereminder@4.badmintonners.
 net
DTSTAMP:20260420T055144Z
SUMMARY:Thuismatch ingevuld? (Waverse 1H (41) - Rita Serveert 1H (42))
DESCRIPTION:Je hebt 36 uur na aanvang om een thuismatch op Badmintonvlaande
 ren in te vullen. Match info: Waverse 1H (41) - Rita Serveert 1H (42) - Li
 nk: https://www.badmintonvlaanderen.be/sport/teammatch.aspx?id=E5F03216-46
 19-44A1-A21C-5EA724CB9432&match=65
DTSTART;TZID=Europe/Brussels:20230307T020000
DTEND;TZID=Europe/Brussels:20230307T020000
END:VEVENT
BEGIN:VEVENT
UID:E5F03216-4619-44A1-A21C-5EA724CB9432-2-70_homereminder@4.badmintonners.
 net
DTSTAMP:20260420T055144Z
SUMMARY:Thuismatch ingevuld? (Waverse 1H (41) - Bacss 1H (44))
DESCRIPTION:Je hebt 36 uur na aanvang om een thuismatch op Badmintonvlaande
 ren in te vullen. Match info: Waverse 1H (41) - Bacss 1H (44) - Link: http
 s://www.badmintonvlaanderen.be/sport/teammatch.aspx?id=E5F03216-4619-44A1-
 A21C-5EA724CB9432&match=70
DTSTART;TZID=Europe/Brussels:20230502T020000
DTEND;TZID=Europe/Brussels:20230502T020000
END:VEVENT
BEGIN:VEVENT
UID:E5F03216-4619-44A1-A21C-5EA724CB9432-2-83_awayreminder@4.badmintonners.
 net
DTSTAMP:20260420T055144Z
SUMMARY:Uitmatch bevestigd? (Bacss 1H (44) - Waverse 1H (41))
DESCRIPTION:Je hebt 72 uur na aanvang om een uitmatch op Badmintonvlaandere
 n in te vullen. Match info: Bacss 1H (44) - Waverse 1H (41) - Link: https:
 //www.badmintonvlaanderen.be/sport/teammatch.aspx?id=E5F03216-4619-44A1-A2
 1C-5EA724CB9432&match=83
DTSTART;TZID=Europe/Brussels:20221017T201500
DTEND;TZID=Europe/Brussels:20221017T201500
END:VEVENT
BEGIN:VEVENT
UID:E5F03216-4619-44A1-A21C-5EA724CB9432-2-82_awayreminder@4.badmintonners.
 net
DTSTAMP:20260420T055144Z
SUMMARY:Uitmatch bevestigd? (Rita Serveert 1H (42) - Waverse 1H (41))
DESCRIPTION:Je hebt 72 uur na aanvang om een uitmatch op Badmintonvlaandere
 n in te vullen. Match info: Rita Serveert 1H (42) - Waverse 1H (41) - Link
 : https://www.badmintonvlaanderen.be/sport/teammatch.aspx?id=E5F03216-4619
 -44A1-A21C-5EA724CB9432&match=82
DTSTART;TZID=Europe/Brussels:20221214T190000
DTEND;TZID=Europe/Brussels:20221214T190000
END:VEVENT
BEGIN:VEVENT
UID:E5F03216-4619-44A1-A21C-5EA724CB9432-2-84_awayreminder@4.badmintonners.
 net
DTSTAMP:20260420T055144Z
SUMMARY:Uitmatch bevestigd? (Herentals 1H (38) - Waverse 1H (41))
DESCRIPTION:Je hebt 72 uur na aanvang om een uitmatch op Badmintonvlaandere
 n in te vullen. Match info: Herentals 1H (38) - Waverse 1H (41) - Link: ht
 tps://www.badmintonvlaanderen.be/sport/teammatch.aspx?id=E5F03216-4619-44A
 1-A21C-5EA724CB9432&match=84
DTSTART;TZID=Europe/Brussels:20230220T210000
DTEND;TZID=Europe/Brussels:20230220T210000
END:VEVENT
BEGIN:VEVENT
UID:E5F03216-4619-44A1-A21C-5EA724CB9432-2-81_awayreminder@4.badmintonners.
 net
DTSTAMP:20260420T055144Z
SUMMARY:Uitmatch bevestigd? (Klein Boom 1H (42) - Waverse 1H (41))
DESCRIPTION:Je hebt 72 uur na aanvang om een uitmatch op Badmintonvlaandere
 n in te vullen. Match info: Klein Boom 1H (42) - Waverse 1H (41) - Link: h
 ttps://www.badmintonvlaanderen.be/sport/teammatch.aspx?id=E5F03216-4619-44
 A1-A21C-5EA724CB9432&match=81
DTSTART;TZID=Europe/Brussels:20230405T190000
DTEND;TZID=Europe/Brussels:20230405T190000
END:VEVENT
BEGIN:VEVENT
UID:E5F03216-4619-44A1-A21C-5EA724CB9432-2-85_awayreminder@4.badmintonners.
 net
DTSTAMP:20260420T055144Z
SUMMARY:Uitmatch bevestigd? (De Nekker 2H (38) - Waverse 1H (41))
DESCRIPTION:Je hebt 72 uur na aanvang om een uitmatch op Badmintonvlaandere
 n in te vullen. Match info: De Nekker 2H (38) - Waverse 1H (41) - Link: ht
 tps://www.badmintonvlaanderen.be/sport/teammatch.aspx?id=E5F03216-4619-44A
 1-A21C-5EA724CB9432&match=85
DTSTART;TZID=Europe/Brussels:20230422T203000
DTEND;TZID=Europe/Brussels:20230422T203000
END:VEVENT
END:VCALENDAR