BEGIN:VCALENDAR
VERSION:2.0
PRODID:spatie/icalendar-generator
NAME:rita_serveert_1h_42_reminders
X-WR-CALNAME:rita_serveert_1h_42_reminders
BEGIN:VTIMEZONE
TZID:Europe/Brussels
BEGIN:DAYLIGHT
DTSTART:20220327T010000
TZOFFSETFROM:+0100
TZOFFSETTO:+0200
END:DAYLIGHT
BEGIN:STANDARD
DTSTART:20221030T030000
TZOFFSETFROM:+0200
TZOFFSETTO:+0100
END:STANDARD
BEGIN:DAYLIGHT
DTSTART:20230326T010000
TZOFFSETFROM:+0100
TZOFFSETTO:+0200
END:DAYLIGHT
END:VTIMEZONE
BEGIN:VTIMEZONE
TZID:UTC
BEGIN:STANDARD
DTSTART:20250724T055141
TZOFFSETFROM:+0000
TZOFFSETTO:+0000
END:STANDARD
END:VTIMEZONE
BEGIN:VEVENT
UID:E5F03216-4619-44A1-A21C-5EA724CB9432-2-77_homereminder@6.badmintonners.
 net
DTSTAMP:20260420T055141Z
SUMMARY:Thuismatch ingevuld? (Rita Serveert 1H (42) - De Nekker 2H (38))
DESCRIPTION:Je hebt 36 uur na aanvang om een thuismatch op Badmintonvlaande
 ren in te vullen. Match info: Rita Serveert 1H (42) - De Nekker 2H (38) - 
 Link: https://www.badmintonvlaanderen.be/sport/teammatch.aspx?id=E5F03216-
 4619-44A1-A21C-5EA724CB9432&match=77
DTSTART;TZID=Europe/Brussels:20221025T070000
DTEND;TZID=Europe/Brussels:20221025T070000
END:VEVENT
BEGIN:VEVENT
UID:E5F03216-4619-44A1-A21C-5EA724CB9432-2-67_homereminder@6.badmintonners.
 net
DTSTAMP:20260420T055141Z
SUMMARY:Thuismatch ingevuld? (Rita Serveert 1H (42) - Bacss 1H (44))
DESCRIPTION:Je hebt 36 uur na aanvang om een thuismatch op Badmintonvlaande
 ren in te vullen. Match info: Rita Serveert 1H (42) - Bacss 1H (44) - Link
 : https://www.badmintonvlaanderen.be/sport/teammatch.aspx?id=E5F03216-4619
 -44A1-A21C-5EA724CB9432&match=67
DTSTART;TZID=Europe/Brussels:20221129T070000
DTEND;TZID=Europe/Brussels:20221129T070000
END:VEVENT
BEGIN:VEVENT
UID:E5F03216-4619-44A1-A21C-5EA724CB9432-2-82_homereminder@6.badmintonners.
 net
DTSTAMP:20260420T055141Z
SUMMARY:Thuismatch ingevuld? (Rita Serveert 1H (42) - Waverse 1H (41))
DESCRIPTION:Je hebt 36 uur na aanvang om een thuismatch op Badmintonvlaande
 ren in te vullen. Match info: Rita Serveert 1H (42) - Waverse 1H (41) - Li
 nk: https://www.badmintonvlaanderen.be/sport/teammatch.aspx?id=E5F03216-46
 19-44A1-A21C-5EA724CB9432&match=82
DTSTART;TZID=Europe/Brussels:20221213T070000
DTEND;TZID=Europe/Brussels:20221213T070000
END:VEVENT
BEGIN:VEVENT
UID:E5F03216-4619-44A1-A21C-5EA724CB9432-2-56_homereminder@6.badmintonners.
 net
DTSTAMP:20260420T055141Z
SUMMARY:Thuismatch ingevuld? (Rita Serveert 1H (42) - Klein Boom 1H (42))
DESCRIPTION:Je hebt 36 uur na aanvang om een thuismatch op Badmintonvlaande
 ren in te vullen. Match info: Rita Serveert 1H (42) - Klein Boom 1H (42) -
  Link: https://www.badmintonvlaanderen.be/sport/teammatch.aspx?id=E5F03216
 -4619-44A1-A21C-5EA724CB9432&match=56
DTSTART;TZID=Europe/Brussels:20230124T070000
DTEND;TZID=Europe/Brussels:20230124T070000
END:VEVENT
BEGIN:VEVENT
UID:E5F03216-4619-44A1-A21C-5EA724CB9432-2-72_homereminder@6.badmintonners.
 net
DTSTAMP:20260420T055141Z
SUMMARY:Thuismatch ingevuld? (Rita Serveert 1H (42) - Herentals 1H (38))
DESCRIPTION:Je hebt 36 uur na aanvang om een thuismatch op Badmintonvlaande
 ren in te vullen. Match info: Rita Serveert 1H (42) - Herentals 1H (38) - 
 Link: https://www.badmintonvlaanderen.be/sport/teammatch.aspx?id=E5F03216-
 4619-44A1-A21C-5EA724CB9432&match=72
DTSTART;TZID=Europe/Brussels:20230207T070000
DTEND;TZID=Europe/Brussels:20230207T070000
END:VEVENT
BEGIN:VEVENT
UID:E5F03216-4619-44A1-A21C-5EA724CB9432-2-61_awayreminder@6.badmintonners.
 net
DTSTAMP:20260420T055141Z
SUMMARY:Uitmatch bevestigd? (Klein Boom 1H (42) - Rita Serveert 1H (42))
DESCRIPTION:Je hebt 72 uur na aanvang om een uitmatch op Badmintonvlaandere
 n in te vullen. Match info: Klein Boom 1H (42) - Rita Serveert 1H (42) - L
 ink: https://www.badmintonvlaanderen.be/sport/teammatch.aspx?id=E5F03216-4
 619-44A1-A21C-5EA724CB9432&match=61
DTSTART;TZID=Europe/Brussels:20221005T190000
DTEND;TZID=Europe/Brussels:20221005T190000
END:VEVENT
BEGIN:VEVENT
UID:E5F03216-4619-44A1-A21C-5EA724CB9432-2-63_awayreminder@6.badmintonners.
 net
DTSTAMP:20260420T055141Z
SUMMARY:Uitmatch bevestigd? (Herentals 1H (38) - Rita Serveert 1H (42))
DESCRIPTION:Je hebt 72 uur na aanvang om een uitmatch op Badmintonvlaandere
 n in te vullen. Match info: Herentals 1H (38) - Rita Serveert 1H (42) - Li
 nk: https://www.badmintonvlaanderen.be/sport/teammatch.aspx?id=E5F03216-46
 19-44A1-A21C-5EA724CB9432&match=63
DTSTART;TZID=Europe/Brussels:20221128T210000
DTEND;TZID=Europe/Brussels:20221128T210000
END:VEVENT
BEGIN:VEVENT
UID:E5F03216-4619-44A1-A21C-5EA724CB9432-2-62_awayreminder@6.badmintonners.
 net
DTSTAMP:20260420T055141Z
SUMMARY:Uitmatch bevestigd? (Bacss 1H (44) - Rita Serveert 1H (42))
DESCRIPTION:Je hebt 72 uur na aanvang om een uitmatch op Badmintonvlaandere
 n in te vullen. Match info: Bacss 1H (44) - Rita Serveert 1H (42) - Link: 
 https://www.badmintonvlaanderen.be/sport/teammatch.aspx?id=E5F03216-4619-4
 4A1-A21C-5EA724CB9432&match=62
DTSTART;TZID=Europe/Brussels:20230116T201500
DTEND;TZID=Europe/Brussels:20230116T201500
END:VEVENT
BEGIN:VEVENT
UID:E5F03216-4619-44A1-A21C-5EA724CB9432-2-64_awayreminder@6.badmintonners.
 net
DTSTAMP:20260420T055141Z
SUMMARY:Uitmatch bevestigd? (De Nekker 2H (38) - Rita Serveert 1H (42))
DESCRIPTION:Je hebt 72 uur na aanvang om een uitmatch op Badmintonvlaandere
 n in te vullen. Match info: De Nekker 2H (38) - Rita Serveert 1H (42) - Li
 nk: https://www.badmintonvlaanderen.be/sport/teammatch.aspx?id=E5F03216-46
 19-44A1-A21C-5EA724CB9432&match=64
DTSTART;TZID=Europe/Brussels:20230121T203000
DTEND;TZID=Europe/Brussels:20230121T203000
END:VEVENT
BEGIN:VEVENT
UID:E5F03216-4619-44A1-A21C-5EA724CB9432-2-65_awayreminder@6.badmintonners.
 net
DTSTAMP:20260420T055141Z
SUMMARY:Uitmatch bevestigd? (Waverse 1H (41) - Rita Serveert 1H (42))
DESCRIPTION:Je hebt 72 uur na aanvang om een uitmatch op Badmintonvlaandere
 n in te vullen. Match info: Waverse 1H (41) - Rita Serveert 1H (42) - Link
 : https://www.badmintonvlaanderen.be/sport/teammatch.aspx?id=E5F03216-4619
 -44A1-A21C-5EA724CB9432&match=65
DTSTART;TZID=Europe/Brussels:20230308T140000
DTEND;TZID=Europe/Brussels:20230308T140000
END:VEVENT
END:VCALENDAR