BEGIN:VCALENDAR
VERSION:2.0
PRODID:spatie/icalendar-generator
NAME:klein_boom_1h_42_reminders
X-WR-CALNAME:klein_boom_1h_42_reminders
BEGIN:VTIMEZONE
TZID:Europe/Brussels
BEGIN:DAYLIGHT
DTSTART:20220327T010000
TZOFFSETFROM:+0100
TZOFFSETTO:+0200
END:DAYLIGHT
BEGIN:STANDARD
DTSTART:20221030T030000
TZOFFSETFROM:+0200
TZOFFSETTO:+0100
END:STANDARD
BEGIN:DAYLIGHT
DTSTART:20230326T010000
TZOFFSETFROM:+0100
TZOFFSETTO:+0200
END:DAYLIGHT
END:VTIMEZONE
BEGIN:VTIMEZONE
TZID:UTC
BEGIN:STANDARD
DTSTART:20250724T055144
TZOFFSETFROM:+0000
TZOFFSETTO:+0000
END:STANDARD
END:VTIMEZONE
BEGIN:VEVENT
UID:E5F03216-4619-44A1-A21C-5EA724CB9432-2-61_homereminder@7.badmintonners.
 net
DTSTAMP:20260420T055144Z
SUMMARY:Thuismatch ingevuld? (Klein Boom 1H (42) - Rita Serveert 1H (42))
DESCRIPTION:Je hebt 36 uur na aanvang om een thuismatch op Badmintonvlaande
 ren in te vullen. Match info: Klein Boom 1H (42) - Rita Serveert 1H (42) -
  Link: https://www.badmintonvlaanderen.be/sport/teammatch.aspx?id=E5F03216
 -4619-44A1-A21C-5EA724CB9432&match=61
DTSTART;TZID=Europe/Brussels:20221004T070000
DTEND;TZID=Europe/Brussels:20221004T070000
END:VEVENT
BEGIN:VEVENT
UID:E5F03216-4619-44A1-A21C-5EA724CB9432-2-71_homereminder@7.badmintonners.
 net
DTSTAMP:20260420T055144Z
SUMMARY:Thuismatch ingevuld? (Klein Boom 1H (42) - Herentals 1H (38))
DESCRIPTION:Je hebt 36 uur na aanvang om een thuismatch op Badmintonvlaande
 ren in te vullen. Match info: Klein Boom 1H (42) - Herentals 1H (38) - Lin
 k: https://www.badmintonvlaanderen.be/sport/teammatch.aspx?id=E5F03216-461
 9-44A1-A21C-5EA724CB9432&match=71
DTSTART;TZID=Europe/Brussels:20221221T080000
DTEND;TZID=Europe/Brussels:20221221T080000
END:VEVENT
BEGIN:VEVENT
UID:E5F03216-4619-44A1-A21C-5EA724CB9432-2-66_homereminder@7.badmintonners.
 net
DTSTAMP:20260420T055144Z
SUMMARY:Thuismatch ingevuld? (Klein Boom 1H (42) - Bacss 1H (44))
DESCRIPTION:Je hebt 36 uur na aanvang om een thuismatch op Badmintonvlaande
 ren in te vullen. Match info: Klein Boom 1H (42) - Bacss 1H (44) - Link: h
 ttps://www.badmintonvlaanderen.be/sport/teammatch.aspx?id=E5F03216-4619-44
 A1-A21C-5EA724CB9432&match=66
DTSTART;TZID=Europe/Brussels:20230307T070000
DTEND;TZID=Europe/Brussels:20230307T070000
END:VEVENT
BEGIN:VEVENT
UID:E5F03216-4619-44A1-A21C-5EA724CB9432-2-76_homereminder@7.badmintonners.
 net
DTSTAMP:20260420T055144Z
SUMMARY:Thuismatch ingevuld? (Klein Boom 1H (42) - De Nekker 2H (38))
DESCRIPTION:Je hebt 36 uur na aanvang om een thuismatch op Badmintonvlaande
 ren in te vullen. Match info: Klein Boom 1H (42) - De Nekker 2H (38) - Lin
 k: https://www.badmintonvlaanderen.be/sport/teammatch.aspx?id=E5F03216-461
 9-44A1-A21C-5EA724CB9432&match=76
DTSTART;TZID=Europe/Brussels:20230328T070000
DTEND;TZID=Europe/Brussels:20230328T070000
END:VEVENT
BEGIN:VEVENT
UID:E5F03216-4619-44A1-A21C-5EA724CB9432-2-81_homereminder@7.badmintonners.
 net
DTSTAMP:20260420T055144Z
SUMMARY:Thuismatch ingevuld? (Klein Boom 1H (42) - Waverse 1H (41))
DESCRIPTION:Je hebt 36 uur na aanvang om een thuismatch op Badmintonvlaande
 ren in te vullen. Match info: Klein Boom 1H (42) - Waverse 1H (41) - Link:
  https://www.badmintonvlaanderen.be/sport/teammatch.aspx?id=E5F03216-4619-
 44A1-A21C-5EA724CB9432&match=81
DTSTART;TZID=Europe/Brussels:20230404T070000
DTEND;TZID=Europe/Brussels:20230404T070000
END:VEVENT
BEGIN:VEVENT
UID:E5F03216-4619-44A1-A21C-5EA724CB9432-2-57_awayreminder@7.badmintonners.
 net
DTSTAMP:20260420T055144Z
SUMMARY:Uitmatch bevestigd? (Bacss 1H (44) - Klein Boom 1H (42))
DESCRIPTION:Je hebt 72 uur na aanvang om een uitmatch op Badmintonvlaandere
 n in te vullen. Match info: Bacss 1H (44) - Klein Boom 1H (42) - Link: htt
 ps://www.badmintonvlaanderen.be/sport/teammatch.aspx?id=E5F03216-4619-44A1
 -A21C-5EA724CB9432&match=57
DTSTART;TZID=Europe/Brussels:20220919T201500
DTEND;TZID=Europe/Brussels:20220919T201500
END:VEVENT
BEGIN:VEVENT
UID:E5F03216-4619-44A1-A21C-5EA724CB9432-2-60_awayreminder@7.badmintonners.
 net
DTSTAMP:20260420T055144Z
SUMMARY:Uitmatch bevestigd? (Waverse 1H (41) - Klein Boom 1H (42))
DESCRIPTION:Je hebt 72 uur na aanvang om een uitmatch op Badmintonvlaandere
 n in te vullen. Match info: Waverse 1H (41) - Klein Boom 1H (42) - Link: h
 ttps://www.badmintonvlaanderen.be/sport/teammatch.aspx?id=E5F03216-4619-44
 A1-A21C-5EA724CB9432&match=60
DTSTART;TZID=Europe/Brussels:20221130T140000
DTEND;TZID=Europe/Brussels:20221130T140000
END:VEVENT
BEGIN:VEVENT
UID:E5F03216-4619-44A1-A21C-5EA724CB9432-2-59_awayreminder@7.badmintonners.
 net
DTSTAMP:20260420T055144Z
SUMMARY:Uitmatch bevestigd? (De Nekker 2H (38) - Klein Boom 1H (42))
DESCRIPTION:Je hebt 72 uur na aanvang om een uitmatch op Badmintonvlaandere
 n in te vullen. Match info: De Nekker 2H (38) - Klein Boom 1H (42) - Link:
  https://www.badmintonvlaanderen.be/sport/teammatch.aspx?id=E5F03216-4619-
 44A1-A21C-5EA724CB9432&match=59
DTSTART;TZID=Europe/Brussels:20221210T203000
DTEND;TZID=Europe/Brussels:20221210T203000
END:VEVENT
BEGIN:VEVENT
UID:E5F03216-4619-44A1-A21C-5EA724CB9432-2-56_awayreminder@7.badmintonners.
 net
DTSTAMP:20260420T055144Z
SUMMARY:Uitmatch bevestigd? (Rita Serveert 1H (42) - Klein Boom 1H (42))
DESCRIPTION:Je hebt 72 uur na aanvang om een uitmatch op Badmintonvlaandere
 n in te vullen. Match info: Rita Serveert 1H (42) - Klein Boom 1H (42) - L
 ink: https://www.badmintonvlaanderen.be/sport/teammatch.aspx?id=E5F03216-4
 619-44A1-A21C-5EA724CB9432&match=56
DTSTART;TZID=Europe/Brussels:20230125T190000
DTEND;TZID=Europe/Brussels:20230125T190000
END:VEVENT
BEGIN:VEVENT
UID:E5F03216-4619-44A1-A21C-5EA724CB9432-2-58_awayreminder@7.badmintonners.
 net
DTSTAMP:20260420T055144Z
SUMMARY:Uitmatch bevestigd? (Herentals 1H (38) - Klein Boom 1H (42))
DESCRIPTION:Je hebt 72 uur na aanvang om een uitmatch op Badmintonvlaandere
 n in te vullen. Match info: Herentals 1H (38) - Klein Boom 1H (42) - Link:
  https://www.badmintonvlaanderen.be/sport/teammatch.aspx?id=E5F03216-4619-
 44A1-A21C-5EA724CB9432&match=58
DTSTART;TZID=Europe/Brussels:20230403T210000
DTEND;TZID=Europe/Brussels:20230403T210000
END:VEVENT
END:VCALENDAR