BEGIN:VCALENDAR
VERSION:2.0
PRODID:spatie/icalendar-generator
NAME:brasschaat_4g_74_reminders
X-WR-CALNAME:brasschaat_4g_74_reminders
BEGIN:VTIMEZONE
TZID:Europe/Brussels
BEGIN:DAYLIGHT
DTSTART:20220327T010000
TZOFFSETFROM:+0100
TZOFFSETTO:+0200
END:DAYLIGHT
BEGIN:STANDARD
DTSTART:20221030T030000
TZOFFSETFROM:+0200
TZOFFSETTO:+0100
END:STANDARD
BEGIN:DAYLIGHT
DTSTART:20230326T010000
TZOFFSETFROM:+0100
TZOFFSETTO:+0200
END:DAYLIGHT
END:VTIMEZONE
BEGIN:VTIMEZONE
TZID:UTC
BEGIN:STANDARD
DTSTART:20250724T055152
TZOFFSETFROM:+0000
TZOFFSETTO:+0000
END:STANDARD
END:VTIMEZONE
BEGIN:VEVENT
UID:E5F03216-4619-44A1-A21C-5EA724CB9432-21-901_homereminder@15.badmintonne
 rs.net
DTSTAMP:20260420T055152Z
SUMMARY:Thuismatch ingevuld? (Brasschaat 4G (74) - Rijkerack 1G (73))
DESCRIPTION:Je hebt 36 uur na aanvang om een thuismatch op Badmintonvlaande
 ren in te vullen. Match info: Brasschaat 4G (74) - Rijkerack 1G (73) - Lin
 k: https://www.badmintonvlaanderen.be/sport/teammatch.aspx?id=E5F03216-461
 9-44A1-A21C-5EA724CB9432&match=901
DTSTART;TZID=Europe/Brussels:20220927T070000
DTEND;TZID=Europe/Brussels:20220927T070000
END:VEVENT
BEGIN:VEVENT
UID:E5F03216-4619-44A1-A21C-5EA724CB9432-21-881_homereminder@15.badmintonne
 rs.net
DTSTAMP:20260420T055152Z
SUMMARY:Thuismatch ingevuld? (Brasschaat 4G (74) - Beerke 1G (59))
DESCRIPTION:Je hebt 36 uur na aanvang om een thuismatch op Badmintonvlaande
 ren in te vullen. Match info: Brasschaat 4G (74) - Beerke 1G (59) - Link: 
 https://www.badmintonvlaanderen.be/sport/teammatch.aspx?id=E5F03216-4619-4
 4A1-A21C-5EA724CB9432&match=881
DTSTART;TZID=Europe/Brussels:20221025T070000
DTEND;TZID=Europe/Brussels:20221025T070000
END:VEVENT
BEGIN:VEVENT
UID:E5F03216-4619-44A1-A21C-5EA724CB9432-21-891_homereminder@15.badmintonne
 rs.net
DTSTAMP:20260420T055152Z
SUMMARY:Thuismatch ingevuld? (Brasschaat 4G (74) - Klein Boom 2G (73))
DESCRIPTION:Je hebt 36 uur na aanvang om een thuismatch op Badmintonvlaande
 ren in te vullen. Match info: Brasschaat 4G (74) - Klein Boom 2G (73) - Li
 nk: https://www.badmintonvlaanderen.be/sport/teammatch.aspx?id=E5F03216-46
 19-44A1-A21C-5EA724CB9432&match=891
DTSTART;TZID=Europe/Brussels:20221206T070000
DTEND;TZID=Europe/Brussels:20221206T070000
END:VEVENT
BEGIN:VEVENT
UID:E5F03216-4619-44A1-A21C-5EA724CB9432-21-896_homereminder@15.badmintonne
 rs.net
DTSTAMP:20260420T055152Z
SUMMARY:Thuismatch ingevuld? (Brasschaat 4G (74) - Turnhout 1G (60))
DESCRIPTION:Je hebt 36 uur na aanvang om een thuismatch op Badmintonvlaande
 ren in te vullen. Match info: Brasschaat 4G (74) - Turnhout 1G (60) - Link
 : https://www.badmintonvlaanderen.be/sport/teammatch.aspx?id=E5F03216-4619
 -44A1-A21C-5EA724CB9432&match=896
DTSTART;TZID=Europe/Brussels:20230131T070000
DTEND;TZID=Europe/Brussels:20230131T070000
END:VEVENT
BEGIN:VEVENT
UID:E5F03216-4619-44A1-A21C-5EA724CB9432-21-886_homereminder@15.badmintonne
 rs.net
DTSTAMP:20260420T055152Z
SUMMARY:Thuismatch ingevuld? (Brasschaat 4G (74) - De Klamp 2G (69))
DESCRIPTION:Je hebt 36 uur na aanvang om een thuismatch op Badmintonvlaande
 ren in te vullen. Match info: Brasschaat 4G (74) - De Klamp 2G (69) - Link
 : https://www.badmintonvlaanderen.be/sport/teammatch.aspx?id=E5F03216-4619
 -44A1-A21C-5EA724CB9432&match=886
DTSTART;TZID=Europe/Brussels:20230228T070000
DTEND;TZID=Europe/Brussels:20230228T070000
END:VEVENT
BEGIN:VEVENT
UID:E5F03216-4619-44A1-A21C-5EA724CB9432-21-877_awayreminder@15.badmintonne
 rs.net
DTSTAMP:20260420T055152Z
SUMMARY:Uitmatch bevestigd? (De Klamp 2G (69) - Brasschaat 4G (74))
DESCRIPTION:Je hebt 72 uur na aanvang om een uitmatch op Badmintonvlaandere
 n in te vullen. Match info: De Klamp 2G (69) - Brasschaat 4G (74) - Link: 
 https://www.badmintonvlaanderen.be/sport/teammatch.aspx?id=E5F03216-4619-4
 4A1-A21C-5EA724CB9432&match=877
DTSTART;TZID=Europe/Brussels:20221123T181500
DTEND;TZID=Europe/Brussels:20221123T181500
END:VEVENT
BEGIN:VEVENT
UID:E5F03216-4619-44A1-A21C-5EA724CB9432-21-879_awayreminder@15.badmintonne
 rs.net
DTSTAMP:20260420T055152Z
SUMMARY:Uitmatch bevestigd? (Turnhout 1G (60) - Brasschaat 4G (74))
DESCRIPTION:Je hebt 72 uur na aanvang om een uitmatch op Badmintonvlaandere
 n in te vullen. Match info: Turnhout 1G (60) - Brasschaat 4G (74) - Link: 
 https://www.badmintonvlaanderen.be/sport/teammatch.aspx?id=E5F03216-4619-4
 4A1-A21C-5EA724CB9432&match=879
DTSTART;TZID=Europe/Brussels:20221214T093000
DTEND;TZID=Europe/Brussels:20221214T093000
END:VEVENT
BEGIN:VEVENT
UID:E5F03216-4619-44A1-A21C-5EA724CB9432-21-878_awayreminder@15.badmintonne
 rs.net
DTSTAMP:20260420T055152Z
SUMMARY:Uitmatch bevestigd? (Klein Boom 2G (73) - Brasschaat 4G (74))
DESCRIPTION:Je hebt 72 uur na aanvang om een uitmatch op Badmintonvlaandere
 n in te vullen. Match info: Klein Boom 2G (73) - Brasschaat 4G (74) - Link
 : https://www.badmintonvlaanderen.be/sport/teammatch.aspx?id=E5F03216-4619
 -44A1-A21C-5EA724CB9432&match=878
DTSTART;TZID=Europe/Brussels:20230112T200000
DTEND;TZID=Europe/Brussels:20230112T200000
END:VEVENT
BEGIN:VEVENT
UID:E5F03216-4619-44A1-A21C-5EA724CB9432-21-880_awayreminder@15.badmintonne
 rs.net
DTSTAMP:20260420T055152Z
SUMMARY:Uitmatch bevestigd? (Rijkerack 1G (73) - Brasschaat 4G (74))
DESCRIPTION:Je hebt 72 uur na aanvang om een uitmatch op Badmintonvlaandere
 n in te vullen. Match info: Rijkerack 1G (73) - Brasschaat 4G (74) - Link:
  https://www.badmintonvlaanderen.be/sport/teammatch.aspx?id=E5F03216-4619-
 44A1-A21C-5EA724CB9432&match=880
DTSTART;TZID=Europe/Brussels:20230118T190000
DTEND;TZID=Europe/Brussels:20230118T190000
END:VEVENT
BEGIN:VEVENT
UID:E5F03216-4619-44A1-A21C-5EA724CB9432-21-876_awayreminder@15.badmintonne
 rs.net
DTSTAMP:20260420T055152Z
SUMMARY:Uitmatch bevestigd? (Beerke 1G (59) - Brasschaat 4G (74))
DESCRIPTION:Je hebt 72 uur na aanvang om een uitmatch op Badmintonvlaandere
 n in te vullen. Match info: Beerke 1G (59) - Brasschaat 4G (74) - Link: ht
 tps://www.badmintonvlaanderen.be/sport/teammatch.aspx?id=E5F03216-4619-44A
 1-A21C-5EA724CB9432&match=876
DTSTART;TZID=Europe/Brussels:20230308T100000
DTEND;TZID=Europe/Brussels:20230308T100000
END:VEVENT
END:VCALENDAR