BEGIN:VCALENDAR
VERSION:2.0
PRODID:spatie/icalendar-generator
NAME:turnhout_1g_60_reminders
X-WR-CALNAME:turnhout_1g_60_reminders
BEGIN:VTIMEZONE
TZID:Europe/Brussels
BEGIN:DAYLIGHT
DTSTART:20220327T010000
TZOFFSETFROM:+0100
TZOFFSETTO:+0200
END:DAYLIGHT
BEGIN:STANDARD
DTSTART:20221030T030000
TZOFFSETFROM:+0200
TZOFFSETTO:+0100
END:STANDARD
BEGIN:DAYLIGHT
DTSTART:20230326T010000
TZOFFSETFROM:+0100
TZOFFSETTO:+0200
END:DAYLIGHT
END:VTIMEZONE
BEGIN:VTIMEZONE
TZID:UTC
BEGIN:STANDARD
DTSTART:20250724T054120
TZOFFSETFROM:+0000
TZOFFSETTO:+0000
END:STANDARD
END:VTIMEZONE
BEGIN:VEVENT
UID:E5F03216-4619-44A1-A21C-5EA724CB9432-21-889_homereminder@16.badmintonne
 rs.net
DTSTAMP:20260420T054120Z
SUMMARY:Thuismatch ingevuld? (Turnhout 1G (60) - De Klamp 2G (69))
DESCRIPTION:Je hebt 36 uur na aanvang om een thuismatch op Badmintonvlaande
 ren in te vullen. Match info: Turnhout 1G (60) - De Klamp 2G (69) - Link: 
 https://www.badmintonvlaanderen.be/sport/teammatch.aspx?id=E5F03216-4619-4
 4A1-A21C-5EA724CB9432&match=889
DTSTART;TZID=Europe/Brussels:20221024T213000
DTEND;TZID=Europe/Brussels:20221024T213000
END:VEVENT
BEGIN:VEVENT
UID:E5F03216-4619-44A1-A21C-5EA724CB9432-21-879_homereminder@16.badmintonne
 rs.net
DTSTAMP:20260420T054120Z
SUMMARY:Thuismatch ingevuld? (Turnhout 1G (60) - Brasschaat 4G (74))
DESCRIPTION:Je hebt 36 uur na aanvang om een thuismatch op Badmintonvlaande
 ren in te vullen. Match info: Turnhout 1G (60) - Brasschaat 4G (74) - Link
 : https://www.badmintonvlaanderen.be/sport/teammatch.aspx?id=E5F03216-4619
 -44A1-A21C-5EA724CB9432&match=879
DTSTART;TZID=Europe/Brussels:20221212T213000
DTEND;TZID=Europe/Brussels:20221212T213000
END:VEVENT
BEGIN:VEVENT
UID:E5F03216-4619-44A1-A21C-5EA724CB9432-21-894_homereminder@16.badmintonne
 rs.net
DTSTAMP:20260420T054120Z
SUMMARY:Thuismatch ingevuld? (Turnhout 1G (60) - Klein Boom 2G (73))
DESCRIPTION:Je hebt 36 uur na aanvang om een thuismatch op Badmintonvlaande
 ren in te vullen. Match info: Turnhout 1G (60) - Klein Boom 2G (73) - Link
 : https://www.badmintonvlaanderen.be/sport/teammatch.aspx?id=E5F03216-4619
 -44A1-A21C-5EA724CB9432&match=894
DTSTART;TZID=Europe/Brussels:20230116T213000
DTEND;TZID=Europe/Brussels:20230116T213000
END:VEVENT
BEGIN:VEVENT
UID:E5F03216-4619-44A1-A21C-5EA724CB9432-21-905_homereminder@16.badmintonne
 rs.net
DTSTAMP:20260420T054120Z
SUMMARY:Thuismatch ingevuld? (Turnhout 1G (60) - Rijkerack 1G (73))
DESCRIPTION:Je hebt 36 uur na aanvang om een thuismatch op Badmintonvlaande
 ren in te vullen. Match info: Turnhout 1G (60) - Rijkerack 1G (73) - Link:
  https://www.badmintonvlaanderen.be/sport/teammatch.aspx?id=E5F03216-4619-
 44A1-A21C-5EA724CB9432&match=905
DTSTART;TZID=Europe/Brussels:20230417T020000
DTEND;TZID=Europe/Brussels:20230417T020000
END:VEVENT
BEGIN:VEVENT
UID:E5F03216-4619-44A1-A21C-5EA724CB9432-21-884_homereminder@16.badmintonne
 rs.net
DTSTAMP:20260420T054120Z
SUMMARY:Thuismatch ingevuld? (Turnhout 1G (60) - Beerke 1G (59))
DESCRIPTION:Je hebt 36 uur na aanvang om een thuismatch op Badmintonvlaande
 ren in te vullen. Match info: Turnhout 1G (60) - Beerke 1G (59) - Link: ht
 tps://www.badmintonvlaanderen.be/sport/teammatch.aspx?id=E5F03216-4619-44A
 1-A21C-5EA724CB9432&match=884
DTSTART;TZID=Europe/Brussels:20230424T213000
DTEND;TZID=Europe/Brussels:20230424T213000
END:VEVENT
BEGIN:VEVENT
UID:E5F03216-4619-44A1-A21C-5EA724CB9432-21-897_awayreminder@16.badmintonne
 rs.net
DTSTAMP:20260420T054120Z
SUMMARY:Uitmatch bevestigd? (Beerke 1G (59) - Turnhout 1G (60))
DESCRIPTION:Je hebt 72 uur na aanvang om een uitmatch op Badmintonvlaandere
 n in te vullen. Match info: Beerke 1G (59) - Turnhout 1G (60) - Link: http
 s://www.badmintonvlaanderen.be/sport/teammatch.aspx?id=E5F03216-4619-44A1-
 A21C-5EA724CB9432&match=897
DTSTART;TZID=Europe/Brussels:20220928T100000
DTEND;TZID=Europe/Brussels:20220928T100000
END:VEVENT
BEGIN:VEVENT
UID:E5F03216-4619-44A1-A21C-5EA724CB9432-21-899_awayreminder@16.badmintonne
 rs.net
DTSTAMP:20260420T054120Z
SUMMARY:Uitmatch bevestigd? (Klein Boom 2G (73) - Turnhout 1G (60))
DESCRIPTION:Je hebt 72 uur na aanvang om een uitmatch op Badmintonvlaandere
 n in te vullen. Match info: Klein Boom 2G (73) - Turnhout 1G (60) - Link: 
 https://www.badmintonvlaanderen.be/sport/teammatch.aspx?id=E5F03216-4619-4
 4A1-A21C-5EA724CB9432&match=899
DTSTART;TZID=Europe/Brussels:20221117T200000
DTEND;TZID=Europe/Brussels:20221117T200000
END:VEVENT
BEGIN:VEVENT
UID:E5F03216-4619-44A1-A21C-5EA724CB9432-21-900_awayreminder@16.badmintonne
 rs.net
DTSTAMP:20260420T054120Z
SUMMARY:Uitmatch bevestigd? (Rijkerack 1G (73) - Turnhout 1G (60))
DESCRIPTION:Je hebt 72 uur na aanvang om een uitmatch op Badmintonvlaandere
 n in te vullen. Match info: Rijkerack 1G (73) - Turnhout 1G (60) - Link: h
 ttps://www.badmintonvlaanderen.be/sport/teammatch.aspx?id=E5F03216-4619-44
 A1-A21C-5EA724CB9432&match=900
DTSTART;TZID=Europe/Brussels:20221207T190000
DTEND;TZID=Europe/Brussels:20221207T190000
END:VEVENT
BEGIN:VEVENT
UID:E5F03216-4619-44A1-A21C-5EA724CB9432-21-896_awayreminder@16.badmintonne
 rs.net
DTSTAMP:20260420T054120Z
SUMMARY:Uitmatch bevestigd? (Brasschaat 4G (74) - Turnhout 1G (60))
DESCRIPTION:Je hebt 72 uur na aanvang om een uitmatch op Badmintonvlaandere
 n in te vullen. Match info: Brasschaat 4G (74) - Turnhout 1G (60) - Link: 
 https://www.badmintonvlaanderen.be/sport/teammatch.aspx?id=E5F03216-4619-4
 4A1-A21C-5EA724CB9432&match=896
DTSTART;TZID=Europe/Brussels:20230201T190000
DTEND;TZID=Europe/Brussels:20230201T190000
END:VEVENT
BEGIN:VEVENT
UID:E5F03216-4619-44A1-A21C-5EA724CB9432-21-898_awayreminder@16.badmintonne
 rs.net
DTSTAMP:20260420T054120Z
SUMMARY:Uitmatch bevestigd? (De Klamp 2G (69) - Turnhout 1G (60))
DESCRIPTION:Je hebt 72 uur na aanvang om een uitmatch op Badmintonvlaandere
 n in te vullen. Match info: De Klamp 2G (69) - Turnhout 1G (60) - Link: ht
 tps://www.badmintonvlaanderen.be/sport/teammatch.aspx?id=E5F03216-4619-44A
 1-A21C-5EA724CB9432&match=898
DTSTART;TZID=Europe/Brussels:20230329T181500
DTEND;TZID=Europe/Brussels:20230329T181500
END:VEVENT
END:VCALENDAR