BEGIN:VCALENDAR
VERSION:2.0
PRODID:spatie/icalendar-generator
NAME:klein_boom_2g_73_reminders
X-WR-CALNAME:klein_boom_2g_73_reminders
BEGIN:VTIMEZONE
TZID:Europe/Brussels
BEGIN:DAYLIGHT
DTSTART:20220327T010000
TZOFFSETFROM:+0100
TZOFFSETTO:+0200
END:DAYLIGHT
BEGIN:STANDARD
DTSTART:20221030T030000
TZOFFSETFROM:+0200
TZOFFSETTO:+0100
END:STANDARD
BEGIN:DAYLIGHT
DTSTART:20230326T010000
TZOFFSETFROM:+0100
TZOFFSETTO:+0200
END:DAYLIGHT
END:VTIMEZONE
BEGIN:VTIMEZONE
TZID:UTC
BEGIN:STANDARD
DTSTART:20250724T054120
TZOFFSETFROM:+0000
TZOFFSETTO:+0000
END:STANDARD
END:VTIMEZONE
BEGIN:VEVENT
UID:E5F03216-4619-44A1-A21C-5EA724CB9432-21-883_homereminder@19.badmintonne
 rs.net
DTSTAMP:20260420T054120Z
SUMMARY:Thuismatch ingevuld? (Klein Boom 2G (73) - Beerke 1G (59))
DESCRIPTION:Je hebt 36 uur na aanvang om een thuismatch op Badmintonvlaande
 ren in te vullen. Match info: Klein Boom 2G (73) - Beerke 1G (59) - Link: 
 https://www.badmintonvlaanderen.be/sport/teammatch.aspx?id=E5F03216-4619-4
 4A1-A21C-5EA724CB9432&match=883
DTSTART;TZID=Europe/Brussels:20221102T080000
DTEND;TZID=Europe/Brussels:20221102T080000
END:VEVENT
BEGIN:VEVENT
UID:E5F03216-4619-44A1-A21C-5EA724CB9432-21-899_homereminder@19.badmintonne
 rs.net
DTSTAMP:20260420T054120Z
SUMMARY:Thuismatch ingevuld? (Klein Boom 2G (73) - Turnhout 1G (60))
DESCRIPTION:Je hebt 36 uur na aanvang om een thuismatch op Badmintonvlaande
 ren in te vullen. Match info: Klein Boom 2G (73) - Turnhout 1G (60) - Link
 : https://www.badmintonvlaanderen.be/sport/teammatch.aspx?id=E5F03216-4619
 -44A1-A21C-5EA724CB9432&match=899
DTSTART;TZID=Europe/Brussels:20221116T080000
DTEND;TZID=Europe/Brussels:20221116T080000
END:VEVENT
BEGIN:VEVENT
UID:E5F03216-4619-44A1-A21C-5EA724CB9432-21-878_homereminder@19.badmintonne
 rs.net
DTSTAMP:20260420T054120Z
SUMMARY:Thuismatch ingevuld? (Klein Boom 2G (73) - Brasschaat 4G (74))
DESCRIPTION:Je hebt 36 uur na aanvang om een thuismatch op Badmintonvlaande
 ren in te vullen. Match info: Klein Boom 2G (73) - Brasschaat 4G (74) - Li
 nk: https://www.badmintonvlaanderen.be/sport/teammatch.aspx?id=E5F03216-46
 19-44A1-A21C-5EA724CB9432&match=878
DTSTART;TZID=Europe/Brussels:20230111T080000
DTEND;TZID=Europe/Brussels:20230111T080000
END:VEVENT
BEGIN:VEVENT
UID:E5F03216-4619-44A1-A21C-5EA724CB9432-21-904_homereminder@19.badmintonne
 rs.net
DTSTAMP:20260420T054120Z
SUMMARY:Thuismatch ingevuld? (Klein Boom 2G (73) - Rijkerack 1G (73))
DESCRIPTION:Je hebt 36 uur na aanvang om een thuismatch op Badmintonvlaande
 ren in te vullen. Match info: Klein Boom 2G (73) - Rijkerack 1G (73) - Lin
 k: https://www.badmintonvlaanderen.be/sport/teammatch.aspx?id=E5F03216-461
 9-44A1-A21C-5EA724CB9432&match=904
DTSTART;TZID=Europe/Brussels:20230322T080000
DTEND;TZID=Europe/Brussels:20230322T080000
END:VEVENT
BEGIN:VEVENT
UID:E5F03216-4619-44A1-A21C-5EA724CB9432-21-888_homereminder@19.badmintonne
 rs.net
DTSTAMP:20260420T054120Z
SUMMARY:Thuismatch ingevuld? (Klein Boom 2G (73) - De Klamp 2G (69))
DESCRIPTION:Je hebt 36 uur na aanvang om een thuismatch op Badmintonvlaande
 ren in te vullen. Match info: Klein Boom 2G (73) - De Klamp 2G (69) - Link
 : https://www.badmintonvlaanderen.be/sport/teammatch.aspx?id=E5F03216-4619
 -44A1-A21C-5EA724CB9432&match=888
DTSTART;TZID=Europe/Brussels:20230419T080000
DTEND;TZID=Europe/Brussels:20230419T080000
END:VEVENT
BEGIN:VEVENT
UID:E5F03216-4619-44A1-A21C-5EA724CB9432-21-893_awayreminder@19.badmintonne
 rs.net
DTSTAMP:20260420T054120Z
SUMMARY:Uitmatch bevestigd? (De Klamp 2G (69) - Klein Boom 2G (73))
DESCRIPTION:Je hebt 72 uur na aanvang om een uitmatch op Badmintonvlaandere
 n in te vullen. Match info: De Klamp 2G (69) - Klein Boom 2G (73) - Link: 
 https://www.badmintonvlaanderen.be/sport/teammatch.aspx?id=E5F03216-4619-4
 4A1-A21C-5EA724CB9432&match=893
DTSTART;TZID=Europe/Brussels:20220928T181500
DTEND;TZID=Europe/Brussels:20220928T181500
END:VEVENT
BEGIN:VEVENT
UID:E5F03216-4619-44A1-A21C-5EA724CB9432-21-895_awayreminder@19.badmintonne
 rs.net
DTSTAMP:20260420T054120Z
SUMMARY:Uitmatch bevestigd? (Rijkerack 1G (73) - Klein Boom 2G (73))
DESCRIPTION:Je hebt 72 uur na aanvang om een uitmatch op Badmintonvlaandere
 n in te vullen. Match info: Rijkerack 1G (73) - Klein Boom 2G (73) - Link:
  https://www.badmintonvlaanderen.be/sport/teammatch.aspx?id=E5F03216-4619-
 44A1-A21C-5EA724CB9432&match=895
DTSTART;TZID=Europe/Brussels:20221109T190000
DTEND;TZID=Europe/Brussels:20221109T190000
END:VEVENT
BEGIN:VEVENT
UID:E5F03216-4619-44A1-A21C-5EA724CB9432-21-891_awayreminder@19.badmintonne
 rs.net
DTSTAMP:20260420T054120Z
SUMMARY:Uitmatch bevestigd? (Brasschaat 4G (74) - Klein Boom 2G (73))
DESCRIPTION:Je hebt 72 uur na aanvang om een uitmatch op Badmintonvlaandere
 n in te vullen. Match info: Brasschaat 4G (74) - Klein Boom 2G (73) - Link
 : https://www.badmintonvlaanderen.be/sport/teammatch.aspx?id=E5F03216-4619
 -44A1-A21C-5EA724CB9432&match=891
DTSTART;TZID=Europe/Brussels:20221207T190000
DTEND;TZID=Europe/Brussels:20221207T190000
END:VEVENT
BEGIN:VEVENT
UID:E5F03216-4619-44A1-A21C-5EA724CB9432-21-894_awayreminder@19.badmintonne
 rs.net
DTSTAMP:20260420T054120Z
SUMMARY:Uitmatch bevestigd? (Turnhout 1G (60) - Klein Boom 2G (73))
DESCRIPTION:Je hebt 72 uur na aanvang om een uitmatch op Badmintonvlaandere
 n in te vullen. Match info: Turnhout 1G (60) - Klein Boom 2G (73) - Link: 
 https://www.badmintonvlaanderen.be/sport/teammatch.aspx?id=E5F03216-4619-4
 4A1-A21C-5EA724CB9432&match=894
DTSTART;TZID=Europe/Brussels:20230118T093000
DTEND;TZID=Europe/Brussels:20230118T093000
END:VEVENT
BEGIN:VEVENT
UID:E5F03216-4619-44A1-A21C-5EA724CB9432-21-892_awayreminder@19.badmintonne
 rs.net
DTSTAMP:20260420T054120Z
SUMMARY:Uitmatch bevestigd? (Beerke 1G (59) - Klein Boom 2G (73))
DESCRIPTION:Je hebt 72 uur na aanvang om een uitmatch op Badmintonvlaandere
 n in te vullen. Match info: Beerke 1G (59) - Klein Boom 2G (73) - Link: ht
 tps://www.badmintonvlaanderen.be/sport/teammatch.aspx?id=E5F03216-4619-44A
 1-A21C-5EA724CB9432&match=892
DTSTART;TZID=Europe/Brussels:20230201T100000
DTEND;TZID=Europe/Brussels:20230201T100000
END:VEVENT
END:VCALENDAR