BEGIN:VCALENDAR
VERSION:2.0
PRODID:spatie/icalendar-generator
NAME:de_klamp_2g_69_reminders
X-WR-CALNAME:de_klamp_2g_69_reminders
BEGIN:VTIMEZONE
TZID:Europe/Brussels
BEGIN:DAYLIGHT
DTSTART:20220327T010000
TZOFFSETFROM:+0100
TZOFFSETTO:+0200
END:DAYLIGHT
BEGIN:STANDARD
DTSTART:20221030T030000
TZOFFSETFROM:+0200
TZOFFSETTO:+0100
END:STANDARD
BEGIN:DAYLIGHT
DTSTART:20230326T010000
TZOFFSETFROM:+0100
TZOFFSETTO:+0200
END:DAYLIGHT
END:VTIMEZONE
BEGIN:VTIMEZONE
TZID:UTC
BEGIN:STANDARD
DTSTART:20250724T054120
TZOFFSETFROM:+0000
TZOFFSETTO:+0000
END:STANDARD
END:VTIMEZONE
BEGIN:VEVENT
UID:E5F03216-4619-44A1-A21C-5EA724CB9432-21-903_homereminder@24.badmintonne
 rs.net
DTSTAMP:20260420T054120Z
SUMMARY:Thuismatch ingevuld? (De Klamp 2G (69) - Rijkerack 1G (73))
DESCRIPTION:Je hebt 36 uur na aanvang om een thuismatch op Badmintonvlaande
 ren in te vullen. Match info: De Klamp 2G (69) - Rijkerack 1G (73) - Link:
  https://www.badmintonvlaanderen.be/sport/teammatch.aspx?id=E5F03216-4619-
 44A1-A21C-5EA724CB9432&match=903
DTSTART;TZID=Europe/Brussels:20220913T061500
DTEND;TZID=Europe/Brussels:20220913T061500
END:VEVENT
BEGIN:VEVENT
UID:E5F03216-4619-44A1-A21C-5EA724CB9432-21-893_homereminder@24.badmintonne
 rs.net
DTSTAMP:20260420T054120Z
SUMMARY:Thuismatch ingevuld? (De Klamp 2G (69) - Klein Boom 2G (73))
DESCRIPTION:Je hebt 36 uur na aanvang om een thuismatch op Badmintonvlaande
 ren in te vullen. Match info: De Klamp 2G (69) - Klein Boom 2G (73) - Link
 : https://www.badmintonvlaanderen.be/sport/teammatch.aspx?id=E5F03216-4619
 -44A1-A21C-5EA724CB9432&match=893
DTSTART;TZID=Europe/Brussels:20220927T061500
DTEND;TZID=Europe/Brussels:20220927T061500
END:VEVENT
BEGIN:VEVENT
UID:E5F03216-4619-44A1-A21C-5EA724CB9432-21-877_homereminder@24.badmintonne
 rs.net
DTSTAMP:20260420T054120Z
SUMMARY:Thuismatch ingevuld? (De Klamp 2G (69) - Brasschaat 4G (74))
DESCRIPTION:Je hebt 36 uur na aanvang om een thuismatch op Badmintonvlaande
 ren in te vullen. Match info: De Klamp 2G (69) - Brasschaat 4G (74) - Link
 : https://www.badmintonvlaanderen.be/sport/teammatch.aspx?id=E5F03216-4619
 -44A1-A21C-5EA724CB9432&match=877
DTSTART;TZID=Europe/Brussels:20221122T061500
DTEND;TZID=Europe/Brussels:20221122T061500
END:VEVENT
BEGIN:VEVENT
UID:E5F03216-4619-44A1-A21C-5EA724CB9432-21-882_homereminder@24.badmintonne
 rs.net
DTSTAMP:20260420T054120Z
SUMMARY:Thuismatch ingevuld? (De Klamp 2G (69) - Beerke 1G (59))
DESCRIPTION:Je hebt 36 uur na aanvang om een thuismatch op Badmintonvlaande
 ren in te vullen. Match info: De Klamp 2G (69) - Beerke 1G (59) - Link: ht
 tps://www.badmintonvlaanderen.be/sport/teammatch.aspx?id=E5F03216-4619-44A
 1-A21C-5EA724CB9432&match=882
DTSTART;TZID=Europe/Brussels:20230214T061500
DTEND;TZID=Europe/Brussels:20230214T061500
END:VEVENT
BEGIN:VEVENT
UID:E5F03216-4619-44A1-A21C-5EA724CB9432-21-898_homereminder@24.badmintonne
 rs.net
DTSTAMP:20260420T054120Z
SUMMARY:Thuismatch ingevuld? (De Klamp 2G (69) - Turnhout 1G (60))
DESCRIPTION:Je hebt 36 uur na aanvang om een thuismatch op Badmintonvlaande
 ren in te vullen. Match info: De Klamp 2G (69) - Turnhout 1G (60) - Link: 
 https://www.badmintonvlaanderen.be/sport/teammatch.aspx?id=E5F03216-4619-4
 4A1-A21C-5EA724CB9432&match=898
DTSTART;TZID=Europe/Brussels:20230328T061500
DTEND;TZID=Europe/Brussels:20230328T061500
END:VEVENT
BEGIN:VEVENT
UID:E5F03216-4619-44A1-A21C-5EA724CB9432-21-889_awayreminder@24.badmintonne
 rs.net
DTSTAMP:20260420T054120Z
SUMMARY:Uitmatch bevestigd? (Turnhout 1G (60) - De Klamp 2G (69))
DESCRIPTION:Je hebt 72 uur na aanvang om een uitmatch op Badmintonvlaandere
 n in te vullen. Match info: Turnhout 1G (60) - De Klamp 2G (69) - Link: ht
 tps://www.badmintonvlaanderen.be/sport/teammatch.aspx?id=E5F03216-4619-44A
 1-A21C-5EA724CB9432&match=889
DTSTART;TZID=Europe/Brussels:20221026T093000
DTEND;TZID=Europe/Brussels:20221026T093000
END:VEVENT
BEGIN:VEVENT
UID:E5F03216-4619-44A1-A21C-5EA724CB9432-21-887_awayreminder@24.badmintonne
 rs.net
DTSTAMP:20260420T054120Z
SUMMARY:Uitmatch bevestigd? (Beerke 1G (59) - De Klamp 2G (69))
DESCRIPTION:Je hebt 72 uur na aanvang om een uitmatch op Badmintonvlaandere
 n in te vullen. Match info: Beerke 1G (59) - De Klamp 2G (69) - Link: http
 s://www.badmintonvlaanderen.be/sport/teammatch.aspx?id=E5F03216-4619-44A1-
 A21C-5EA724CB9432&match=887
DTSTART;TZID=Europe/Brussels:20221207T100000
DTEND;TZID=Europe/Brussels:20221207T100000
END:VEVENT
BEGIN:VEVENT
UID:E5F03216-4619-44A1-A21C-5EA724CB9432-21-890_awayreminder@24.badmintonne
 rs.net
DTSTAMP:20260420T054120Z
SUMMARY:Uitmatch bevestigd? (Rijkerack 1G (73) - De Klamp 2G (69))
DESCRIPTION:Je hebt 72 uur na aanvang om een uitmatch op Badmintonvlaandere
 n in te vullen. Match info: Rijkerack 1G (73) - De Klamp 2G (69) - Link: h
 ttps://www.badmintonvlaanderen.be/sport/teammatch.aspx?id=E5F03216-4619-44
 A1-A21C-5EA724CB9432&match=890
DTSTART;TZID=Europe/Brussels:20230201T190000
DTEND;TZID=Europe/Brussels:20230201T190000
END:VEVENT
BEGIN:VEVENT
UID:E5F03216-4619-44A1-A21C-5EA724CB9432-21-886_awayreminder@24.badmintonne
 rs.net
DTSTAMP:20260420T054120Z
SUMMARY:Uitmatch bevestigd? (Brasschaat 4G (74) - De Klamp 2G (69))
DESCRIPTION:Je hebt 72 uur na aanvang om een uitmatch op Badmintonvlaandere
 n in te vullen. Match info: Brasschaat 4G (74) - De Klamp 2G (69) - Link: 
 https://www.badmintonvlaanderen.be/sport/teammatch.aspx?id=E5F03216-4619-4
 4A1-A21C-5EA724CB9432&match=886
DTSTART;TZID=Europe/Brussels:20230301T190000
DTEND;TZID=Europe/Brussels:20230301T190000
END:VEVENT
BEGIN:VEVENT
UID:E5F03216-4619-44A1-A21C-5EA724CB9432-21-888_awayreminder@24.badmintonne
 rs.net
DTSTAMP:20260420T054120Z
SUMMARY:Uitmatch bevestigd? (Klein Boom 2G (73) - De Klamp 2G (69))
DESCRIPTION:Je hebt 72 uur na aanvang om een uitmatch op Badmintonvlaandere
 n in te vullen. Match info: Klein Boom 2G (73) - De Klamp 2G (69) - Link: 
 https://www.badmintonvlaanderen.be/sport/teammatch.aspx?id=E5F03216-4619-4
 4A1-A21C-5EA724CB9432&match=888
DTSTART;TZID=Europe/Brussels:20230420T200000
DTEND;TZID=Europe/Brussels:20230420T200000
END:VEVENT
END:VCALENDAR