BEGIN:VCALENDAR
VERSION:2.0
PRODID:spatie/icalendar-generator
NAME:beerke_1g_59_reminders
X-WR-CALNAME:beerke_1g_59_reminders
BEGIN:VTIMEZONE
TZID:Europe/Brussels
BEGIN:DAYLIGHT
DTSTART:20220327T010000
TZOFFSETFROM:+0100
TZOFFSETTO:+0200
END:DAYLIGHT
BEGIN:STANDARD
DTSTART:20221030T030000
TZOFFSETFROM:+0200
TZOFFSETTO:+0100
END:STANDARD
BEGIN:DAYLIGHT
DTSTART:20230326T010000
TZOFFSETFROM:+0100
TZOFFSETTO:+0200
END:DAYLIGHT
END:VTIMEZONE
BEGIN:VTIMEZONE
TZID:UTC
BEGIN:STANDARD
DTSTART:20250724T054120
TZOFFSETFROM:+0000
TZOFFSETTO:+0000
END:STANDARD
END:VTIMEZONE
BEGIN:VEVENT
UID:E5F03216-4619-44A1-A21C-5EA724CB9432-21-897_homereminder@26.badmintonne
 rs.net
DTSTAMP:20260420T054120Z
SUMMARY:Thuismatch ingevuld? (Beerke 1G (59) - Turnhout 1G (60))
DESCRIPTION:Je hebt 36 uur na aanvang om een thuismatch op Badmintonvlaande
 ren in te vullen. Match info: Beerke 1G (59) - Turnhout 1G (60) - Link: ht
 tps://www.badmintonvlaanderen.be/sport/teammatch.aspx?id=E5F03216-4619-44A
 1-A21C-5EA724CB9432&match=897
DTSTART;TZID=Europe/Brussels:20220926T220000
DTEND;TZID=Europe/Brussels:20220926T220000
END:VEVENT
BEGIN:VEVENT
UID:E5F03216-4619-44A1-A21C-5EA724CB9432-21-902_homereminder@26.badmintonne
 rs.net
DTSTAMP:20260420T054120Z
SUMMARY:Thuismatch ingevuld? (Beerke 1G (59) - Rijkerack 1G (73))
DESCRIPTION:Je hebt 36 uur na aanvang om een thuismatch op Badmintonvlaande
 ren in te vullen. Match info: Beerke 1G (59) - Rijkerack 1G (73) - Link: h
 ttps://www.badmintonvlaanderen.be/sport/teammatch.aspx?id=E5F03216-4619-44
 A1-A21C-5EA724CB9432&match=902
DTSTART;TZID=Europe/Brussels:20221121T220000
DTEND;TZID=Europe/Brussels:20221121T220000
END:VEVENT
BEGIN:VEVENT
UID:E5F03216-4619-44A1-A21C-5EA724CB9432-21-887_homereminder@26.badmintonne
 rs.net
DTSTAMP:20260420T054120Z
SUMMARY:Thuismatch ingevuld? (Beerke 1G (59) - De Klamp 2G (69))
DESCRIPTION:Je hebt 36 uur na aanvang om een thuismatch op Badmintonvlaande
 ren in te vullen. Match info: Beerke 1G (59) - De Klamp 2G (69) - Link: ht
 tps://www.badmintonvlaanderen.be/sport/teammatch.aspx?id=E5F03216-4619-44A
 1-A21C-5EA724CB9432&match=887
DTSTART;TZID=Europe/Brussels:20221205T220000
DTEND;TZID=Europe/Brussels:20221205T220000
END:VEVENT
BEGIN:VEVENT
UID:E5F03216-4619-44A1-A21C-5EA724CB9432-21-892_homereminder@26.badmintonne
 rs.net
DTSTAMP:20260420T054120Z
SUMMARY:Thuismatch ingevuld? (Beerke 1G (59) - Klein Boom 2G (73))
DESCRIPTION:Je hebt 36 uur na aanvang om een thuismatch op Badmintonvlaande
 ren in te vullen. Match info: Beerke 1G (59) - Klein Boom 2G (73) - Link: 
 https://www.badmintonvlaanderen.be/sport/teammatch.aspx?id=E5F03216-4619-4
 4A1-A21C-5EA724CB9432&match=892
DTSTART;TZID=Europe/Brussels:20230130T220000
DTEND;TZID=Europe/Brussels:20230130T220000
END:VEVENT
BEGIN:VEVENT
UID:E5F03216-4619-44A1-A21C-5EA724CB9432-21-876_homereminder@26.badmintonne
 rs.net
DTSTAMP:20260420T054120Z
SUMMARY:Thuismatch ingevuld? (Beerke 1G (59) - Brasschaat 4G (74))
DESCRIPTION:Je hebt 36 uur na aanvang om een thuismatch op Badmintonvlaande
 ren in te vullen. Match info: Beerke 1G (59) - Brasschaat 4G (74) - Link: 
 https://www.badmintonvlaanderen.be/sport/teammatch.aspx?id=E5F03216-4619-4
 4A1-A21C-5EA724CB9432&match=876
DTSTART;TZID=Europe/Brussels:20230306T220000
DTEND;TZID=Europe/Brussels:20230306T220000
END:VEVENT
BEGIN:VEVENT
UID:E5F03216-4619-44A1-A21C-5EA724CB9432-21-881_awayreminder@26.badmintonne
 rs.net
DTSTAMP:20260420T054120Z
SUMMARY:Uitmatch bevestigd? (Brasschaat 4G (74) - Beerke 1G (59))
DESCRIPTION:Je hebt 72 uur na aanvang om een uitmatch op Badmintonvlaandere
 n in te vullen. Match info: Brasschaat 4G (74) - Beerke 1G (59) - Link: ht
 tps://www.badmintonvlaanderen.be/sport/teammatch.aspx?id=E5F03216-4619-44A
 1-A21C-5EA724CB9432&match=881
DTSTART;TZID=Europe/Brussels:20221026T190000
DTEND;TZID=Europe/Brussels:20221026T190000
END:VEVENT
BEGIN:VEVENT
UID:E5F03216-4619-44A1-A21C-5EA724CB9432-21-883_awayreminder@26.badmintonne
 rs.net
DTSTAMP:20260420T054120Z
SUMMARY:Uitmatch bevestigd? (Klein Boom 2G (73) - Beerke 1G (59))
DESCRIPTION:Je hebt 72 uur na aanvang om een uitmatch op Badmintonvlaandere
 n in te vullen. Match info: Klein Boom 2G (73) - Beerke 1G (59) - Link: ht
 tps://www.badmintonvlaanderen.be/sport/teammatch.aspx?id=E5F03216-4619-44A
 1-A21C-5EA724CB9432&match=883
DTSTART;TZID=Europe/Brussels:20221103T200000
DTEND;TZID=Europe/Brussels:20221103T200000
END:VEVENT
BEGIN:VEVENT
UID:E5F03216-4619-44A1-A21C-5EA724CB9432-21-882_awayreminder@26.badmintonne
 rs.net
DTSTAMP:20260420T054120Z
SUMMARY:Uitmatch bevestigd? (De Klamp 2G (69) - Beerke 1G (59))
DESCRIPTION:Je hebt 72 uur na aanvang om een uitmatch op Badmintonvlaandere
 n in te vullen. Match info: De Klamp 2G (69) - Beerke 1G (59) - Link: http
 s://www.badmintonvlaanderen.be/sport/teammatch.aspx?id=E5F03216-4619-44A1-
 A21C-5EA724CB9432&match=882
DTSTART;TZID=Europe/Brussels:20230215T181500
DTEND;TZID=Europe/Brussels:20230215T181500
END:VEVENT
BEGIN:VEVENT
UID:E5F03216-4619-44A1-A21C-5EA724CB9432-21-885_awayreminder@26.badmintonne
 rs.net
DTSTAMP:20260420T054120Z
SUMMARY:Uitmatch bevestigd? (Rijkerack 1G (73) - Beerke 1G (59))
DESCRIPTION:Je hebt 72 uur na aanvang om een uitmatch op Badmintonvlaandere
 n in te vullen. Match info: Rijkerack 1G (73) - Beerke 1G (59) - Link: htt
 ps://www.badmintonvlaanderen.be/sport/teammatch.aspx?id=E5F03216-4619-44A1
 -A21C-5EA724CB9432&match=885
DTSTART;TZID=Europe/Brussels:20230301T190000
DTEND;TZID=Europe/Brussels:20230301T190000
END:VEVENT
BEGIN:VEVENT
UID:E5F03216-4619-44A1-A21C-5EA724CB9432-21-884_awayreminder@26.badmintonne
 rs.net
DTSTAMP:20260420T054120Z
SUMMARY:Uitmatch bevestigd? (Turnhout 1G (60) - Beerke 1G (59))
DESCRIPTION:Je hebt 72 uur na aanvang om een uitmatch op Badmintonvlaandere
 n in te vullen. Match info: Turnhout 1G (60) - Beerke 1G (59) - Link: http
 s://www.badmintonvlaanderen.be/sport/teammatch.aspx?id=E5F03216-4619-44A1-
 A21C-5EA724CB9432&match=884
DTSTART;TZID=Europe/Brussels:20230426T093000
DTEND;TZID=Europe/Brussels:20230426T093000
END:VEVENT
END:VCALENDAR