BEGIN:VCALENDAR
VERSION:2.0
PRODID:spatie/icalendar-generator
NAME:molse_2g_88_reminders
X-WR-CALNAME:molse_2g_88_reminders
BEGIN:VTIMEZONE
TZID:Europe/Brussels
BEGIN:DAYLIGHT
DTSTART:20220327T010000
TZOFFSETFROM:+0100
TZOFFSETTO:+0200
END:DAYLIGHT
BEGIN:STANDARD
DTSTART:20221030T030000
TZOFFSETFROM:+0200
TZOFFSETTO:+0100
END:STANDARD
BEGIN:DAYLIGHT
DTSTART:20230326T010000
TZOFFSETFROM:+0100
TZOFFSETTO:+0200
END:DAYLIGHT
END:VTIMEZONE
BEGIN:VTIMEZONE
TZID:UTC
BEGIN:STANDARD
DTSTART:20250724T073717
TZOFFSETFROM:+0000
TZOFFSETTO:+0000
END:STANDARD
END:VTIMEZONE
BEGIN:VEVENT
UID:E5F03216-4619-44A1-A21C-5EA724CB9432-25-1099_homereminder@104.badminton
 ners.net
DTSTAMP:20260420T073717Z
SUMMARY:Thuismatch ingevuld? (Molse 2G (88) - Herentals 4G (93))
DESCRIPTION:Je hebt 36 uur na aanvang om een thuismatch op Badmintonvlaande
 ren in te vullen. Match info: Molse 2G (88) - Herentals 4G (93) - Link: ht
 tps://www.badmintonvlaanderen.be/sport/teammatch.aspx?id=E5F03216-4619-44A
 1-A21C-5EA724CB9432&match=1099
DTSTART;TZID=Europe/Brussels:20221024T073000
DTEND;TZID=Europe/Brussels:20221024T073000
END:VEVENT
BEGIN:VEVENT
UID:E5F03216-4619-44A1-A21C-5EA724CB9432-25-1087_homereminder@104.badminton
 ners.net
DTSTAMP:20260420T073717Z
SUMMARY:Thuismatch ingevuld? (Molse 2G (88) - Klein Boom 6G (102))
DESCRIPTION:Je hebt 36 uur na aanvang om een thuismatch op Badmintonvlaande
 ren in te vullen. Match info: Molse 2G (88) - Klein Boom 6G (102) - Link: 
 https://www.badmintonvlaanderen.be/sport/teammatch.aspx?id=E5F03216-4619-4
 4A1-A21C-5EA724CB9432&match=1087
DTSTART;TZID=Europe/Brussels:20221122T070000
DTEND;TZID=Europe/Brussels:20221122T070000
END:VEVENT
BEGIN:VEVENT
UID:E5F03216-4619-44A1-A21C-5EA724CB9432-25-1118_homereminder@104.badminton
 ners.net
DTSTAMP:20260420T073717Z
SUMMARY:Thuismatch ingevuld? (Molse 2G (88) - Berlaar 1G (103))
DESCRIPTION:Je hebt 36 uur na aanvang om een thuismatch op Badmintonvlaande
 ren in te vullen. Match info: Molse 2G (88) - Berlaar 1G (103) - Link: htt
 ps://www.badmintonvlaanderen.be/sport/teammatch.aspx?id=E5F03216-4619-44A1
 -A21C-5EA724CB9432&match=1118
DTSTART;TZID=Europe/Brussels:20221206T070000
DTEND;TZID=Europe/Brussels:20221206T070000
END:VEVENT
BEGIN:VEVENT
UID:E5F03216-4619-44A1-A21C-5EA724CB9432-25-1093_homereminder@104.badminton
 ners.net
DTSTAMP:20260420T073717Z
SUMMARY:Thuismatch ingevuld? (Molse 2G (88) - Spinshuttle 3G (98))
DESCRIPTION:Je hebt 36 uur na aanvang om een thuismatch op Badmintonvlaande
 ren in te vullen. Match info: Molse 2G (88) - Spinshuttle 3G (98) - Link: 
 https://www.badmintonvlaanderen.be/sport/teammatch.aspx?id=E5F03216-4619-4
 4A1-A21C-5EA724CB9432&match=1093
DTSTART;TZID=Europe/Brussels:20230131T070000
DTEND;TZID=Europe/Brussels:20230131T070000
END:VEVENT
BEGIN:VEVENT
UID:E5F03216-4619-44A1-A21C-5EA724CB9432-25-1105_homereminder@104.badminton
 ners.net
DTSTAMP:20260420T073717Z
SUMMARY:Thuismatch ingevuld? (Molse 2G (88) - Poona 2G (82))
DESCRIPTION:Je hebt 36 uur na aanvang om een thuismatch op Badmintonvlaande
 ren in te vullen. Match info: Molse 2G (88) - Poona 2G (82) - Link: https:
 //www.badmintonvlaanderen.be/sport/teammatch.aspx?id=E5F03216-4619-44A1-A2
 1C-5EA724CB9432&match=1105
DTSTART;TZID=Europe/Brussels:20230314T070000
DTEND;TZID=Europe/Brussels:20230314T070000
END:VEVENT
BEGIN:VEVENT
UID:E5F03216-4619-44A1-A21C-5EA724CB9432-25-1081_homereminder@104.badminton
 ners.net
DTSTAMP:20260420T073717Z
SUMMARY:Thuismatch ingevuld? (Molse 2G (88) - Opslag 2G (88))
DESCRIPTION:Je hebt 36 uur na aanvang om een thuismatch op Badmintonvlaande
 ren in te vullen. Match info: Molse 2G (88) - Opslag 2G (88) - Link: https
 ://www.badmintonvlaanderen.be/sport/teammatch.aspx?id=E5F03216-4619-44A1-A
 21C-5EA724CB9432&match=1081
DTSTART;TZID=Europe/Brussels:20230328T070000
DTEND;TZID=Europe/Brussels:20230328T070000
END:VEVENT
BEGIN:VEVENT
UID:E5F03216-4619-44A1-A21C-5EA724CB9432-25-1111_awayreminder@104.badminton
 ners.net
DTSTAMP:20260420T073717Z
SUMMARY:Uitmatch bevestigd? (Poona 2G (82) - Molse 2G (88))
DESCRIPTION:Je hebt 72 uur na aanvang om een uitmatch op Badmintonvlaandere
 n in te vullen. Match info: Poona 2G (82) - Molse 2G (88) - Link: https://
 www.badmintonvlaanderen.be/sport/teammatch.aspx?id=E5F03216-4619-44A1-A21C
 -5EA724CB9432&match=1111
DTSTART;TZID=Europe/Brussels:20220908T200000
DTEND;TZID=Europe/Brussels:20220908T200000
END:VEVENT
BEGIN:VEVENT
UID:E5F03216-4619-44A1-A21C-5EA724CB9432-25-1109_awayreminder@104.badminton
 ners.net
DTSTAMP:20260420T073717Z
SUMMARY:Uitmatch bevestigd? (Spinshuttle 3G (98) - Molse 2G (88))
DESCRIPTION:Je hebt 72 uur na aanvang om een uitmatch op Badmintonvlaandere
 n in te vullen. Match info: Spinshuttle 3G (98) - Molse 2G (88) - Link: ht
 tps://www.badmintonvlaanderen.be/sport/teammatch.aspx?id=E5F03216-4619-44A
 1-A21C-5EA724CB9432&match=1109
DTSTART;TZID=Europe/Brussels:20220923T200000
DTEND;TZID=Europe/Brussels:20220923T200000
END:VEVENT
BEGIN:VEVENT
UID:E5F03216-4619-44A1-A21C-5EA724CB9432-25-1107_awayreminder@104.badminton
 ners.net
DTSTAMP:20260420T073717Z
SUMMARY:Uitmatch bevestigd? (Opslag 2G (88) - Molse 2G (88))
DESCRIPTION:Je hebt 72 uur na aanvang om een uitmatch op Badmintonvlaandere
 n in te vullen. Match info: Opslag 2G (88) - Molse 2G (88) - Link: https:/
 /www.badmintonvlaanderen.be/sport/teammatch.aspx?id=E5F03216-4619-44A1-A21
 C-5EA724CB9432&match=1107
DTSTART;TZID=Europe/Brussels:20220928T191500
DTEND;TZID=Europe/Brussels:20220928T191500
END:VEVENT
BEGIN:VEVENT
UID:E5F03216-4619-44A1-A21C-5EA724CB9432-25-1108_awayreminder@104.badminton
 ners.net
DTSTAMP:20260420T073717Z
SUMMARY:Uitmatch bevestigd? (Klein Boom 6G (102) - Molse 2G (88))
DESCRIPTION:Je hebt 72 uur na aanvang om een uitmatch op Badmintonvlaandere
 n in te vullen. Match info: Klein Boom 6G (102) - Molse 2G (88) - Link: ht
 tps://www.badmintonvlaanderen.be/sport/teammatch.aspx?id=E5F03216-4619-44A
 1-A21C-5EA724CB9432&match=1108
DTSTART;TZID=Europe/Brussels:20230118T190000
DTEND;TZID=Europe/Brussels:20230118T190000
END:VEVENT
BEGIN:VEVENT
UID:E5F03216-4619-44A1-A21C-5EA724CB9432-25-1112_awayreminder@104.badminton
 ners.net
DTSTAMP:20260420T073717Z
SUMMARY:Uitmatch bevestigd? (Berlaar 1G (103) - Molse 2G (88))
DESCRIPTION:Je hebt 72 uur na aanvang om een uitmatch op Badmintonvlaandere
 n in te vullen. Match info: Berlaar 1G (103) - Molse 2G (88) - Link: https
 ://www.badmintonvlaanderen.be/sport/teammatch.aspx?id=E5F03216-4619-44A1-A
 21C-5EA724CB9432&match=1112
DTSTART;TZID=Europe/Brussels:20230215T093000
DTEND;TZID=Europe/Brussels:20230215T093000
END:VEVENT
BEGIN:VEVENT
UID:E5F03216-4619-44A1-A21C-5EA724CB9432-25-1110_awayreminder@104.badminton
 ners.net
DTSTAMP:20260420T073717Z
SUMMARY:Uitmatch bevestigd? (Herentals 4G (93) - Molse 2G (88))
DESCRIPTION:Je hebt 72 uur na aanvang om een uitmatch op Badmintonvlaandere
 n in te vullen. Match info: Herentals 4G (93) - Molse 2G (88) - Link: http
 s://www.badmintonvlaanderen.be/sport/teammatch.aspx?id=E5F03216-4619-44A1-
 A21C-5EA724CB9432&match=1110
DTSTART;TZID=Europe/Brussels:20230309T210000
DTEND;TZID=Europe/Brussels:20230309T210000
END:VEVENT
END:VCALENDAR