BEGIN:VCALENDAR
VERSION:2.0
PRODID:spatie/icalendar-generator
NAME:herentals_4g_93_reminders
X-WR-CALNAME:herentals_4g_93_reminders
BEGIN:VTIMEZONE
TZID:Europe/Brussels
BEGIN:DAYLIGHT
DTSTART:20220327T010000
TZOFFSETFROM:+0100
TZOFFSETTO:+0200
END:DAYLIGHT
BEGIN:STANDARD
DTSTART:20221030T030000
TZOFFSETFROM:+0200
TZOFFSETTO:+0100
END:STANDARD
BEGIN:DAYLIGHT
DTSTART:20230326T010000
TZOFFSETFROM:+0100
TZOFFSETTO:+0200
END:DAYLIGHT
END:VTIMEZONE
BEGIN:VTIMEZONE
TZID:UTC
BEGIN:STANDARD
DTSTART:20250724T055216
TZOFFSETFROM:+0000
TZOFFSETTO:+0000
END:STANDARD
END:VTIMEZONE
BEGIN:VEVENT
UID:E5F03216-4619-44A1-A21C-5EA724CB9432-25-1116_homereminder@108.badminton
 ners.net
DTSTAMP:20260420T055216Z
SUMMARY:Thuismatch ingevuld? (Herentals 4G (93) - Berlaar 1G (103))
DESCRIPTION:Je hebt 36 uur na aanvang om een thuismatch op Badmintonvlaande
 ren in te vullen. Match info: Herentals 4G (93) - Berlaar 1G (103) - Link:
  https://www.badmintonvlaanderen.be/sport/teammatch.aspx?id=E5F03216-4619-
 44A1-A21C-5EA724CB9432&match=1116
DTSTART;TZID=Europe/Brussels:20221116T090000
DTEND;TZID=Europe/Brussels:20221116T090000
END:VEVENT
BEGIN:VEVENT
UID:E5F03216-4619-44A1-A21C-5EA724CB9432-25-1104_homereminder@108.badminton
 ners.net
DTSTAMP:20260420T055216Z
SUMMARY:Thuismatch ingevuld? (Herentals 4G (93) - Poona 2G (82))
DESCRIPTION:Je hebt 36 uur na aanvang om een thuismatch op Badmintonvlaande
 ren in te vullen. Match info: Herentals 4G (93) - Poona 2G (82) - Link: ht
 tps://www.badmintonvlaanderen.be/sport/teammatch.aspx?id=E5F03216-4619-44A
 1-A21C-5EA724CB9432&match=1104
DTSTART;TZID=Europe/Brussels:20221123T090000
DTEND;TZID=Europe/Brussels:20221123T090000
END:VEVENT
BEGIN:VEVENT
UID:E5F03216-4619-44A1-A21C-5EA724CB9432-25-1085_homereminder@108.badminton
 ners.net
DTSTAMP:20260420T055216Z
SUMMARY:Thuismatch ingevuld? (Herentals 4G (93) - Klein Boom 6G (102))
DESCRIPTION:Je hebt 36 uur na aanvang om een thuismatch op Badmintonvlaande
 ren in te vullen. Match info: Herentals 4G (93) - Klein Boom 6G (102) - Li
 nk: https://www.badmintonvlaanderen.be/sport/teammatch.aspx?id=E5F03216-46
 19-44A1-A21C-5EA724CB9432&match=1085
DTSTART;TZID=Europe/Brussels:20221130T090000
DTEND;TZID=Europe/Brussels:20221130T090000
END:VEVENT
BEGIN:VEVENT
UID:E5F03216-4619-44A1-A21C-5EA724CB9432-25-1079_homereminder@108.badminton
 ners.net
DTSTAMP:20260420T055216Z
SUMMARY:Thuismatch ingevuld? (Herentals 4G (93) - Opslag 2G (88))
DESCRIPTION:Je hebt 36 uur na aanvang om een thuismatch op Badmintonvlaande
 ren in te vullen. Match info: Herentals 4G (93) - Opslag 2G (88) - Link: h
 ttps://www.badmintonvlaanderen.be/sport/teammatch.aspx?id=E5F03216-4619-44
 A1-A21C-5EA724CB9432&match=1079
DTSTART;TZID=Europe/Brussels:20230125T090000
DTEND;TZID=Europe/Brussels:20230125T090000
END:VEVENT
BEGIN:VEVENT
UID:E5F03216-4619-44A1-A21C-5EA724CB9432-25-1110_homereminder@108.badminton
 ners.net
DTSTAMP:20260420T055216Z
SUMMARY:Thuismatch ingevuld? (Herentals 4G (93) - Molse 2G (88))
DESCRIPTION:Je hebt 36 uur na aanvang om een thuismatch op Badmintonvlaande
 ren in te vullen. Match info: Herentals 4G (93) - Molse 2G (88) - Link: ht
 tps://www.badmintonvlaanderen.be/sport/teammatch.aspx?id=E5F03216-4619-44A
 1-A21C-5EA724CB9432&match=1110
DTSTART;TZID=Europe/Brussels:20230308T090000
DTEND;TZID=Europe/Brussels:20230308T090000
END:VEVENT
BEGIN:VEVENT
UID:E5F03216-4619-44A1-A21C-5EA724CB9432-25-1091_homereminder@108.badminton
 ners.net
DTSTAMP:20260420T055216Z
SUMMARY:Thuismatch ingevuld? (Herentals 4G (93) - Spinshuttle 3G (98))
DESCRIPTION:Je hebt 36 uur na aanvang om een thuismatch op Badmintonvlaande
 ren in te vullen. Match info: Herentals 4G (93) - Spinshuttle 3G (98) - Li
 nk: https://www.badmintonvlaanderen.be/sport/teammatch.aspx?id=E5F03216-46
 19-44A1-A21C-5EA724CB9432&match=1091
DTSTART;TZID=Europe/Brussels:20230322T090000
DTEND;TZID=Europe/Brussels:20230322T090000
END:VEVENT
BEGIN:VEVENT
UID:E5F03216-4619-44A1-A21C-5EA724CB9432-25-1099_awayreminder@108.badminton
 ners.net
DTSTAMP:20260420T055216Z
SUMMARY:Uitmatch bevestigd? (Molse 2G (88) - Herentals 4G (93))
DESCRIPTION:Je hebt 72 uur na aanvang om een uitmatch op Badmintonvlaandere
 n in te vullen. Match info: Molse 2G (88) - Herentals 4G (93) - Link: http
 s://www.badmintonvlaanderen.be/sport/teammatch.aspx?id=E5F03216-4619-44A1-
 A21C-5EA724CB9432&match=1099
DTSTART;TZID=Europe/Brussels:20221025T193000
DTEND;TZID=Europe/Brussels:20221025T193000
END:VEVENT
BEGIN:VEVENT
UID:E5F03216-4619-44A1-A21C-5EA724CB9432-25-1097_awayreminder@108.badminton
 ners.net
DTSTAMP:20260420T055216Z
SUMMARY:Uitmatch bevestigd? (Spinshuttle 3G (98) - Herentals 4G (93))
DESCRIPTION:Je hebt 72 uur na aanvang om een uitmatch op Badmintonvlaandere
 n in te vullen. Match info: Spinshuttle 3G (98) - Herentals 4G (93) - Link
 : https://www.badmintonvlaanderen.be/sport/teammatch.aspx?id=E5F03216-4619
 -44A1-A21C-5EA724CB9432&match=1097
DTSTART;TZID=Europe/Brussels:20221216T200000
DTEND;TZID=Europe/Brussels:20221216T200000
END:VEVENT
BEGIN:VEVENT
UID:E5F03216-4619-44A1-A21C-5EA724CB9432-25-1095_awayreminder@108.badminton
 ners.net
DTSTAMP:20260420T055216Z
SUMMARY:Uitmatch bevestigd? (Opslag 2G (88) - Herentals 4G (93))
DESCRIPTION:Je hebt 72 uur na aanvang om een uitmatch op Badmintonvlaandere
 n in te vullen. Match info: Opslag 2G (88) - Herentals 4G (93) - Link: htt
 ps://www.badmintonvlaanderen.be/sport/teammatch.aspx?id=E5F03216-4619-44A1
 -A21C-5EA724CB9432&match=1095
DTSTART;TZID=Europe/Brussels:20221221T191500
DTEND;TZID=Europe/Brussels:20221221T191500
END:VEVENT
BEGIN:VEVENT
UID:E5F03216-4619-44A1-A21C-5EA724CB9432-25-1096_awayreminder@108.badminton
 ners.net
DTSTAMP:20260420T055216Z
SUMMARY:Uitmatch bevestigd? (Klein Boom 6G (102) - Herentals 4G (93))
DESCRIPTION:Je hebt 72 uur na aanvang om een uitmatch op Badmintonvlaandere
 n in te vullen. Match info: Klein Boom 6G (102) - Herentals 4G (93) - Link
 : https://www.badmintonvlaanderen.be/sport/teammatch.aspx?id=E5F03216-4619
 -44A1-A21C-5EA724CB9432&match=1096
DTSTART;TZID=Europe/Brussels:20230215T190000
DTEND;TZID=Europe/Brussels:20230215T190000
END:VEVENT
BEGIN:VEVENT
UID:E5F03216-4619-44A1-A21C-5EA724CB9432-25-1100_awayreminder@108.badminton
 ners.net
DTSTAMP:20260420T055216Z
SUMMARY:Uitmatch bevestigd? (Berlaar 1G (103) - Herentals 4G (93))
DESCRIPTION:Je hebt 72 uur na aanvang om een uitmatch op Badmintonvlaandere
 n in te vullen. Match info: Berlaar 1G (103) - Herentals 4G (93) - Link: h
 ttps://www.badmintonvlaanderen.be/sport/teammatch.aspx?id=E5F03216-4619-44
 A1-A21C-5EA724CB9432&match=1100
DTSTART;TZID=Europe/Brussels:20230301T093000
DTEND;TZID=Europe/Brussels:20230301T093000
END:VEVENT
BEGIN:VEVENT
UID:E5F03216-4619-44A1-A21C-5EA724CB9432-25-1098_awayreminder@108.badminton
 ners.net
DTSTAMP:20260420T055216Z
SUMMARY:Uitmatch bevestigd? (Poona 2G (82) - Herentals 4G (93))
DESCRIPTION:Je hebt 72 uur na aanvang om een uitmatch op Badmintonvlaandere
 n in te vullen. Match info: Poona 2G (82) - Herentals 4G (93) - Link: http
 s://www.badmintonvlaanderen.be/sport/teammatch.aspx?id=E5F03216-4619-44A1-
 A21C-5EA724CB9432&match=1098
DTSTART;TZID=Europe/Brussels:20230406T200000
DTEND;TZID=Europe/Brussels:20230406T200000
END:VEVENT
END:VCALENDAR