BEGIN:VCALENDAR
VERSION:2.0
PRODID:spatie/icalendar-generator
NAME:spinshuttle_3g_98_reminders
X-WR-CALNAME:spinshuttle_3g_98_reminders
BEGIN:VTIMEZONE
TZID:Europe/Brussels
BEGIN:DAYLIGHT
DTSTART:20220327T010000
TZOFFSETFROM:+0100
TZOFFSETTO:+0200
END:DAYLIGHT
BEGIN:STANDARD
DTSTART:20221030T030000
TZOFFSETFROM:+0200
TZOFFSETTO:+0100
END:STANDARD
BEGIN:DAYLIGHT
DTSTART:20230326T010000
TZOFFSETFROM:+0100
TZOFFSETTO:+0200
END:DAYLIGHT
END:VTIMEZONE
BEGIN:VTIMEZONE
TZID:UTC
BEGIN:STANDARD
DTSTART:20250724T055216
TZOFFSETFROM:+0000
TZOFFSETTO:+0000
END:STANDARD
END:VTIMEZONE
BEGIN:VEVENT
UID:E5F03216-4619-44A1-A21C-5EA724CB9432-25-1109_homereminder@109.badminton
 ners.net
DTSTAMP:20260420T055216Z
SUMMARY:Thuismatch ingevuld? (Spinshuttle 3G (98) - Molse 2G (88))
DESCRIPTION:Je hebt 36 uur na aanvang om een thuismatch op Badmintonvlaande
 ren in te vullen. Match info: Spinshuttle 3G (98) - Molse 2G (88) - Link: 
 https://www.badmintonvlaanderen.be/sport/teammatch.aspx?id=E5F03216-4619-4
 4A1-A21C-5EA724CB9432&match=1109
DTSTART;TZID=Europe/Brussels:20220922T080000
DTEND;TZID=Europe/Brussels:20220922T080000
END:VEVENT
BEGIN:VEVENT
UID:E5F03216-4619-44A1-A21C-5EA724CB9432-25-1078_homereminder@109.badminton
 ners.net
DTSTAMP:20260420T055216Z
SUMMARY:Thuismatch ingevuld? (Spinshuttle 3G (98) - Opslag 2G (88))
DESCRIPTION:Je hebt 36 uur na aanvang om een thuismatch op Badmintonvlaande
 ren in te vullen. Match info: Spinshuttle 3G (98) - Opslag 2G (88) - Link:
  https://www.badmintonvlaanderen.be/sport/teammatch.aspx?id=E5F03216-4619-
 44A1-A21C-5EA724CB9432&match=1078
DTSTART;TZID=Europe/Brussels:20221006T080000
DTEND;TZID=Europe/Brussels:20221006T080000
END:VEVENT
BEGIN:VEVENT
UID:E5F03216-4619-44A1-A21C-5EA724CB9432-25-1097_homereminder@109.badminton
 ners.net
DTSTAMP:20260420T055216Z
SUMMARY:Thuismatch ingevuld? (Spinshuttle 3G (98) - Herentals 4G (93))
DESCRIPTION:Je hebt 36 uur na aanvang om een thuismatch op Badmintonvlaande
 ren in te vullen. Match info: Spinshuttle 3G (98) - Herentals 4G (93) - Li
 nk: https://www.badmintonvlaanderen.be/sport/teammatch.aspx?id=E5F03216-46
 19-44A1-A21C-5EA724CB9432&match=1097
DTSTART;TZID=Europe/Brussels:20221215T080000
DTEND;TZID=Europe/Brussels:20221215T080000
END:VEVENT
BEGIN:VEVENT
UID:E5F03216-4619-44A1-A21C-5EA724CB9432-25-1103_homereminder@109.badminton
 ners.net
DTSTAMP:20260420T055216Z
SUMMARY:Thuismatch ingevuld? (Spinshuttle 3G (98) - Poona 2G (82))
DESCRIPTION:Je hebt 36 uur na aanvang om een thuismatch op Badmintonvlaande
 ren in te vullen. Match info: Spinshuttle 3G (98) - Poona 2G (82) - Link: 
 https://www.badmintonvlaanderen.be/sport/teammatch.aspx?id=E5F03216-4619-4
 4A1-A21C-5EA724CB9432&match=1103
DTSTART;TZID=Europe/Brussels:20230112T080000
DTEND;TZID=Europe/Brussels:20230112T080000
END:VEVENT
BEGIN:VEVENT
UID:E5F03216-4619-44A1-A21C-5EA724CB9432-25-1115_homereminder@109.badminton
 ners.net
DTSTAMP:20260420T055216Z
SUMMARY:Thuismatch ingevuld? (Spinshuttle 3G (98) - Berlaar 1G (103))
DESCRIPTION:Je hebt 36 uur na aanvang om een thuismatch op Badmintonvlaande
 ren in te vullen. Match info: Spinshuttle 3G (98) - Berlaar 1G (103) - Lin
 k: https://www.badmintonvlaanderen.be/sport/teammatch.aspx?id=E5F03216-461
 9-44A1-A21C-5EA724CB9432&match=1115
DTSTART;TZID=Europe/Brussels:20230309T080000
DTEND;TZID=Europe/Brussels:20230309T080000
END:VEVENT
BEGIN:VEVENT
UID:E5F03216-4619-44A1-A21C-5EA724CB9432-25-1084_homereminder@109.badminton
 ners.net
DTSTAMP:20260420T055216Z
SUMMARY:Thuismatch ingevuld? (Spinshuttle 3G (98) - Klein Boom 6G (102))
DESCRIPTION:Je hebt 36 uur na aanvang om een thuismatch op Badmintonvlaande
 ren in te vullen. Match info: Spinshuttle 3G (98) - Klein Boom 6G (102) - 
 Link: https://www.badmintonvlaanderen.be/sport/teammatch.aspx?id=E5F03216-
 4619-44A1-A21C-5EA724CB9432&match=1084
DTSTART;TZID=Europe/Brussels:20230406T080000
DTEND;TZID=Europe/Brussels:20230406T080000
END:VEVENT
BEGIN:VEVENT
UID:E5F03216-4619-44A1-A21C-5EA724CB9432-25-1094_awayreminder@109.badminton
 ners.net
DTSTAMP:20260420T055216Z
SUMMARY:Uitmatch bevestigd? (Berlaar 1G (103) - Spinshuttle 3G (98))
DESCRIPTION:Je hebt 72 uur na aanvang om een uitmatch op Badmintonvlaandere
 n in te vullen. Match info: Berlaar 1G (103) - Spinshuttle 3G (98) - Link:
  https://www.badmintonvlaanderen.be/sport/teammatch.aspx?id=E5F03216-4619-
 44A1-A21C-5EA724CB9432&match=1094
DTSTART;TZID=Europe/Brussels:20221026T093000
DTEND;TZID=Europe/Brussels:20221026T093000
END:VEVENT
BEGIN:VEVENT
UID:E5F03216-4619-44A1-A21C-5EA724CB9432-25-1092_awayreminder@109.badminton
 ners.net
DTSTAMP:20260420T055216Z
SUMMARY:Uitmatch bevestigd? (Poona 2G (82) - Spinshuttle 3G (98))
DESCRIPTION:Je hebt 72 uur na aanvang om een uitmatch op Badmintonvlaandere
 n in te vullen. Match info: Poona 2G (82) - Spinshuttle 3G (98) - Link: ht
 tps://www.badmintonvlaanderen.be/sport/teammatch.aspx?id=E5F03216-4619-44A
 1-A21C-5EA724CB9432&match=1092
DTSTART;TZID=Europe/Brussels:20221117T200000
DTEND;TZID=Europe/Brussels:20221117T200000
END:VEVENT
BEGIN:VEVENT
UID:E5F03216-4619-44A1-A21C-5EA724CB9432-25-1090_awayreminder@109.badminton
 ners.net
DTSTAMP:20260420T055216Z
SUMMARY:Uitmatch bevestigd? (Klein Boom 6G (102) - Spinshuttle 3G (98))
DESCRIPTION:Je hebt 72 uur na aanvang om een uitmatch op Badmintonvlaandere
 n in te vullen. Match info: Klein Boom 6G (102) - Spinshuttle 3G (98) - Li
 nk: https://www.badmintonvlaanderen.be/sport/teammatch.aspx?id=E5F03216-46
 19-44A1-A21C-5EA724CB9432&match=1090
DTSTART;TZID=Europe/Brussels:20221221T190000
DTEND;TZID=Europe/Brussels:20221221T190000
END:VEVENT
BEGIN:VEVENT
UID:E5F03216-4619-44A1-A21C-5EA724CB9432-25-1093_awayreminder@109.badminton
 ners.net
DTSTAMP:20260420T055216Z
SUMMARY:Uitmatch bevestigd? (Molse 2G (88) - Spinshuttle 3G (98))
DESCRIPTION:Je hebt 72 uur na aanvang om een uitmatch op Badmintonvlaandere
 n in te vullen. Match info: Molse 2G (88) - Spinshuttle 3G (98) - Link: ht
 tps://www.badmintonvlaanderen.be/sport/teammatch.aspx?id=E5F03216-4619-44A
 1-A21C-5EA724CB9432&match=1093
DTSTART;TZID=Europe/Brussels:20230201T190000
DTEND;TZID=Europe/Brussels:20230201T190000
END:VEVENT
BEGIN:VEVENT
UID:E5F03216-4619-44A1-A21C-5EA724CB9432-25-1091_awayreminder@109.badminton
 ners.net
DTSTAMP:20260420T055216Z
SUMMARY:Uitmatch bevestigd? (Herentals 4G (93) - Spinshuttle 3G (98))
DESCRIPTION:Je hebt 72 uur na aanvang om een uitmatch op Badmintonvlaandere
 n in te vullen. Match info: Herentals 4G (93) - Spinshuttle 3G (98) - Link
 : https://www.badmintonvlaanderen.be/sport/teammatch.aspx?id=E5F03216-4619
 -44A1-A21C-5EA724CB9432&match=1091
DTSTART;TZID=Europe/Brussels:20230323T210000
DTEND;TZID=Europe/Brussels:20230323T210000
END:VEVENT
BEGIN:VEVENT
UID:E5F03216-4619-44A1-A21C-5EA724CB9432-25-1089_awayreminder@109.badminton
 ners.net
DTSTAMP:20260420T055216Z
SUMMARY:Uitmatch bevestigd? (Opslag 2G (88) - Spinshuttle 3G (98))
DESCRIPTION:Je hebt 72 uur na aanvang om een uitmatch op Badmintonvlaandere
 n in te vullen. Match info: Opslag 2G (88) - Spinshuttle 3G (98) - Link: h
 ttps://www.badmintonvlaanderen.be/sport/teammatch.aspx?id=E5F03216-4619-44
 A1-A21C-5EA724CB9432&match=1089
DTSTART;TZID=Europe/Brussels:20230426T191500
DTEND;TZID=Europe/Brussels:20230426T191500
END:VEVENT
END:VCALENDAR