BEGIN:VCALENDAR
VERSION:2.0
PRODID:spatie/icalendar-generator
NAME:berlaar_1g_103_reminders
X-WR-CALNAME:berlaar_1g_103_reminders
BEGIN:VTIMEZONE
TZID:Europe/Brussels
BEGIN:DAYLIGHT
DTSTART:20220327T010000
TZOFFSETFROM:+0100
TZOFFSETTO:+0200
END:DAYLIGHT
BEGIN:STANDARD
DTSTART:20221030T030000
TZOFFSETFROM:+0200
TZOFFSETTO:+0100
END:STANDARD
BEGIN:DAYLIGHT
DTSTART:20230326T010000
TZOFFSETFROM:+0100
TZOFFSETTO:+0200
END:DAYLIGHT
END:VTIMEZONE
BEGIN:VTIMEZONE
TZID:UTC
BEGIN:STANDARD
DTSTART:20250724T072434
TZOFFSETFROM:+0000
TZOFFSETTO:+0000
END:STANDARD
END:VTIMEZONE
BEGIN:VEVENT
UID:E5F03216-4619-44A1-A21C-5EA724CB9432-25-1094_homereminder@110.badminton
 ners.net
DTSTAMP:20260420T072434Z
SUMMARY:Thuismatch ingevuld? (Berlaar 1G (103) - Spinshuttle 3G (98))
DESCRIPTION:Je hebt 36 uur na aanvang om een thuismatch op Badmintonvlaande
 ren in te vullen. Match info: Berlaar 1G (103) - Spinshuttle 3G (98) - Lin
 k: https://www.badmintonvlaanderen.be/sport/teammatch.aspx?id=E5F03216-461
 9-44A1-A21C-5EA724CB9432&match=1094
DTSTART;TZID=Europe/Brussels:20221024T213000
DTEND;TZID=Europe/Brussels:20221024T213000
END:VEVENT
BEGIN:VEVENT
UID:E5F03216-4619-44A1-A21C-5EA724CB9432-25-1082_homereminder@110.badminton
 ners.net
DTSTAMP:20260420T072434Z
SUMMARY:Thuismatch ingevuld? (Berlaar 1G (103) - Opslag 2G (88))
DESCRIPTION:Je hebt 36 uur na aanvang om een thuismatch op Badmintonvlaande
 ren in te vullen. Match info: Berlaar 1G (103) - Opslag 2G (88) - Link: ht
 tps://www.badmintonvlaanderen.be/sport/teammatch.aspx?id=E5F03216-4619-44A
 1-A21C-5EA724CB9432&match=1082
DTSTART;TZID=Europe/Brussels:20221121T220000
DTEND;TZID=Europe/Brussels:20221121T220000
END:VEVENT
BEGIN:VEVENT
UID:E5F03216-4619-44A1-A21C-5EA724CB9432-25-1106_homereminder@110.badminton
 ners.net
DTSTAMP:20260420T072434Z
SUMMARY:Thuismatch ingevuld? (Berlaar 1G (103) - Poona 2G (82))
DESCRIPTION:Je hebt 36 uur na aanvang om een thuismatch op Badmintonvlaande
 ren in te vullen. Match info: Berlaar 1G (103) - Poona 2G (82) - Link: htt
 ps://www.badmintonvlaanderen.be/sport/teammatch.aspx?id=E5F03216-4619-44A1
 -A21C-5EA724CB9432&match=1106
DTSTART;TZID=Europe/Brussels:20221219T213000
DTEND;TZID=Europe/Brussels:20221219T213000
END:VEVENT
BEGIN:VEVENT
UID:E5F03216-4619-44A1-A21C-5EA724CB9432-25-1088_homereminder@110.badminton
 ners.net
DTSTAMP:20260420T072434Z
SUMMARY:Thuismatch ingevuld? (Berlaar 1G (103) - Klein Boom 6G (102))
DESCRIPTION:Je hebt 36 uur na aanvang om een thuismatch op Badmintonvlaande
 ren in te vullen. Match info: Berlaar 1G (103) - Klein Boom 6G (102) - Lin
 k: https://www.badmintonvlaanderen.be/sport/teammatch.aspx?id=E5F03216-461
 9-44A1-A21C-5EA724CB9432&match=1088
DTSTART;TZID=Europe/Brussels:20230130T213000
DTEND;TZID=Europe/Brussels:20230130T213000
END:VEVENT
BEGIN:VEVENT
UID:E5F03216-4619-44A1-A21C-5EA724CB9432-25-1112_homereminder@110.badminton
 ners.net
DTSTAMP:20260420T072434Z
SUMMARY:Thuismatch ingevuld? (Berlaar 1G (103) - Molse 2G (88))
DESCRIPTION:Je hebt 36 uur na aanvang om een thuismatch op Badmintonvlaande
 ren in te vullen. Match info: Berlaar 1G (103) - Molse 2G (88) - Link: htt
 ps://www.badmintonvlaanderen.be/sport/teammatch.aspx?id=E5F03216-4619-44A1
 -A21C-5EA724CB9432&match=1112
DTSTART;TZID=Europe/Brussels:20230213T213000
DTEND;TZID=Europe/Brussels:20230213T213000
END:VEVENT
BEGIN:VEVENT
UID:E5F03216-4619-44A1-A21C-5EA724CB9432-25-1100_homereminder@110.badminton
 ners.net
DTSTAMP:20260420T072434Z
SUMMARY:Thuismatch ingevuld? (Berlaar 1G (103) - Herentals 4G (93))
DESCRIPTION:Je hebt 36 uur na aanvang om een thuismatch op Badmintonvlaande
 ren in te vullen. Match info: Berlaar 1G (103) - Herentals 4G (93) - Link:
  https://www.badmintonvlaanderen.be/sport/teammatch.aspx?id=E5F03216-4619-
 44A1-A21C-5EA724CB9432&match=1100
DTSTART;TZID=Europe/Brussels:20230227T213000
DTEND;TZID=Europe/Brussels:20230227T213000
END:VEVENT
BEGIN:VEVENT
UID:E5F03216-4619-44A1-A21C-5EA724CB9432-25-1114_awayreminder@110.badminton
 ners.net
DTSTAMP:20260420T072434Z
SUMMARY:Uitmatch bevestigd? (Klein Boom 6G (102) - Berlaar 1G (103))
DESCRIPTION:Je hebt 72 uur na aanvang om een uitmatch op Badmintonvlaandere
 n in te vullen. Match info: Klein Boom 6G (102) - Berlaar 1G (103) - Link:
  https://www.badmintonvlaanderen.be/sport/teammatch.aspx?id=E5F03216-4619-
 44A1-A21C-5EA724CB9432&match=1114
DTSTART;TZID=Europe/Brussels:20220928T190000
DTEND;TZID=Europe/Brussels:20220928T190000
END:VEVENT
BEGIN:VEVENT
UID:E5F03216-4619-44A1-A21C-5EA724CB9432-25-1116_awayreminder@110.badminton
 ners.net
DTSTAMP:20260420T072434Z
SUMMARY:Uitmatch bevestigd? (Herentals 4G (93) - Berlaar 1G (103))
DESCRIPTION:Je hebt 72 uur na aanvang om een uitmatch op Badmintonvlaandere
 n in te vullen. Match info: Herentals 4G (93) - Berlaar 1G (103) - Link: h
 ttps://www.badmintonvlaanderen.be/sport/teammatch.aspx?id=E5F03216-4619-44
 A1-A21C-5EA724CB9432&match=1116
DTSTART;TZID=Europe/Brussels:20221117T210000
DTEND;TZID=Europe/Brussels:20221117T210000
END:VEVENT
BEGIN:VEVENT
UID:E5F03216-4619-44A1-A21C-5EA724CB9432-25-1118_awayreminder@110.badminton
 ners.net
DTSTAMP:20260420T072434Z
SUMMARY:Uitmatch bevestigd? (Molse 2G (88) - Berlaar 1G (103))
DESCRIPTION:Je hebt 72 uur na aanvang om een uitmatch op Badmintonvlaandere
 n in te vullen. Match info: Molse 2G (88) - Berlaar 1G (103) - Link: https
 ://www.badmintonvlaanderen.be/sport/teammatch.aspx?id=E5F03216-4619-44A1-A
 21C-5EA724CB9432&match=1118
DTSTART;TZID=Europe/Brussels:20221207T190000
DTEND;TZID=Europe/Brussels:20221207T190000
END:VEVENT
BEGIN:VEVENT
UID:E5F03216-4619-44A1-A21C-5EA724CB9432-25-1113_awayreminder@110.badminton
 ners.net
DTSTAMP:20260420T072434Z
SUMMARY:Uitmatch bevestigd? (Opslag 2G (88) - Berlaar 1G (103))
DESCRIPTION:Je hebt 72 uur na aanvang om een uitmatch op Badmintonvlaandere
 n in te vullen. Match info: Opslag 2G (88) - Berlaar 1G (103) - Link: http
 s://www.badmintonvlaanderen.be/sport/teammatch.aspx?id=E5F03216-4619-44A1-
 A21C-5EA724CB9432&match=1113
DTSTART;TZID=Europe/Brussels:20230118T191500
DTEND;TZID=Europe/Brussels:20230118T191500
END:VEVENT
BEGIN:VEVENT
UID:E5F03216-4619-44A1-A21C-5EA724CB9432-25-1117_awayreminder@110.badminton
 ners.net
DTSTAMP:20260420T072434Z
SUMMARY:Uitmatch bevestigd? (Poona 2G (82) - Berlaar 1G (103))
DESCRIPTION:Je hebt 72 uur na aanvang om een uitmatch op Badmintonvlaandere
 n in te vullen. Match info: Poona 2G (82) - Berlaar 1G (103) - Link: https
 ://www.badmintonvlaanderen.be/sport/teammatch.aspx?id=E5F03216-4619-44A1-A
 21C-5EA724CB9432&match=1117
DTSTART;TZID=Europe/Brussels:20230223T200000
DTEND;TZID=Europe/Brussels:20230223T200000
END:VEVENT
BEGIN:VEVENT
UID:E5F03216-4619-44A1-A21C-5EA724CB9432-25-1115_awayreminder@110.badminton
 ners.net
DTSTAMP:20260420T072434Z
SUMMARY:Uitmatch bevestigd? (Spinshuttle 3G (98) - Berlaar 1G (103))
DESCRIPTION:Je hebt 72 uur na aanvang om een uitmatch op Badmintonvlaandere
 n in te vullen. Match info: Spinshuttle 3G (98) - Berlaar 1G (103) - Link:
  https://www.badmintonvlaanderen.be/sport/teammatch.aspx?id=E5F03216-4619-
 44A1-A21C-5EA724CB9432&match=1115
DTSTART;TZID=Europe/Brussels:20230310T200000
DTEND;TZID=Europe/Brussels:20230310T200000
END:VEVENT
END:VCALENDAR