BEGIN:VCALENDAR
VERSION:2.0
PRODID:spatie/icalendar-generator
NAME:klein_boom_6g_102_reminders
X-WR-CALNAME:klein_boom_6g_102_reminders
BEGIN:VTIMEZONE
TZID:Europe/Brussels
BEGIN:DAYLIGHT
DTSTART:20220327T010000
TZOFFSETFROM:+0100
TZOFFSETTO:+0200
END:DAYLIGHT
BEGIN:STANDARD
DTSTART:20221030T030000
TZOFFSETFROM:+0200
TZOFFSETTO:+0100
END:STANDARD
BEGIN:DAYLIGHT
DTSTART:20230326T010000
TZOFFSETFROM:+0100
TZOFFSETTO:+0200
END:DAYLIGHT
END:VTIMEZONE
BEGIN:VTIMEZONE
TZID:UTC
BEGIN:STANDARD
DTSTART:20250727T093944
TZOFFSETFROM:+0000
TZOFFSETTO:+0000
END:STANDARD
END:VTIMEZONE
BEGIN:VEVENT
UID:E5F03216-4619-44A1-A21C-5EA724CB9432-25-1114_homereminder@113.badminton
 ners.net
DTSTAMP:20260423T093944Z
SUMMARY:Thuismatch ingevuld? (Klein Boom 6G (102) - Berlaar 1G (103))
DESCRIPTION:Je hebt 36 uur na aanvang om een thuismatch op Badmintonvlaande
 ren in te vullen. Match info: Klein Boom 6G (102) - Berlaar 1G (103) - Lin
 k: https://www.badmintonvlaanderen.be/sport/teammatch.aspx?id=E5F03216-461
 9-44A1-A21C-5EA724CB9432&match=1114
DTSTART;TZID=Europe/Brussels:20220927T070000
DTEND;TZID=Europe/Brussels:20220927T070000
END:VEVENT
BEGIN:VEVENT
UID:E5F03216-4619-44A1-A21C-5EA724CB9432-25-1102_homereminder@113.badminton
 ners.net
DTSTAMP:20260423T093944Z
SUMMARY:Thuismatch ingevuld? (Klein Boom 6G (102) - Poona 2G (82))
DESCRIPTION:Je hebt 36 uur na aanvang om een thuismatch op Badmintonvlaande
 ren in te vullen. Match info: Klein Boom 6G (102) - Poona 2G (82) - Link: 
 https://www.badmintonvlaanderen.be/sport/teammatch.aspx?id=E5F03216-4619-4
 4A1-A21C-5EA724CB9432&match=1102
DTSTART;TZID=Europe/Brussels:20221025T070000
DTEND;TZID=Europe/Brussels:20221025T070000
END:VEVENT
BEGIN:VEVENT
UID:E5F03216-4619-44A1-A21C-5EA724CB9432-25-1090_homereminder@113.badminton
 ners.net
DTSTAMP:20260423T093944Z
SUMMARY:Thuismatch ingevuld? (Klein Boom 6G (102) - Spinshuttle 3G (98))
DESCRIPTION:Je hebt 36 uur na aanvang om een thuismatch op Badmintonvlaande
 ren in te vullen. Match info: Klein Boom 6G (102) - Spinshuttle 3G (98) - 
 Link: https://www.badmintonvlaanderen.be/sport/teammatch.aspx?id=E5F03216-
 4619-44A1-A21C-5EA724CB9432&match=1090
DTSTART;TZID=Europe/Brussels:20221220T070000
DTEND;TZID=Europe/Brussels:20221220T070000
END:VEVENT
BEGIN:VEVENT
UID:E5F03216-4619-44A1-A21C-5EA724CB9432-25-1108_homereminder@113.badminton
 ners.net
DTSTAMP:20260423T093944Z
SUMMARY:Thuismatch ingevuld? (Klein Boom 6G (102) - Molse 2G (88))
DESCRIPTION:Je hebt 36 uur na aanvang om een thuismatch op Badmintonvlaande
 ren in te vullen. Match info: Klein Boom 6G (102) - Molse 2G (88) - Link: 
 https://www.badmintonvlaanderen.be/sport/teammatch.aspx?id=E5F03216-4619-4
 4A1-A21C-5EA724CB9432&match=1108
DTSTART;TZID=Europe/Brussels:20230117T070000
DTEND;TZID=Europe/Brussels:20230117T070000
END:VEVENT
BEGIN:VEVENT
UID:E5F03216-4619-44A1-A21C-5EA724CB9432-25-1096_homereminder@113.badminton
 ners.net
DTSTAMP:20260423T093944Z
SUMMARY:Thuismatch ingevuld? (Klein Boom 6G (102) - Herentals 4G (93))
DESCRIPTION:Je hebt 36 uur na aanvang om een thuismatch op Badmintonvlaande
 ren in te vullen. Match info: Klein Boom 6G (102) - Herentals 4G (93) - Li
 nk: https://www.badmintonvlaanderen.be/sport/teammatch.aspx?id=E5F03216-46
 19-44A1-A21C-5EA724CB9432&match=1096
DTSTART;TZID=Europe/Brussels:20230214T070000
DTEND;TZID=Europe/Brussels:20230214T070000
END:VEVENT
BEGIN:VEVENT
UID:E5F03216-4619-44A1-A21C-5EA724CB9432-25-1077_homereminder@113.badminton
 ners.net
DTSTAMP:20260423T093944Z
SUMMARY:Thuismatch ingevuld? (Klein Boom 6G (102) - Opslag 2G (88))
DESCRIPTION:Je hebt 36 uur na aanvang om een thuismatch op Badmintonvlaande
 ren in te vullen. Match info: Klein Boom 6G (102) - Opslag 2G (88) - Link:
  https://www.badmintonvlaanderen.be/sport/teammatch.aspx?id=E5F03216-4619-
 44A1-A21C-5EA724CB9432&match=1077
DTSTART;TZID=Europe/Brussels:20230314T070000
DTEND;TZID=Europe/Brussels:20230314T070000
END:VEVENT
BEGIN:VEVENT
UID:E5F03216-4619-44A1-A21C-5EA724CB9432-25-1083_awayreminder@113.badminton
 ners.net
DTSTAMP:20260423T093944Z
SUMMARY:Uitmatch bevestigd? (Opslag 2G (88) - Klein Boom 6G (102))
DESCRIPTION:Je hebt 72 uur na aanvang om een uitmatch op Badmintonvlaandere
 n in te vullen. Match info: Opslag 2G (88) - Klein Boom 6G (102) - Link: h
 ttps://www.badmintonvlaanderen.be/sport/teammatch.aspx?id=E5F03216-4619-44
 A1-A21C-5EA724CB9432&match=1083
DTSTART;TZID=Europe/Brussels:20221012T191500
DTEND;TZID=Europe/Brussels:20221012T191500
END:VEVENT
BEGIN:VEVENT
UID:E5F03216-4619-44A1-A21C-5EA724CB9432-25-1087_awayreminder@113.badminton
 ners.net
DTSTAMP:20260423T093944Z
SUMMARY:Uitmatch bevestigd? (Molse 2G (88) - Klein Boom 6G (102))
DESCRIPTION:Je hebt 72 uur na aanvang om een uitmatch op Badmintonvlaandere
 n in te vullen. Match info: Molse 2G (88) - Klein Boom 6G (102) - Link: ht
 tps://www.badmintonvlaanderen.be/sport/teammatch.aspx?id=E5F03216-4619-44A
 1-A21C-5EA724CB9432&match=1087
DTSTART;TZID=Europe/Brussels:20221123T190000
DTEND;TZID=Europe/Brussels:20221123T190000
END:VEVENT
BEGIN:VEVENT
UID:E5F03216-4619-44A1-A21C-5EA724CB9432-25-1085_awayreminder@113.badminton
 ners.net
DTSTAMP:20260423T093944Z
SUMMARY:Uitmatch bevestigd? (Herentals 4G (93) - Klein Boom 6G (102))
DESCRIPTION:Je hebt 72 uur na aanvang om een uitmatch op Badmintonvlaandere
 n in te vullen. Match info: Herentals 4G (93) - Klein Boom 6G (102) - Link
 : https://www.badmintonvlaanderen.be/sport/teammatch.aspx?id=E5F03216-4619
 -44A1-A21C-5EA724CB9432&match=1085
DTSTART;TZID=Europe/Brussels:20221201T210000
DTEND;TZID=Europe/Brussels:20221201T210000
END:VEVENT
BEGIN:VEVENT
UID:E5F03216-4619-44A1-A21C-5EA724CB9432-25-1088_awayreminder@113.badminton
 ners.net
DTSTAMP:20260423T093944Z
SUMMARY:Uitmatch bevestigd? (Berlaar 1G (103) - Klein Boom 6G (102))
DESCRIPTION:Je hebt 72 uur na aanvang om een uitmatch op Badmintonvlaandere
 n in te vullen. Match info: Berlaar 1G (103) - Klein Boom 6G (102) - Link:
  https://www.badmintonvlaanderen.be/sport/teammatch.aspx?id=E5F03216-4619-
 44A1-A21C-5EA724CB9432&match=1088
DTSTART;TZID=Europe/Brussels:20230201T093000
DTEND;TZID=Europe/Brussels:20230201T093000
END:VEVENT
BEGIN:VEVENT
UID:E5F03216-4619-44A1-A21C-5EA724CB9432-25-1086_awayreminder@113.badminton
 ners.net
DTSTAMP:20260423T093944Z
SUMMARY:Uitmatch bevestigd? (Poona 2G (82) - Klein Boom 6G (102))
DESCRIPTION:Je hebt 72 uur na aanvang om een uitmatch op Badmintonvlaandere
 n in te vullen. Match info: Poona 2G (82) - Klein Boom 6G (102) - Link: ht
 tps://www.badmintonvlaanderen.be/sport/teammatch.aspx?id=E5F03216-4619-44A
 1-A21C-5EA724CB9432&match=1086
DTSTART;TZID=Europe/Brussels:20230323T200000
DTEND;TZID=Europe/Brussels:20230323T200000
END:VEVENT
BEGIN:VEVENT
UID:E5F03216-4619-44A1-A21C-5EA724CB9432-25-1084_awayreminder@113.badminton
 ners.net
DTSTAMP:20260423T093944Z
SUMMARY:Uitmatch bevestigd? (Spinshuttle 3G (98) - Klein Boom 6G (102))
DESCRIPTION:Je hebt 72 uur na aanvang om een uitmatch op Badmintonvlaandere
 n in te vullen. Match info: Spinshuttle 3G (98) - Klein Boom 6G (102) - Li
 nk: https://www.badmintonvlaanderen.be/sport/teammatch.aspx?id=E5F03216-46
 19-44A1-A21C-5EA724CB9432&match=1084
DTSTART;TZID=Europe/Brussels:20230407T200000
DTEND;TZID=Europe/Brussels:20230407T200000
END:VEVENT
END:VCALENDAR