BEGIN:VCALENDAR
VERSION:2.0
PRODID:spatie/icalendar-generator
NAME:poona_2g_82_reminders
X-WR-CALNAME:poona_2g_82_reminders
BEGIN:VTIMEZONE
TZID:Europe/Brussels
BEGIN:DAYLIGHT
DTSTART:20220327T010000
TZOFFSETFROM:+0100
TZOFFSETTO:+0200
END:DAYLIGHT
BEGIN:STANDARD
DTSTART:20221030T030000
TZOFFSETFROM:+0200
TZOFFSETTO:+0100
END:STANDARD
BEGIN:DAYLIGHT
DTSTART:20230326T010000
TZOFFSETFROM:+0100
TZOFFSETTO:+0200
END:DAYLIGHT
END:VTIMEZONE
BEGIN:VTIMEZONE
TZID:UTC
BEGIN:STANDARD
DTSTART:20250724T072435
TZOFFSETFROM:+0000
TZOFFSETTO:+0000
END:STANDARD
END:VTIMEZONE
BEGIN:VEVENT
UID:E5F03216-4619-44A1-A21C-5EA724CB9432-25-1111_homereminder@91.badmintonn
 ers.net
DTSTAMP:20260420T072435Z
SUMMARY:Thuismatch ingevuld? (Poona 2G (82) - Molse 2G (88))
DESCRIPTION:Je hebt 36 uur na aanvang om een thuismatch op Badmintonvlaande
 ren in te vullen. Match info: Poona 2G (82) - Molse 2G (88) - Link: https:
 //www.badmintonvlaanderen.be/sport/teammatch.aspx?id=E5F03216-4619-44A1-A2
 1C-5EA724CB9432&match=1111
DTSTART;TZID=Europe/Brussels:20220907T080000
DTEND;TZID=Europe/Brussels:20220907T080000
END:VEVENT
BEGIN:VEVENT
UID:E5F03216-4619-44A1-A21C-5EA724CB9432-25-1092_homereminder@91.badmintonn
 ers.net
DTSTAMP:20260420T072435Z
SUMMARY:Thuismatch ingevuld? (Poona 2G (82) - Spinshuttle 3G (98))
DESCRIPTION:Je hebt 36 uur na aanvang om een thuismatch op Badmintonvlaande
 ren in te vullen. Match info: Poona 2G (82) - Spinshuttle 3G (98) - Link: 
 https://www.badmintonvlaanderen.be/sport/teammatch.aspx?id=E5F03216-4619-4
 4A1-A21C-5EA724CB9432&match=1092
DTSTART;TZID=Europe/Brussels:20221116T080000
DTEND;TZID=Europe/Brussels:20221116T080000
END:VEVENT
BEGIN:VEVENT
UID:E5F03216-4619-44A1-A21C-5EA724CB9432-25-1080_homereminder@91.badmintonn
 ers.net
DTSTAMP:20260420T072435Z
SUMMARY:Thuismatch ingevuld? (Poona 2G (82) - Opslag 2G (88))
DESCRIPTION:Je hebt 36 uur na aanvang om een thuismatch op Badmintonvlaande
 ren in te vullen. Match info: Poona 2G (82) - Opslag 2G (88) - Link: https
 ://www.badmintonvlaanderen.be/sport/teammatch.aspx?id=E5F03216-4619-44A1-A
 21C-5EA724CB9432&match=1080
DTSTART;TZID=Europe/Brussels:20221130T080000
DTEND;TZID=Europe/Brussels:20221130T080000
END:VEVENT
BEGIN:VEVENT
UID:E5F03216-4619-44A1-A21C-5EA724CB9432-25-1117_homereminder@91.badmintonn
 ers.net
DTSTAMP:20260420T072435Z
SUMMARY:Thuismatch ingevuld? (Poona 2G (82) - Berlaar 1G (103))
DESCRIPTION:Je hebt 36 uur na aanvang om een thuismatch op Badmintonvlaande
 ren in te vullen. Match info: Poona 2G (82) - Berlaar 1G (103) - Link: htt
 ps://www.badmintonvlaanderen.be/sport/teammatch.aspx?id=E5F03216-4619-44A1
 -A21C-5EA724CB9432&match=1117
DTSTART;TZID=Europe/Brussels:20230222T080000
DTEND;TZID=Europe/Brussels:20230222T080000
END:VEVENT
BEGIN:VEVENT
UID:E5F03216-4619-44A1-A21C-5EA724CB9432-25-1086_homereminder@91.badmintonn
 ers.net
DTSTAMP:20260420T072435Z
SUMMARY:Thuismatch ingevuld? (Poona 2G (82) - Klein Boom 6G (102))
DESCRIPTION:Je hebt 36 uur na aanvang om een thuismatch op Badmintonvlaande
 ren in te vullen. Match info: Poona 2G (82) - Klein Boom 6G (102) - Link: 
 https://www.badmintonvlaanderen.be/sport/teammatch.aspx?id=E5F03216-4619-4
 4A1-A21C-5EA724CB9432&match=1086
DTSTART;TZID=Europe/Brussels:20230322T080000
DTEND;TZID=Europe/Brussels:20230322T080000
END:VEVENT
BEGIN:VEVENT
UID:E5F03216-4619-44A1-A21C-5EA724CB9432-25-1098_homereminder@91.badmintonn
 ers.net
DTSTAMP:20260420T072435Z
SUMMARY:Thuismatch ingevuld? (Poona 2G (82) - Herentals 4G (93))
DESCRIPTION:Je hebt 36 uur na aanvang om een thuismatch op Badmintonvlaande
 ren in te vullen. Match info: Poona 2G (82) - Herentals 4G (93) - Link: ht
 tps://www.badmintonvlaanderen.be/sport/teammatch.aspx?id=E5F03216-4619-44A
 1-A21C-5EA724CB9432&match=1098
DTSTART;TZID=Europe/Brussels:20230405T080000
DTEND;TZID=Europe/Brussels:20230405T080000
END:VEVENT
BEGIN:VEVENT
UID:E5F03216-4619-44A1-A21C-5EA724CB9432-25-1102_awayreminder@91.badmintonn
 ers.net
DTSTAMP:20260420T072435Z
SUMMARY:Uitmatch bevestigd? (Klein Boom 6G (102) - Poona 2G (82))
DESCRIPTION:Je hebt 72 uur na aanvang om een uitmatch op Badmintonvlaandere
 n in te vullen. Match info: Klein Boom 6G (102) - Poona 2G (82) - Link: ht
 tps://www.badmintonvlaanderen.be/sport/teammatch.aspx?id=E5F03216-4619-44A
 1-A21C-5EA724CB9432&match=1102
DTSTART;TZID=Europe/Brussels:20221026T190000
DTEND;TZID=Europe/Brussels:20221026T190000
END:VEVENT
BEGIN:VEVENT
UID:E5F03216-4619-44A1-A21C-5EA724CB9432-25-1104_awayreminder@91.badmintonn
 ers.net
DTSTAMP:20260420T072435Z
SUMMARY:Uitmatch bevestigd? (Herentals 4G (93) - Poona 2G (82))
DESCRIPTION:Je hebt 72 uur na aanvang om een uitmatch op Badmintonvlaandere
 n in te vullen. Match info: Herentals 4G (93) - Poona 2G (82) - Link: http
 s://www.badmintonvlaanderen.be/sport/teammatch.aspx?id=E5F03216-4619-44A1-
 A21C-5EA724CB9432&match=1104
DTSTART;TZID=Europe/Brussels:20221124T210000
DTEND;TZID=Europe/Brussels:20221124T210000
END:VEVENT
BEGIN:VEVENT
UID:E5F03216-4619-44A1-A21C-5EA724CB9432-25-1106_awayreminder@91.badmintonn
 ers.net
DTSTAMP:20260420T072435Z
SUMMARY:Uitmatch bevestigd? (Berlaar 1G (103) - Poona 2G (82))
DESCRIPTION:Je hebt 72 uur na aanvang om een uitmatch op Badmintonvlaandere
 n in te vullen. Match info: Berlaar 1G (103) - Poona 2G (82) - Link: https
 ://www.badmintonvlaanderen.be/sport/teammatch.aspx?id=E5F03216-4619-44A1-A
 21C-5EA724CB9432&match=1106
DTSTART;TZID=Europe/Brussels:20221221T093000
DTEND;TZID=Europe/Brussels:20221221T093000
END:VEVENT
BEGIN:VEVENT
UID:E5F03216-4619-44A1-A21C-5EA724CB9432-25-1103_awayreminder@91.badmintonn
 ers.net
DTSTAMP:20260420T072435Z
SUMMARY:Uitmatch bevestigd? (Spinshuttle 3G (98) - Poona 2G (82))
DESCRIPTION:Je hebt 72 uur na aanvang om een uitmatch op Badmintonvlaandere
 n in te vullen. Match info: Spinshuttle 3G (98) - Poona 2G (82) - Link: ht
 tps://www.badmintonvlaanderen.be/sport/teammatch.aspx?id=E5F03216-4619-44A
 1-A21C-5EA724CB9432&match=1103
DTSTART;TZID=Europe/Brussels:20230113T200000
DTEND;TZID=Europe/Brussels:20230113T200000
END:VEVENT
BEGIN:VEVENT
UID:E5F03216-4619-44A1-A21C-5EA724CB9432-25-1101_awayreminder@91.badmintonn
 ers.net
DTSTAMP:20260420T072435Z
SUMMARY:Uitmatch bevestigd? (Opslag 2G (88) - Poona 2G (82))
DESCRIPTION:Je hebt 72 uur na aanvang om een uitmatch op Badmintonvlaandere
 n in te vullen. Match info: Opslag 2G (88) - Poona 2G (82) - Link: https:/
 /www.badmintonvlaanderen.be/sport/teammatch.aspx?id=E5F03216-4619-44A1-A21
 C-5EA724CB9432&match=1101
DTSTART;TZID=Europe/Brussels:20230215T191500
DTEND;TZID=Europe/Brussels:20230215T191500
END:VEVENT
BEGIN:VEVENT
UID:E5F03216-4619-44A1-A21C-5EA724CB9432-25-1105_awayreminder@91.badmintonn
 ers.net
DTSTAMP:20260420T072435Z
SUMMARY:Uitmatch bevestigd? (Molse 2G (88) - Poona 2G (82))
DESCRIPTION:Je hebt 72 uur na aanvang om een uitmatch op Badmintonvlaandere
 n in te vullen. Match info: Molse 2G (88) - Poona 2G (82) - Link: https://
 www.badmintonvlaanderen.be/sport/teammatch.aspx?id=E5F03216-4619-44A1-A21C
 -5EA724CB9432&match=1105
DTSTART;TZID=Europe/Brussels:20230315T190000
DTEND;TZID=Europe/Brussels:20230315T190000
END:VEVENT
END:VCALENDAR