BEGIN:VCALENDAR
VERSION:2.0
PRODID:spatie/icalendar-generator
NAME:opslag_2g_88_reminders
X-WR-CALNAME:opslag_2g_88_reminders
BEGIN:VTIMEZONE
TZID:Europe/Brussels
BEGIN:DAYLIGHT
DTSTART:20220327T010000
TZOFFSETFROM:+0100
TZOFFSETTO:+0200
END:DAYLIGHT
BEGIN:STANDARD
DTSTART:20221030T030000
TZOFFSETFROM:+0200
TZOFFSETTO:+0100
END:STANDARD
BEGIN:DAYLIGHT
DTSTART:20230326T010000
TZOFFSETFROM:+0100
TZOFFSETTO:+0200
END:DAYLIGHT
END:VTIMEZONE
BEGIN:VTIMEZONE
TZID:UTC
BEGIN:STANDARD
DTSTART:20250724T072407
TZOFFSETFROM:+0000
TZOFFSETTO:+0000
END:STANDARD
END:VTIMEZONE
BEGIN:VEVENT
UID:E5F03216-4619-44A1-A21C-5EA724CB9432-25-1107_homereminder@96.badmintonn
 ers.net
DTSTAMP:20260420T072407Z
SUMMARY:Thuismatch ingevuld? (Opslag 2G (88) - Molse 2G (88))
DESCRIPTION:Je hebt 36 uur na aanvang om een thuismatch op Badmintonvlaande
 ren in te vullen. Match info: Opslag 2G (88) - Molse 2G (88) - Link: https
 ://www.badmintonvlaanderen.be/sport/teammatch.aspx?id=E5F03216-4619-44A1-A
 21C-5EA724CB9432&match=1107
DTSTART;TZID=Europe/Brussels:20220927T071500
DTEND;TZID=Europe/Brussels:20220927T071500
END:VEVENT
BEGIN:VEVENT
UID:E5F03216-4619-44A1-A21C-5EA724CB9432-25-1083_homereminder@96.badmintonn
 ers.net
DTSTAMP:20260420T072407Z
SUMMARY:Thuismatch ingevuld? (Opslag 2G (88) - Klein Boom 6G (102))
DESCRIPTION:Je hebt 36 uur na aanvang om een thuismatch op Badmintonvlaande
 ren in te vullen. Match info: Opslag 2G (88) - Klein Boom 6G (102) - Link:
  https://www.badmintonvlaanderen.be/sport/teammatch.aspx?id=E5F03216-4619-
 44A1-A21C-5EA724CB9432&match=1083
DTSTART;TZID=Europe/Brussels:20221011T071500
DTEND;TZID=Europe/Brussels:20221011T071500
END:VEVENT
BEGIN:VEVENT
UID:E5F03216-4619-44A1-A21C-5EA724CB9432-25-1095_homereminder@96.badmintonn
 ers.net
DTSTAMP:20260420T072407Z
SUMMARY:Thuismatch ingevuld? (Opslag 2G (88) - Herentals 4G (93))
DESCRIPTION:Je hebt 36 uur na aanvang om een thuismatch op Badmintonvlaande
 ren in te vullen. Match info: Opslag 2G (88) - Herentals 4G (93) - Link: h
 ttps://www.badmintonvlaanderen.be/sport/teammatch.aspx?id=E5F03216-4619-44
 A1-A21C-5EA724CB9432&match=1095
DTSTART;TZID=Europe/Brussels:20221220T071500
DTEND;TZID=Europe/Brussels:20221220T071500
END:VEVENT
BEGIN:VEVENT
UID:E5F03216-4619-44A1-A21C-5EA724CB9432-25-1113_homereminder@96.badmintonn
 ers.net
DTSTAMP:20260420T072407Z
SUMMARY:Thuismatch ingevuld? (Opslag 2G (88) - Berlaar 1G (103))
DESCRIPTION:Je hebt 36 uur na aanvang om een thuismatch op Badmintonvlaande
 ren in te vullen. Match info: Opslag 2G (88) - Berlaar 1G (103) - Link: ht
 tps://www.badmintonvlaanderen.be/sport/teammatch.aspx?id=E5F03216-4619-44A
 1-A21C-5EA724CB9432&match=1113
DTSTART;TZID=Europe/Brussels:20230117T071500
DTEND;TZID=Europe/Brussels:20230117T071500
END:VEVENT
BEGIN:VEVENT
UID:E5F03216-4619-44A1-A21C-5EA724CB9432-25-1101_homereminder@96.badmintonn
 ers.net
DTSTAMP:20260420T072407Z
SUMMARY:Thuismatch ingevuld? (Opslag 2G (88) - Poona 2G (82))
DESCRIPTION:Je hebt 36 uur na aanvang om een thuismatch op Badmintonvlaande
 ren in te vullen. Match info: Opslag 2G (88) - Poona 2G (82) - Link: https
 ://www.badmintonvlaanderen.be/sport/teammatch.aspx?id=E5F03216-4619-44A1-A
 21C-5EA724CB9432&match=1101
DTSTART;TZID=Europe/Brussels:20230214T071500
DTEND;TZID=Europe/Brussels:20230214T071500
END:VEVENT
BEGIN:VEVENT
UID:E5F03216-4619-44A1-A21C-5EA724CB9432-25-1089_homereminder@96.badmintonn
 ers.net
DTSTAMP:20260420T072407Z
SUMMARY:Thuismatch ingevuld? (Opslag 2G (88) - Spinshuttle 3G (98))
DESCRIPTION:Je hebt 36 uur na aanvang om een thuismatch op Badmintonvlaande
 ren in te vullen. Match info: Opslag 2G (88) - Spinshuttle 3G (98) - Link:
  https://www.badmintonvlaanderen.be/sport/teammatch.aspx?id=E5F03216-4619-
 44A1-A21C-5EA724CB9432&match=1089
DTSTART;TZID=Europe/Brussels:20230425T071500
DTEND;TZID=Europe/Brussels:20230425T071500
END:VEVENT
BEGIN:VEVENT
UID:E5F03216-4619-44A1-A21C-5EA724CB9432-25-1078_awayreminder@96.badmintonn
 ers.net
DTSTAMP:20260420T072407Z
SUMMARY:Uitmatch bevestigd? (Spinshuttle 3G (98) - Opslag 2G (88))
DESCRIPTION:Je hebt 72 uur na aanvang om een uitmatch op Badmintonvlaandere
 n in te vullen. Match info: Spinshuttle 3G (98) - Opslag 2G (88) - Link: h
 ttps://www.badmintonvlaanderen.be/sport/teammatch.aspx?id=E5F03216-4619-44
 A1-A21C-5EA724CB9432&match=1078
DTSTART;TZID=Europe/Brussels:20221007T200000
DTEND;TZID=Europe/Brussels:20221007T200000
END:VEVENT
BEGIN:VEVENT
UID:E5F03216-4619-44A1-A21C-5EA724CB9432-25-1082_awayreminder@96.badmintonn
 ers.net
DTSTAMP:20260420T072407Z
SUMMARY:Uitmatch bevestigd? (Berlaar 1G (103) - Opslag 2G (88))
DESCRIPTION:Je hebt 72 uur na aanvang om een uitmatch op Badmintonvlaandere
 n in te vullen. Match info: Berlaar 1G (103) - Opslag 2G (88) - Link: http
 s://www.badmintonvlaanderen.be/sport/teammatch.aspx?id=E5F03216-4619-44A1-
 A21C-5EA724CB9432&match=1082
DTSTART;TZID=Europe/Brussels:20221123T100000
DTEND;TZID=Europe/Brussels:20221123T100000
END:VEVENT
BEGIN:VEVENT
UID:E5F03216-4619-44A1-A21C-5EA724CB9432-25-1080_awayreminder@96.badmintonn
 ers.net
DTSTAMP:20260420T072407Z
SUMMARY:Uitmatch bevestigd? (Poona 2G (82) - Opslag 2G (88))
DESCRIPTION:Je hebt 72 uur na aanvang om een uitmatch op Badmintonvlaandere
 n in te vullen. Match info: Poona 2G (82) - Opslag 2G (88) - Link: https:/
 /www.badmintonvlaanderen.be/sport/teammatch.aspx?id=E5F03216-4619-44A1-A21
 C-5EA724CB9432&match=1080
DTSTART;TZID=Europe/Brussels:20221201T200000
DTEND;TZID=Europe/Brussels:20221201T200000
END:VEVENT
BEGIN:VEVENT
UID:E5F03216-4619-44A1-A21C-5EA724CB9432-25-1079_awayreminder@96.badmintonn
 ers.net
DTSTAMP:20260420T072407Z
SUMMARY:Uitmatch bevestigd? (Herentals 4G (93) - Opslag 2G (88))
DESCRIPTION:Je hebt 72 uur na aanvang om een uitmatch op Badmintonvlaandere
 n in te vullen. Match info: Herentals 4G (93) - Opslag 2G (88) - Link: htt
 ps://www.badmintonvlaanderen.be/sport/teammatch.aspx?id=E5F03216-4619-44A1
 -A21C-5EA724CB9432&match=1079
DTSTART;TZID=Europe/Brussels:20230126T210000
DTEND;TZID=Europe/Brussels:20230126T210000
END:VEVENT
BEGIN:VEVENT
UID:E5F03216-4619-44A1-A21C-5EA724CB9432-25-1077_awayreminder@96.badmintonn
 ers.net
DTSTAMP:20260420T072407Z
SUMMARY:Uitmatch bevestigd? (Klein Boom 6G (102) - Opslag 2G (88))
DESCRIPTION:Je hebt 72 uur na aanvang om een uitmatch op Badmintonvlaandere
 n in te vullen. Match info: Klein Boom 6G (102) - Opslag 2G (88) - Link: h
 ttps://www.badmintonvlaanderen.be/sport/teammatch.aspx?id=E5F03216-4619-44
 A1-A21C-5EA724CB9432&match=1077
DTSTART;TZID=Europe/Brussels:20230315T190000
DTEND;TZID=Europe/Brussels:20230315T190000
END:VEVENT
BEGIN:VEVENT
UID:E5F03216-4619-44A1-A21C-5EA724CB9432-25-1081_awayreminder@96.badmintonn
 ers.net
DTSTAMP:20260420T072407Z
SUMMARY:Uitmatch bevestigd? (Molse 2G (88) - Opslag 2G (88))
DESCRIPTION:Je hebt 72 uur na aanvang om een uitmatch op Badmintonvlaandere
 n in te vullen. Match info: Molse 2G (88) - Opslag 2G (88) - Link: https:/
 /www.badmintonvlaanderen.be/sport/teammatch.aspx?id=E5F03216-4619-44A1-A21
 C-5EA724CB9432&match=1081
DTSTART;TZID=Europe/Brussels:20230329T190000
DTEND;TZID=Europe/Brussels:20230329T190000
END:VEVENT
END:VCALENDAR