BEGIN:VCALENDAR
VERSION:2.0
PRODID:spatie/icalendar-generator
NAME:klein_boom_3g_84_reminders
X-WR-CALNAME:klein_boom_3g_84_reminders
BEGIN:VTIMEZONE
TZID:Europe/Brussels
BEGIN:DAYLIGHT
DTSTART:20220327T010000
TZOFFSETFROM:+0100
TZOFFSETTO:+0200
END:DAYLIGHT
BEGIN:STANDARD
DTSTART:20221030T030000
TZOFFSETFROM:+0200
TZOFFSETTO:+0100
END:STANDARD
BEGIN:DAYLIGHT
DTSTART:20230326T010000
TZOFFSETFROM:+0100
TZOFFSETTO:+0200
END:DAYLIGHT
END:VTIMEZONE
BEGIN:VTIMEZONE
TZID:UTC
BEGIN:STANDARD
DTSTART:20250724T072403
TZOFFSETFROM:+0000
TZOFFSETTO:+0000
END:STANDARD
END:VTIMEZONE
BEGIN:VEVENT
UID:E5F03216-4619-44A1-A21C-5EA724CB9432-26-1144_homereminder@100.badminton
 ners.net
DTSTAMP:20260420T072403Z
SUMMARY:Thuismatch ingevuld? (Klein Boom 3G (84) - Noorderwijkse 2G (94))
DESCRIPTION:Je hebt 36 uur na aanvang om een thuismatch op Badmintonvlaande
 ren in te vullen. Match info: Klein Boom 3G (84) - Noorderwijkse 2G (94) -
  Link: https://www.badmintonvlaanderen.be/sport/teammatch.aspx?id=E5F03216
 -4619-44A1-A21C-5EA724CB9432&match=1144
DTSTART;TZID=Europe/Brussels:20221109T080000
DTEND;TZID=Europe/Brussels:20221109T080000
END:VEVENT
BEGIN:VEVENT
UID:E5F03216-4619-44A1-A21C-5EA724CB9432-26-1149_homereminder@100.badminton
 ners.net
DTSTAMP:20260420T072403Z
SUMMARY:Thuismatch ingevuld? (Klein Boom 3G (84) - Antverpino 1G (87))
DESCRIPTION:Je hebt 36 uur na aanvang om een thuismatch op Badmintonvlaande
 ren in te vullen. Match info: Klein Boom 3G (84) - Antverpino 1G (87) - Li
 nk: https://www.badmintonvlaanderen.be/sport/teammatch.aspx?id=E5F03216-46
 19-44A1-A21C-5EA724CB9432&match=1149
DTSTART;TZID=Europe/Brussels:20221220T070000
DTEND;TZID=Europe/Brussels:20221220T070000
END:VEVENT
BEGIN:VEVENT
UID:E5F03216-4619-44A1-A21C-5EA724CB9432-26-1129_homereminder@100.badminton
 ners.net
DTSTAMP:20260420T072403Z
SUMMARY:Thuismatch ingevuld? (Klein Boom 3G (84) - Brasschaat 5G (84))
DESCRIPTION:Je hebt 36 uur na aanvang om een thuismatch op Badmintonvlaande
 ren in te vullen. Match info: Klein Boom 3G (84) - Brasschaat 5G (84) - Li
 nk: https://www.badmintonvlaanderen.be/sport/teammatch.aspx?id=E5F03216-46
 19-44A1-A21C-5EA724CB9432&match=1129
DTSTART;TZID=Europe/Brussels:20230131T070000
DTEND;TZID=Europe/Brussels:20230131T070000
END:VEVENT
BEGIN:VEVENT
UID:E5F03216-4619-44A1-A21C-5EA724CB9432-26-1134_homereminder@100.badminton
 ners.net
DTSTAMP:20260420T072403Z
SUMMARY:Thuismatch ingevuld? (Klein Boom 3G (84) - Royal Antwerp 4G (80))
DESCRIPTION:Je hebt 36 uur na aanvang om een thuismatch op Badmintonvlaande
 ren in te vullen. Match info: Klein Boom 3G (84) - Royal Antwerp 4G (80) -
  Link: https://www.badmintonvlaanderen.be/sport/teammatch.aspx?id=E5F03216
 -4619-44A1-A21C-5EA724CB9432&match=1134
DTSTART;TZID=Europe/Brussels:20230228T070000
DTEND;TZID=Europe/Brussels:20230228T070000
END:VEVENT
BEGIN:VEVENT
UID:E5F03216-4619-44A1-A21C-5EA724CB9432-26-1139_homereminder@100.badminton
 ners.net
DTSTAMP:20260420T072403Z
SUMMARY:Thuismatch ingevuld? (Klein Boom 3G (84) - Sint job 1G (101))
DESCRIPTION:Je hebt 36 uur na aanvang om een thuismatch op Badmintonvlaande
 ren in te vullen. Match info: Klein Boom 3G (84) - Sint job 1G (101) - Lin
 k: https://www.badmintonvlaanderen.be/sport/teammatch.aspx?id=E5F03216-461
 9-44A1-A21C-5EA724CB9432&match=1139
DTSTART;TZID=Europe/Brussels:20230314T070000
DTEND;TZID=Europe/Brussels:20230314T070000
END:VEVENT
BEGIN:VEVENT
UID:E5F03216-4619-44A1-A21C-5EA724CB9432-26-1150_awayreminder@100.badminton
 ners.net
DTSTAMP:20260420T072403Z
SUMMARY:Uitmatch bevestigd? (Brasschaat 5G (84) - Klein Boom 3G (84))
DESCRIPTION:Je hebt 72 uur na aanvang om een uitmatch op Badmintonvlaandere
 n in te vullen. Match info: Brasschaat 5G (84) - Klein Boom 3G (84) - Link
 : https://www.badmintonvlaanderen.be/sport/teammatch.aspx?id=E5F03216-4619
 -44A1-A21C-5EA724CB9432&match=1150
DTSTART;TZID=Europe/Brussels:20220914T190000
DTEND;TZID=Europe/Brussels:20220914T190000
END:VEVENT
BEGIN:VEVENT
UID:E5F03216-4619-44A1-A21C-5EA724CB9432-26-1152_awayreminder@100.badminton
 ners.net
DTSTAMP:20260420T072403Z
SUMMARY:Uitmatch bevestigd? (Sint job 1G (101) - Klein Boom 3G (84))
DESCRIPTION:Je hebt 72 uur na aanvang om een uitmatch op Badmintonvlaandere
 n in te vullen. Match info: Sint job 1G (101) - Klein Boom 3G (84) - Link:
  https://www.badmintonvlaanderen.be/sport/teammatch.aspx?id=E5F03216-4619-
 44A1-A21C-5EA724CB9432&match=1152
DTSTART;TZID=Europe/Brussels:20221026T100000
DTEND;TZID=Europe/Brussels:20221026T100000
END:VEVENT
BEGIN:VEVENT
UID:E5F03216-4619-44A1-A21C-5EA724CB9432-26-1151_awayreminder@100.badminton
 ners.net
DTSTAMP:20260420T072403Z
SUMMARY:Uitmatch bevestigd? (Royal Antwerp 4G (80) - Klein Boom 3G (84))
DESCRIPTION:Je hebt 72 uur na aanvang om een uitmatch op Badmintonvlaandere
 n in te vullen. Match info: Royal Antwerp 4G (80) - Klein Boom 3G (84) - L
 ink: https://www.badmintonvlaanderen.be/sport/teammatch.aspx?id=E5F03216-4
 619-44A1-A21C-5EA724CB9432&match=1151
DTSTART;TZID=Europe/Brussels:20221207T180000
DTEND;TZID=Europe/Brussels:20221207T180000
END:VEVENT
BEGIN:VEVENT
UID:E5F03216-4619-44A1-A21C-5EA724CB9432-26-1153_awayreminder@100.badminton
 ners.net
DTSTAMP:20260420T072403Z
SUMMARY:Uitmatch bevestigd? (Noorderwijkse 2G (94) - Klein Boom 3G (84))
DESCRIPTION:Je hebt 72 uur na aanvang om een uitmatch op Badmintonvlaandere
 n in te vullen. Match info: Noorderwijkse 2G (94) - Klein Boom 3G (84) - L
 ink: https://www.badmintonvlaanderen.be/sport/teammatch.aspx?id=E5F03216-4
 619-44A1-A21C-5EA724CB9432&match=1153
DTSTART;TZID=Europe/Brussels:20230121T200000
DTEND;TZID=Europe/Brussels:20230121T200000
END:VEVENT
BEGIN:VEVENT
UID:E5F03216-4619-44A1-A21C-5EA724CB9432-26-1154_awayreminder@100.badminton
 ners.net
DTSTAMP:20260420T072403Z
SUMMARY:Uitmatch bevestigd? (Antverpino 1G (87) - Klein Boom 3G (84))
DESCRIPTION:Je hebt 72 uur na aanvang om een uitmatch op Badmintonvlaandere
 n in te vullen. Match info: Antverpino 1G (87) - Klein Boom 3G (84) - Link
 : https://www.badmintonvlaanderen.be/sport/teammatch.aspx?id=E5F03216-4619
 -44A1-A21C-5EA724CB9432&match=1154
DTSTART;TZID=Europe/Brussels:20230214T180000
DTEND;TZID=Europe/Brussels:20230214T180000
END:VEVENT
END:VCALENDAR