BEGIN:VCALENDAR
VERSION:2.0
PRODID:spatie/icalendar-generator
NAME:brasschaat_5g_84_reminders
X-WR-CALNAME:brasschaat_5g_84_reminders
BEGIN:VTIMEZONE
TZID:Europe/Brussels
BEGIN:DAYLIGHT
DTSTART:20220327T010000
TZOFFSETFROM:+0100
TZOFFSETTO:+0200
END:DAYLIGHT
BEGIN:STANDARD
DTSTART:20221030T030000
TZOFFSETFROM:+0200
TZOFFSETTO:+0100
END:STANDARD
BEGIN:DAYLIGHT
DTSTART:20230326T010000
TZOFFSETFROM:+0100
TZOFFSETTO:+0200
END:DAYLIGHT
END:VTIMEZONE
BEGIN:VTIMEZONE
TZID:UTC
BEGIN:STANDARD
DTSTART:20250724T072433
TZOFFSETFROM:+0000
TZOFFSETTO:+0000
END:STANDARD
END:VTIMEZONE
BEGIN:VEVENT
UID:E5F03216-4619-44A1-A21C-5EA724CB9432-26-1150_homereminder@105.badminton
 ners.net
DTSTAMP:20260420T072433Z
SUMMARY:Thuismatch ingevuld? (Brasschaat 5G (84) - Klein Boom 3G (84))
DESCRIPTION:Je hebt 36 uur na aanvang om een thuismatch op Badmintonvlaande
 ren in te vullen. Match info: Brasschaat 5G (84) - Klein Boom 3G (84) - Li
 nk: https://www.badmintonvlaanderen.be/sport/teammatch.aspx?id=E5F03216-46
 19-44A1-A21C-5EA724CB9432&match=1150
DTSTART;TZID=Europe/Brussels:20220913T070000
DTEND;TZID=Europe/Brussels:20220913T070000
END:VEVENT
BEGIN:VEVENT
UID:E5F03216-4619-44A1-A21C-5EA724CB9432-26-1130_homereminder@105.badminton
 ners.net
DTSTAMP:20260420T072433Z
SUMMARY:Thuismatch ingevuld? (Brasschaat 5G (84) - Royal Antwerp 4G (80))
DESCRIPTION:Je hebt 36 uur na aanvang om een thuismatch op Badmintonvlaande
 ren in te vullen. Match info: Brasschaat 5G (84) - Royal Antwerp 4G (80) -
  Link: https://www.badmintonvlaanderen.be/sport/teammatch.aspx?id=E5F03216
 -4619-44A1-A21C-5EA724CB9432&match=1130
DTSTART;TZID=Europe/Brussels:20220927T070000
DTEND;TZID=Europe/Brussels:20220927T070000
END:VEVENT
BEGIN:VEVENT
UID:E5F03216-4619-44A1-A21C-5EA724CB9432-26-1140_homereminder@105.badminton
 ners.net
DTSTAMP:20260420T072433Z
SUMMARY:Thuismatch ingevuld? (Brasschaat 5G (84) - Noorderwijkse 2G (94))
DESCRIPTION:Je hebt 36 uur na aanvang om een thuismatch op Badmintonvlaande
 ren in te vullen. Match info: Brasschaat 5G (84) - Noorderwijkse 2G (94) -
  Link: https://www.badmintonvlaanderen.be/sport/teammatch.aspx?id=E5F03216
 -4619-44A1-A21C-5EA724CB9432&match=1140
DTSTART;TZID=Europe/Brussels:20221220T070000
DTEND;TZID=Europe/Brussels:20221220T070000
END:VEVENT
BEGIN:VEVENT
UID:E5F03216-4619-44A1-A21C-5EA724CB9432-26-1145_homereminder@105.badminton
 ners.net
DTSTAMP:20260420T072433Z
SUMMARY:Thuismatch ingevuld? (Brasschaat 5G (84) - Antverpino 1G (87))
DESCRIPTION:Je hebt 36 uur na aanvang om een thuismatch op Badmintonvlaande
 ren in te vullen. Match info: Brasschaat 5G (84) - Antverpino 1G (87) - Li
 nk: https://www.badmintonvlaanderen.be/sport/teammatch.aspx?id=E5F03216-46
 19-44A1-A21C-5EA724CB9432&match=1145
DTSTART;TZID=Europe/Brussels:20230314T070000
DTEND;TZID=Europe/Brussels:20230314T070000
END:VEVENT
BEGIN:VEVENT
UID:E5F03216-4619-44A1-A21C-5EA724CB9432-26-1135_homereminder@105.badminton
 ners.net
DTSTAMP:20260420T072433Z
SUMMARY:Thuismatch ingevuld? (Brasschaat 5G (84) - Sint job 1G (101))
DESCRIPTION:Je hebt 36 uur na aanvang om een thuismatch op Badmintonvlaande
 ren in te vullen. Match info: Brasschaat 5G (84) - Sint job 1G (101) - Lin
 k: https://www.badmintonvlaanderen.be/sport/teammatch.aspx?id=E5F03216-461
 9-44A1-A21C-5EA724CB9432&match=1135
DTSTART;TZID=Europe/Brussels:20230425T070000
DTEND;TZID=Europe/Brussels:20230425T070000
END:VEVENT
BEGIN:VEVENT
UID:E5F03216-4619-44A1-A21C-5EA724CB9432-26-1128_awayreminder@105.badminton
 ners.net
DTSTAMP:20260420T072433Z
SUMMARY:Uitmatch bevestigd? (Antverpino 1G (87) - Brasschaat 5G (84))
DESCRIPTION:Je hebt 72 uur na aanvang om een uitmatch op Badmintonvlaandere
 n in te vullen. Match info: Antverpino 1G (87) - Brasschaat 5G (84) - Link
 : https://www.badmintonvlaanderen.be/sport/teammatch.aspx?id=E5F03216-4619
 -44A1-A21C-5EA724CB9432&match=1128
DTSTART;TZID=Europe/Brussels:20221025T150000
DTEND;TZID=Europe/Brussels:20221025T150000
END:VEVENT
BEGIN:VEVENT
UID:E5F03216-4619-44A1-A21C-5EA724CB9432-26-1126_awayreminder@105.badminton
 ners.net
DTSTAMP:20260420T072433Z
SUMMARY:Uitmatch bevestigd? (Sint job 1G (101) - Brasschaat 5G (84))
DESCRIPTION:Je hebt 72 uur na aanvang om een uitmatch op Badmintonvlaandere
 n in te vullen. Match info: Sint job 1G (101) - Brasschaat 5G (84) - Link:
  https://www.badmintonvlaanderen.be/sport/teammatch.aspx?id=E5F03216-4619-
 44A1-A21C-5EA724CB9432&match=1126
DTSTART;TZID=Europe/Brussels:20221207T100000
DTEND;TZID=Europe/Brussels:20221207T100000
END:VEVENT
BEGIN:VEVENT
UID:E5F03216-4619-44A1-A21C-5EA724CB9432-26-1125_awayreminder@105.badminton
 ners.net
DTSTAMP:20260420T072433Z
SUMMARY:Uitmatch bevestigd? (Royal Antwerp 4G (80) - Brasschaat 5G (84))
DESCRIPTION:Je hebt 72 uur na aanvang om een uitmatch op Badmintonvlaandere
 n in te vullen. Match info: Royal Antwerp 4G (80) - Brasschaat 5G (84) - L
 ink: https://www.badmintonvlaanderen.be/sport/teammatch.aspx?id=E5F03216-4
 619-44A1-A21C-5EA724CB9432&match=1125
DTSTART;TZID=Europe/Brussels:20230118T180000
DTEND;TZID=Europe/Brussels:20230118T180000
END:VEVENT
BEGIN:VEVENT
UID:E5F03216-4619-44A1-A21C-5EA724CB9432-26-1129_awayreminder@105.badminton
 ners.net
DTSTAMP:20260420T072433Z
SUMMARY:Uitmatch bevestigd? (Klein Boom 3G (84) - Brasschaat 5G (84))
DESCRIPTION:Je hebt 72 uur na aanvang om een uitmatch op Badmintonvlaandere
 n in te vullen. Match info: Klein Boom 3G (84) - Brasschaat 5G (84) - Link
 : https://www.badmintonvlaanderen.be/sport/teammatch.aspx?id=E5F03216-4619
 -44A1-A21C-5EA724CB9432&match=1129
DTSTART;TZID=Europe/Brussels:20230201T190000
DTEND;TZID=Europe/Brussels:20230201T190000
END:VEVENT
BEGIN:VEVENT
UID:E5F03216-4619-44A1-A21C-5EA724CB9432-26-1127_awayreminder@105.badminton
 ners.net
DTSTAMP:20260420T072433Z
SUMMARY:Uitmatch bevestigd? (Noorderwijkse 2G (94) - Brasschaat 5G (84))
DESCRIPTION:Je hebt 72 uur na aanvang om een uitmatch op Badmintonvlaandere
 n in te vullen. Match info: Noorderwijkse 2G (94) - Brasschaat 5G (84) - L
 ink: https://www.badmintonvlaanderen.be/sport/teammatch.aspx?id=E5F03216-4
 619-44A1-A21C-5EA724CB9432&match=1127
DTSTART;TZID=Europe/Brussels:20230211T200000
DTEND;TZID=Europe/Brussels:20230211T200000
END:VEVENT
END:VCALENDAR