BEGIN:VCALENDAR
VERSION:2.0
PRODID:spatie/icalendar-generator
NAME:royal_antwerp_4g_80_reminders
X-WR-CALNAME:royal_antwerp_4g_80_reminders
BEGIN:VTIMEZONE
TZID:Europe/Brussels
BEGIN:DAYLIGHT
DTSTART:20220327T010000
TZOFFSETFROM:+0100
TZOFFSETTO:+0200
END:DAYLIGHT
BEGIN:STANDARD
DTSTART:20221030T030000
TZOFFSETFROM:+0200
TZOFFSETTO:+0100
END:STANDARD
BEGIN:DAYLIGHT
DTSTART:20230326T010000
TZOFFSETFROM:+0100
TZOFFSETTO:+0200
END:DAYLIGHT
END:VTIMEZONE
BEGIN:VTIMEZONE
TZID:UTC
BEGIN:STANDARD
DTSTART:20250724T072404
TZOFFSETFROM:+0000
TZOFFSETTO:+0000
END:STANDARD
END:VTIMEZONE
BEGIN:VEVENT
UID:E5F03216-4619-44A1-A21C-5EA724CB9432-26-1146_homereminder@90.badmintonn
 ers.net
DTSTAMP:20260420T072404Z
SUMMARY:Thuismatch ingevuld? (Royal Antwerp 4G (80) - Antverpino 1G (87))
DESCRIPTION:Je hebt 36 uur na aanvang om een thuismatch op Badmintonvlaande
 ren in te vullen. Match info: Royal Antwerp 4G (80) - Antverpino 1G (87) -
  Link: https://www.badmintonvlaanderen.be/sport/teammatch.aspx?id=E5F03216
 -4619-44A1-A21C-5EA724CB9432&match=1146
DTSTART;TZID=Europe/Brussels:20221122T060000
DTEND;TZID=Europe/Brussels:20221122T060000
END:VEVENT
BEGIN:VEVENT
UID:E5F03216-4619-44A1-A21C-5EA724CB9432-26-1151_homereminder@90.badmintonn
 ers.net
DTSTAMP:20260420T072404Z
SUMMARY:Thuismatch ingevuld? (Royal Antwerp 4G (80) - Klein Boom 3G (84))
DESCRIPTION:Je hebt 36 uur na aanvang om een thuismatch op Badmintonvlaande
 ren in te vullen. Match info: Royal Antwerp 4G (80) - Klein Boom 3G (84) -
  Link: https://www.badmintonvlaanderen.be/sport/teammatch.aspx?id=E5F03216
 -4619-44A1-A21C-5EA724CB9432&match=1151
DTSTART;TZID=Europe/Brussels:20221206T060000
DTEND;TZID=Europe/Brussels:20221206T060000
END:VEVENT
BEGIN:VEVENT
UID:E5F03216-4619-44A1-A21C-5EA724CB9432-26-1136_homereminder@90.badmintonn
 ers.net
DTSTAMP:20260420T072404Z
SUMMARY:Thuismatch ingevuld? (Royal Antwerp 4G (80) - Sint job 1G (101))
DESCRIPTION:Je hebt 36 uur na aanvang om een thuismatch op Badmintonvlaande
 ren in te vullen. Match info: Royal Antwerp 4G (80) - Sint job 1G (101) - 
 Link: https://www.badmintonvlaanderen.be/sport/teammatch.aspx?id=E5F03216-
 4619-44A1-A21C-5EA724CB9432&match=1136
DTSTART;TZID=Europe/Brussels:20221220T060000
DTEND;TZID=Europe/Brussels:20221220T060000
END:VEVENT
BEGIN:VEVENT
UID:E5F03216-4619-44A1-A21C-5EA724CB9432-26-1125_homereminder@90.badmintonn
 ers.net
DTSTAMP:20260420T072404Z
SUMMARY:Thuismatch ingevuld? (Royal Antwerp 4G (80) - Brasschaat 5G (84))
DESCRIPTION:Je hebt 36 uur na aanvang om een thuismatch op Badmintonvlaande
 ren in te vullen. Match info: Royal Antwerp 4G (80) - Brasschaat 5G (84) -
  Link: https://www.badmintonvlaanderen.be/sport/teammatch.aspx?id=E5F03216
 -4619-44A1-A21C-5EA724CB9432&match=1125
DTSTART;TZID=Europe/Brussels:20230117T060000
DTEND;TZID=Europe/Brussels:20230117T060000
END:VEVENT
BEGIN:VEVENT
UID:E5F03216-4619-44A1-A21C-5EA724CB9432-26-1141_homereminder@90.badmintonn
 ers.net
DTSTAMP:20260420T072404Z
SUMMARY:Thuismatch ingevuld? (Royal Antwerp 4G (80) - Noorderwijkse 2G (94)
 )
DESCRIPTION:Je hebt 36 uur na aanvang om een thuismatch op Badmintonvlaande
 ren in te vullen. Match info: Royal Antwerp 4G (80) - Noorderwijkse 2G (94
 ) - Link: https://www.badmintonvlaanderen.be/sport/teammatch.aspx?id=E5F03
 216-4619-44A1-A21C-5EA724CB9432&match=1141
DTSTART;TZID=Europe/Brussels:20230307T060000
DTEND;TZID=Europe/Brussels:20230307T060000
END:VEVENT
BEGIN:VEVENT
UID:E5F03216-4619-44A1-A21C-5EA724CB9432-26-1130_awayreminder@90.badmintonn
 ers.net
DTSTAMP:20260420T072404Z
SUMMARY:Uitmatch bevestigd? (Brasschaat 5G (84) - Royal Antwerp 4G (80))
DESCRIPTION:Je hebt 72 uur na aanvang om een uitmatch op Badmintonvlaandere
 n in te vullen. Match info: Brasschaat 5G (84) - Royal Antwerp 4G (80) - L
 ink: https://www.badmintonvlaanderen.be/sport/teammatch.aspx?id=E5F03216-4
 619-44A1-A21C-5EA724CB9432&match=1130
DTSTART;TZID=Europe/Brussels:20220928T190000
DTEND;TZID=Europe/Brussels:20220928T190000
END:VEVENT
BEGIN:VEVENT
UID:E5F03216-4619-44A1-A21C-5EA724CB9432-26-1132_awayreminder@90.badmintonn
 ers.net
DTSTAMP:20260420T072404Z
SUMMARY:Uitmatch bevestigd? (Noorderwijkse 2G (94) - Royal Antwerp 4G (80))
DESCRIPTION:Je hebt 72 uur na aanvang om een uitmatch op Badmintonvlaandere
 n in te vullen. Match info: Noorderwijkse 2G (94) - Royal Antwerp 4G (80) 
 - Link: https://www.badmintonvlaanderen.be/sport/teammatch.aspx?id=E5F0321
 6-4619-44A1-A21C-5EA724CB9432&match=1132
DTSTART;TZID=Europe/Brussels:20221015T200000
DTEND;TZID=Europe/Brussels:20221015T200000
END:VEVENT
BEGIN:VEVENT
UID:E5F03216-4619-44A1-A21C-5EA724CB9432-26-1133_awayreminder@90.badmintonn
 ers.net
DTSTAMP:20260420T072404Z
SUMMARY:Uitmatch bevestigd? (Antverpino 1G (87) - Royal Antwerp 4G (80))
DESCRIPTION:Je hebt 72 uur na aanvang om een uitmatch op Badmintonvlaandere
 n in te vullen. Match info: Antverpino 1G (87) - Royal Antwerp 4G (80) - L
 ink: https://www.badmintonvlaanderen.be/sport/teammatch.aspx?id=E5F03216-4
 619-44A1-A21C-5EA724CB9432&match=1133
DTSTART;TZID=Europe/Brussels:20230131T180000
DTEND;TZID=Europe/Brussels:20230131T180000
END:VEVENT
BEGIN:VEVENT
UID:E5F03216-4619-44A1-A21C-5EA724CB9432-26-1131_awayreminder@90.badmintonn
 ers.net
DTSTAMP:20260420T072404Z
SUMMARY:Uitmatch bevestigd? (Sint job 1G (101) - Royal Antwerp 4G (80))
DESCRIPTION:Je hebt 72 uur na aanvang om een uitmatch op Badmintonvlaandere
 n in te vullen. Match info: Sint job 1G (101) - Royal Antwerp 4G (80) - Li
 nk: https://www.badmintonvlaanderen.be/sport/teammatch.aspx?id=E5F03216-46
 19-44A1-A21C-5EA724CB9432&match=1131
DTSTART;TZID=Europe/Brussels:20230215T100000
DTEND;TZID=Europe/Brussels:20230215T100000
END:VEVENT
BEGIN:VEVENT
UID:E5F03216-4619-44A1-A21C-5EA724CB9432-26-1134_awayreminder@90.badmintonn
 ers.net
DTSTAMP:20260420T072404Z
SUMMARY:Uitmatch bevestigd? (Klein Boom 3G (84) - Royal Antwerp 4G (80))
DESCRIPTION:Je hebt 72 uur na aanvang om een uitmatch op Badmintonvlaandere
 n in te vullen. Match info: Klein Boom 3G (84) - Royal Antwerp 4G (80) - L
 ink: https://www.badmintonvlaanderen.be/sport/teammatch.aspx?id=E5F03216-4
 619-44A1-A21C-5EA724CB9432&match=1134
DTSTART;TZID=Europe/Brussels:20230301T190000
DTEND;TZID=Europe/Brussels:20230301T190000
END:VEVENT
END:VCALENDAR