BEGIN:VCALENDAR
VERSION:2.0
PRODID:spatie/icalendar-generator
NAME:noorderwijkse_2g_94_reminders
X-WR-CALNAME:noorderwijkse_2g_94_reminders
BEGIN:VTIMEZONE
TZID:Europe/Brussels
BEGIN:DAYLIGHT
DTSTART:20220327T010000
TZOFFSETFROM:+0100
TZOFFSETTO:+0200
END:DAYLIGHT
BEGIN:STANDARD
DTSTART:20221030T030000
TZOFFSETFROM:+0200
TZOFFSETTO:+0100
END:STANDARD
BEGIN:DAYLIGHT
DTSTART:20230326T010000
TZOFFSETFROM:+0100
TZOFFSETTO:+0200
END:DAYLIGHT
END:VTIMEZONE
BEGIN:VTIMEZONE
TZID:UTC
BEGIN:STANDARD
DTSTART:20250724T072404
TZOFFSETFROM:+0000
TZOFFSETTO:+0000
END:STANDARD
END:VTIMEZONE
BEGIN:VEVENT
UID:E5F03216-4619-44A1-A21C-5EA724CB9432-26-1137_homereminder@92.badmintonn
 ers.net
DTSTAMP:20260420T072404Z
SUMMARY:Thuismatch ingevuld? (Noorderwijkse 2G (94) - Sint job 1G (101))
DESCRIPTION:Je hebt 36 uur na aanvang om een thuismatch op Badmintonvlaande
 ren in te vullen. Match info: Noorderwijkse 2G (94) - Sint job 1G (101) - 
 Link: https://www.badmintonvlaanderen.be/sport/teammatch.aspx?id=E5F03216-
 4619-44A1-A21C-5EA724CB9432&match=1137
DTSTART;TZID=Europe/Brussels:20220923T080000
DTEND;TZID=Europe/Brussels:20220923T080000
END:VEVENT
BEGIN:VEVENT
UID:E5F03216-4619-44A1-A21C-5EA724CB9432-26-1132_homereminder@92.badmintonn
 ers.net
DTSTAMP:20260420T072404Z
SUMMARY:Thuismatch ingevuld? (Noorderwijkse 2G (94) - Royal Antwerp 4G (80)
 )
DESCRIPTION:Je hebt 36 uur na aanvang om een thuismatch op Badmintonvlaande
 ren in te vullen. Match info: Noorderwijkse 2G (94) - Royal Antwerp 4G (80
 ) - Link: https://www.badmintonvlaanderen.be/sport/teammatch.aspx?id=E5F03
 216-4619-44A1-A21C-5EA724CB9432&match=1132
DTSTART;TZID=Europe/Brussels:20221014T080000
DTEND;TZID=Europe/Brussels:20221014T080000
END:VEVENT
BEGIN:VEVENT
UID:E5F03216-4619-44A1-A21C-5EA724CB9432-26-1148_homereminder@92.badmintonn
 ers.net
DTSTAMP:20260420T072404Z
SUMMARY:Thuismatch ingevuld? (Noorderwijkse 2G (94) - Antverpino 1G (87))
DESCRIPTION:Je hebt 36 uur na aanvang om een thuismatch op Badmintonvlaande
 ren in te vullen. Match info: Noorderwijkse 2G (94) - Antverpino 1G (87) -
  Link: https://www.badmintonvlaanderen.be/sport/teammatch.aspx?id=E5F03216
 -4619-44A1-A21C-5EA724CB9432&match=1148
DTSTART;TZID=Europe/Brussels:20221125T080000
DTEND;TZID=Europe/Brussels:20221125T080000
END:VEVENT
BEGIN:VEVENT
UID:E5F03216-4619-44A1-A21C-5EA724CB9432-26-1153_homereminder@92.badmintonn
 ers.net
DTSTAMP:20260420T072404Z
SUMMARY:Thuismatch ingevuld? (Noorderwijkse 2G (94) - Klein Boom 3G (84))
DESCRIPTION:Je hebt 36 uur na aanvang om een thuismatch op Badmintonvlaande
 ren in te vullen. Match info: Noorderwijkse 2G (94) - Klein Boom 3G (84) -
  Link: https://www.badmintonvlaanderen.be/sport/teammatch.aspx?id=E5F03216
 -4619-44A1-A21C-5EA724CB9432&match=1153
DTSTART;TZID=Europe/Brussels:20230120T080000
DTEND;TZID=Europe/Brussels:20230120T080000
END:VEVENT
BEGIN:VEVENT
UID:E5F03216-4619-44A1-A21C-5EA724CB9432-26-1127_homereminder@92.badmintonn
 ers.net
DTSTAMP:20260420T072404Z
SUMMARY:Thuismatch ingevuld? (Noorderwijkse 2G (94) - Brasschaat 5G (84))
DESCRIPTION:Je hebt 36 uur na aanvang om een thuismatch op Badmintonvlaande
 ren in te vullen. Match info: Noorderwijkse 2G (94) - Brasschaat 5G (84) -
  Link: https://www.badmintonvlaanderen.be/sport/teammatch.aspx?id=E5F03216
 -4619-44A1-A21C-5EA724CB9432&match=1127
DTSTART;TZID=Europe/Brussels:20230210T080000
DTEND;TZID=Europe/Brussels:20230210T080000
END:VEVENT
BEGIN:VEVENT
UID:E5F03216-4619-44A1-A21C-5EA724CB9432-26-1144_awayreminder@92.badmintonn
 ers.net
DTSTAMP:20260420T072404Z
SUMMARY:Uitmatch bevestigd? (Klein Boom 3G (84) - Noorderwijkse 2G (94))
DESCRIPTION:Je hebt 72 uur na aanvang om een uitmatch op Badmintonvlaandere
 n in te vullen. Match info: Klein Boom 3G (84) - Noorderwijkse 2G (94) - L
 ink: https://www.badmintonvlaanderen.be/sport/teammatch.aspx?id=E5F03216-4
 619-44A1-A21C-5EA724CB9432&match=1144
DTSTART;TZID=Europe/Brussels:20221110T200000
DTEND;TZID=Europe/Brussels:20221110T200000
END:VEVENT
BEGIN:VEVENT
UID:E5F03216-4619-44A1-A21C-5EA724CB9432-26-1140_awayreminder@92.badmintonn
 ers.net
DTSTAMP:20260420T072404Z
SUMMARY:Uitmatch bevestigd? (Brasschaat 5G (84) - Noorderwijkse 2G (94))
DESCRIPTION:Je hebt 72 uur na aanvang om een uitmatch op Badmintonvlaandere
 n in te vullen. Match info: Brasschaat 5G (84) - Noorderwijkse 2G (94) - L
 ink: https://www.badmintonvlaanderen.be/sport/teammatch.aspx?id=E5F03216-4
 619-44A1-A21C-5EA724CB9432&match=1140
DTSTART;TZID=Europe/Brussels:20221221T190000
DTEND;TZID=Europe/Brussels:20221221T190000
END:VEVENT
BEGIN:VEVENT
UID:E5F03216-4619-44A1-A21C-5EA724CB9432-26-1142_awayreminder@92.badmintonn
 ers.net
DTSTAMP:20260420T072404Z
SUMMARY:Uitmatch bevestigd? (Sint job 1G (101) - Noorderwijkse 2G (94))
DESCRIPTION:Je hebt 72 uur na aanvang om een uitmatch op Badmintonvlaandere
 n in te vullen. Match info: Sint job 1G (101) - Noorderwijkse 2G (94) - Li
 nk: https://www.badmintonvlaanderen.be/sport/teammatch.aspx?id=E5F03216-46
 19-44A1-A21C-5EA724CB9432&match=1142
DTSTART;TZID=Europe/Brussels:20230201T100000
DTEND;TZID=Europe/Brussels:20230201T100000
END:VEVENT
BEGIN:VEVENT
UID:E5F03216-4619-44A1-A21C-5EA724CB9432-26-1141_awayreminder@92.badmintonn
 ers.net
DTSTAMP:20260420T072404Z
SUMMARY:Uitmatch bevestigd? (Royal Antwerp 4G (80) - Noorderwijkse 2G (94))
DESCRIPTION:Je hebt 72 uur na aanvang om een uitmatch op Badmintonvlaandere
 n in te vullen. Match info: Royal Antwerp 4G (80) - Noorderwijkse 2G (94) 
 - Link: https://www.badmintonvlaanderen.be/sport/teammatch.aspx?id=E5F0321
 6-4619-44A1-A21C-5EA724CB9432&match=1141
DTSTART;TZID=Europe/Brussels:20230308T180000
DTEND;TZID=Europe/Brussels:20230308T180000
END:VEVENT
BEGIN:VEVENT
UID:E5F03216-4619-44A1-A21C-5EA724CB9432-26-1143_awayreminder@92.badmintonn
 ers.net
DTSTAMP:20260420T072404Z
SUMMARY:Uitmatch bevestigd? (Antverpino 1G (87) - Noorderwijkse 2G (94))
DESCRIPTION:Je hebt 72 uur na aanvang om een uitmatch op Badmintonvlaandere
 n in te vullen. Match info: Antverpino 1G (87) - Noorderwijkse 2G (94) - L
 ink: https://www.badmintonvlaanderen.be/sport/teammatch.aspx?id=E5F03216-4
 619-44A1-A21C-5EA724CB9432&match=1143
DTSTART;TZID=Europe/Brussels:20230425T180000
DTEND;TZID=Europe/Brussels:20230425T180000
END:VEVENT
END:VCALENDAR