BEGIN:VCALENDAR
VERSION:2.0
PRODID:spatie/icalendar-generator
NAME:antverpino_1g_87_reminders
X-WR-CALNAME:antverpino_1g_87_reminders
BEGIN:VTIMEZONE
TZID:Europe/Brussels
BEGIN:DAYLIGHT
DTSTART:20220327T010000
TZOFFSETFROM:+0100
TZOFFSETTO:+0200
END:DAYLIGHT
BEGIN:STANDARD
DTSTART:20221030T030000
TZOFFSETFROM:+0200
TZOFFSETTO:+0100
END:STANDARD
BEGIN:DAYLIGHT
DTSTART:20230326T010000
TZOFFSETFROM:+0100
TZOFFSETTO:+0200
END:DAYLIGHT
END:VTIMEZONE
BEGIN:VTIMEZONE
TZID:UTC
BEGIN:STANDARD
DTSTART:20250724T072434
TZOFFSETFROM:+0000
TZOFFSETTO:+0000
END:STANDARD
END:VTIMEZONE
BEGIN:VEVENT
UID:E5F03216-4619-44A1-A21C-5EA724CB9432-26-1128_homereminder@94.badmintonn
 ers.net
DTSTAMP:20260420T072434Z
SUMMARY:Thuismatch ingevuld? (Antverpino 1G (87) - Brasschaat 5G (84))
DESCRIPTION:Je hebt 36 uur na aanvang om een thuismatch op Badmintonvlaande
 ren in te vullen. Match info: Antverpino 1G (87) - Brasschaat 5G (84) - Li
 nk: https://www.badmintonvlaanderen.be/sport/teammatch.aspx?id=E5F03216-46
 19-44A1-A21C-5EA724CB9432&match=1128
DTSTART;TZID=Europe/Brussels:20221024T030000
DTEND;TZID=Europe/Brussels:20221024T030000
END:VEVENT
BEGIN:VEVENT
UID:E5F03216-4619-44A1-A21C-5EA724CB9432-26-1138_homereminder@94.badmintonn
 ers.net
DTSTAMP:20260420T072434Z
SUMMARY:Thuismatch ingevuld? (Antverpino 1G (87) - Sint job 1G (101))
DESCRIPTION:Je hebt 36 uur na aanvang om een thuismatch op Badmintonvlaande
 ren in te vullen. Match info: Antverpino 1G (87) - Sint job 1G (101) - Lin
 k: https://www.badmintonvlaanderen.be/sport/teammatch.aspx?id=E5F03216-461
 9-44A1-A21C-5EA724CB9432&match=1138
DTSTART;TZID=Europe/Brussels:20221212T060000
DTEND;TZID=Europe/Brussels:20221212T060000
END:VEVENT
BEGIN:VEVENT
UID:E5F03216-4619-44A1-A21C-5EA724CB9432-26-1133_homereminder@94.badmintonn
 ers.net
DTSTAMP:20260420T072434Z
SUMMARY:Thuismatch ingevuld? (Antverpino 1G (87) - Royal Antwerp 4G (80))
DESCRIPTION:Je hebt 36 uur na aanvang om een thuismatch op Badmintonvlaande
 ren in te vullen. Match info: Antverpino 1G (87) - Royal Antwerp 4G (80) -
  Link: https://www.badmintonvlaanderen.be/sport/teammatch.aspx?id=E5F03216
 -4619-44A1-A21C-5EA724CB9432&match=1133
DTSTART;TZID=Europe/Brussels:20230130T060000
DTEND;TZID=Europe/Brussels:20230130T060000
END:VEVENT
BEGIN:VEVENT
UID:E5F03216-4619-44A1-A21C-5EA724CB9432-26-1154_homereminder@94.badmintonn
 ers.net
DTSTAMP:20260420T072434Z
SUMMARY:Thuismatch ingevuld? (Antverpino 1G (87) - Klein Boom 3G (84))
DESCRIPTION:Je hebt 36 uur na aanvang om een thuismatch op Badmintonvlaande
 ren in te vullen. Match info: Antverpino 1G (87) - Klein Boom 3G (84) - Li
 nk: https://www.badmintonvlaanderen.be/sport/teammatch.aspx?id=E5F03216-46
 19-44A1-A21C-5EA724CB9432&match=1154
DTSTART;TZID=Europe/Brussels:20230213T060000
DTEND;TZID=Europe/Brussels:20230213T060000
END:VEVENT
BEGIN:VEVENT
UID:E5F03216-4619-44A1-A21C-5EA724CB9432-26-1143_homereminder@94.badmintonn
 ers.net
DTSTAMP:20260420T072434Z
SUMMARY:Thuismatch ingevuld? (Antverpino 1G (87) - Noorderwijkse 2G (94))
DESCRIPTION:Je hebt 36 uur na aanvang om een thuismatch op Badmintonvlaande
 ren in te vullen. Match info: Antverpino 1G (87) - Noorderwijkse 2G (94) -
  Link: https://www.badmintonvlaanderen.be/sport/teammatch.aspx?id=E5F03216
 -4619-44A1-A21C-5EA724CB9432&match=1143
DTSTART;TZID=Europe/Brussels:20230424T060000
DTEND;TZID=Europe/Brussels:20230424T060000
END:VEVENT
BEGIN:VEVENT
UID:E5F03216-4619-44A1-A21C-5EA724CB9432-26-1146_awayreminder@94.badmintonn
 ers.net
DTSTAMP:20260420T072434Z
SUMMARY:Uitmatch bevestigd? (Royal Antwerp 4G (80) - Antverpino 1G (87))
DESCRIPTION:Je hebt 72 uur na aanvang om een uitmatch op Badmintonvlaandere
 n in te vullen. Match info: Royal Antwerp 4G (80) - Antverpino 1G (87) - L
 ink: https://www.badmintonvlaanderen.be/sport/teammatch.aspx?id=E5F03216-4
 619-44A1-A21C-5EA724CB9432&match=1146
DTSTART;TZID=Europe/Brussels:20221123T180000
DTEND;TZID=Europe/Brussels:20221123T180000
END:VEVENT
BEGIN:VEVENT
UID:E5F03216-4619-44A1-A21C-5EA724CB9432-26-1148_awayreminder@94.badmintonn
 ers.net
DTSTAMP:20260420T072434Z
SUMMARY:Uitmatch bevestigd? (Noorderwijkse 2G (94) - Antverpino 1G (87))
DESCRIPTION:Je hebt 72 uur na aanvang om een uitmatch op Badmintonvlaandere
 n in te vullen. Match info: Noorderwijkse 2G (94) - Antverpino 1G (87) - L
 ink: https://www.badmintonvlaanderen.be/sport/teammatch.aspx?id=E5F03216-4
 619-44A1-A21C-5EA724CB9432&match=1148
DTSTART;TZID=Europe/Brussels:20221126T200000
DTEND;TZID=Europe/Brussels:20221126T200000
END:VEVENT
BEGIN:VEVENT
UID:E5F03216-4619-44A1-A21C-5EA724CB9432-26-1149_awayreminder@94.badmintonn
 ers.net
DTSTAMP:20260420T072434Z
SUMMARY:Uitmatch bevestigd? (Klein Boom 3G (84) - Antverpino 1G (87))
DESCRIPTION:Je hebt 72 uur na aanvang om een uitmatch op Badmintonvlaandere
 n in te vullen. Match info: Klein Boom 3G (84) - Antverpino 1G (87) - Link
 : https://www.badmintonvlaanderen.be/sport/teammatch.aspx?id=E5F03216-4619
 -44A1-A21C-5EA724CB9432&match=1149
DTSTART;TZID=Europe/Brussels:20221221T190000
DTEND;TZID=Europe/Brussels:20221221T190000
END:VEVENT
BEGIN:VEVENT
UID:E5F03216-4619-44A1-A21C-5EA724CB9432-26-1145_awayreminder@94.badmintonn
 ers.net
DTSTAMP:20260420T072434Z
SUMMARY:Uitmatch bevestigd? (Brasschaat 5G (84) - Antverpino 1G (87))
DESCRIPTION:Je hebt 72 uur na aanvang om een uitmatch op Badmintonvlaandere
 n in te vullen. Match info: Brasschaat 5G (84) - Antverpino 1G (87) - Link
 : https://www.badmintonvlaanderen.be/sport/teammatch.aspx?id=E5F03216-4619
 -44A1-A21C-5EA724CB9432&match=1145
DTSTART;TZID=Europe/Brussels:20230315T190000
DTEND;TZID=Europe/Brussels:20230315T190000
END:VEVENT
BEGIN:VEVENT
UID:E5F03216-4619-44A1-A21C-5EA724CB9432-26-1147_awayreminder@94.badmintonn
 ers.net
DTSTAMP:20260420T072434Z
SUMMARY:Uitmatch bevestigd? (Sint job 1G (101) - Antverpino 1G (87))
DESCRIPTION:Je hebt 72 uur na aanvang om een uitmatch op Badmintonvlaandere
 n in te vullen. Match info: Sint job 1G (101) - Antverpino 1G (87) - Link:
  https://www.badmintonvlaanderen.be/sport/teammatch.aspx?id=E5F03216-4619-
 44A1-A21C-5EA724CB9432&match=1147
DTSTART;TZID=Europe/Brussels:20230329T100000
DTEND;TZID=Europe/Brussels:20230329T100000
END:VEVENT
END:VCALENDAR