BEGIN:VCALENDAR
VERSION:2.0
PRODID:spatie/icalendar-generator
NAME:sint_job_1g_101_reminders
X-WR-CALNAME:sint_job_1g_101_reminders
BEGIN:VTIMEZONE
TZID:Europe/Brussels
BEGIN:DAYLIGHT
DTSTART:20220327T010000
TZOFFSETFROM:+0100
TZOFFSETTO:+0200
END:DAYLIGHT
BEGIN:STANDARD
DTSTART:20221030T030000
TZOFFSETFROM:+0200
TZOFFSETTO:+0100
END:STANDARD
BEGIN:DAYLIGHT
DTSTART:20230326T010000
TZOFFSETFROM:+0100
TZOFFSETTO:+0200
END:DAYLIGHT
END:VTIMEZONE
BEGIN:VTIMEZONE
TZID:UTC
BEGIN:STANDARD
DTSTART:20250724T055210
TZOFFSETFROM:+0000
TZOFFSETTO:+0000
END:STANDARD
END:VTIMEZONE
BEGIN:VEVENT
UID:E5F03216-4619-44A1-A21C-5EA724CB9432-26-1152_homereminder@97.badmintonn
 ers.net
DTSTAMP:20260420T055210Z
SUMMARY:Thuismatch ingevuld? (Sint job 1G (101) - Klein Boom 3G (84))
DESCRIPTION:Je hebt 36 uur na aanvang om een thuismatch op Badmintonvlaande
 ren in te vullen. Match info: Sint job 1G (101) - Klein Boom 3G (84) - Lin
 k: https://www.badmintonvlaanderen.be/sport/teammatch.aspx?id=E5F03216-461
 9-44A1-A21C-5EA724CB9432&match=1152
DTSTART;TZID=Europe/Brussels:20221024T220000
DTEND;TZID=Europe/Brussels:20221024T220000
END:VEVENT
BEGIN:VEVENT
UID:E5F03216-4619-44A1-A21C-5EA724CB9432-26-1126_homereminder@97.badmintonn
 ers.net
DTSTAMP:20260420T055210Z
SUMMARY:Thuismatch ingevuld? (Sint job 1G (101) - Brasschaat 5G (84))
DESCRIPTION:Je hebt 36 uur na aanvang om een thuismatch op Badmintonvlaande
 ren in te vullen. Match info: Sint job 1G (101) - Brasschaat 5G (84) - Lin
 k: https://www.badmintonvlaanderen.be/sport/teammatch.aspx?id=E5F03216-461
 9-44A1-A21C-5EA724CB9432&match=1126
DTSTART;TZID=Europe/Brussels:20221205T220000
DTEND;TZID=Europe/Brussels:20221205T220000
END:VEVENT
BEGIN:VEVENT
UID:E5F03216-4619-44A1-A21C-5EA724CB9432-26-1142_homereminder@97.badmintonn
 ers.net
DTSTAMP:20260420T055210Z
SUMMARY:Thuismatch ingevuld? (Sint job 1G (101) - Noorderwijkse 2G (94))
DESCRIPTION:Je hebt 36 uur na aanvang om een thuismatch op Badmintonvlaande
 ren in te vullen. Match info: Sint job 1G (101) - Noorderwijkse 2G (94) - 
 Link: https://www.badmintonvlaanderen.be/sport/teammatch.aspx?id=E5F03216-
 4619-44A1-A21C-5EA724CB9432&match=1142
DTSTART;TZID=Europe/Brussels:20230130T220000
DTEND;TZID=Europe/Brussels:20230130T220000
END:VEVENT
BEGIN:VEVENT
UID:E5F03216-4619-44A1-A21C-5EA724CB9432-26-1131_homereminder@97.badmintonn
 ers.net
DTSTAMP:20260420T055210Z
SUMMARY:Thuismatch ingevuld? (Sint job 1G (101) - Royal Antwerp 4G (80))
DESCRIPTION:Je hebt 36 uur na aanvang om een thuismatch op Badmintonvlaande
 ren in te vullen. Match info: Sint job 1G (101) - Royal Antwerp 4G (80) - 
 Link: https://www.badmintonvlaanderen.be/sport/teammatch.aspx?id=E5F03216-
 4619-44A1-A21C-5EA724CB9432&match=1131
DTSTART;TZID=Europe/Brussels:20230213T220000
DTEND;TZID=Europe/Brussels:20230213T220000
END:VEVENT
BEGIN:VEVENT
UID:E5F03216-4619-44A1-A21C-5EA724CB9432-26-1147_homereminder@97.badmintonn
 ers.net
DTSTAMP:20260420T055210Z
SUMMARY:Thuismatch ingevuld? (Sint job 1G (101) - Antverpino 1G (87))
DESCRIPTION:Je hebt 36 uur na aanvang om een thuismatch op Badmintonvlaande
 ren in te vullen. Match info: Sint job 1G (101) - Antverpino 1G (87) - Lin
 k: https://www.badmintonvlaanderen.be/sport/teammatch.aspx?id=E5F03216-461
 9-44A1-A21C-5EA724CB9432&match=1147
DTSTART;TZID=Europe/Brussels:20230327T220000
DTEND;TZID=Europe/Brussels:20230327T220000
END:VEVENT
BEGIN:VEVENT
UID:E5F03216-4619-44A1-A21C-5EA724CB9432-26-1137_awayreminder@97.badmintonn
 ers.net
DTSTAMP:20260420T055210Z
SUMMARY:Uitmatch bevestigd? (Noorderwijkse 2G (94) - Sint job 1G (101))
DESCRIPTION:Je hebt 72 uur na aanvang om een uitmatch op Badmintonvlaandere
 n in te vullen. Match info: Noorderwijkse 2G (94) - Sint job 1G (101) - Li
 nk: https://www.badmintonvlaanderen.be/sport/teammatch.aspx?id=E5F03216-46
 19-44A1-A21C-5EA724CB9432&match=1137
DTSTART;TZID=Europe/Brussels:20220924T200000
DTEND;TZID=Europe/Brussels:20220924T200000
END:VEVENT
BEGIN:VEVENT
UID:E5F03216-4619-44A1-A21C-5EA724CB9432-26-1138_awayreminder@97.badmintonn
 ers.net
DTSTAMP:20260420T055210Z
SUMMARY:Uitmatch bevestigd? (Antverpino 1G (87) - Sint job 1G (101))
DESCRIPTION:Je hebt 72 uur na aanvang om een uitmatch op Badmintonvlaandere
 n in te vullen. Match info: Antverpino 1G (87) - Sint job 1G (101) - Link:
  https://www.badmintonvlaanderen.be/sport/teammatch.aspx?id=E5F03216-4619-
 44A1-A21C-5EA724CB9432&match=1138
DTSTART;TZID=Europe/Brussels:20221213T180000
DTEND;TZID=Europe/Brussels:20221213T180000
END:VEVENT
BEGIN:VEVENT
UID:E5F03216-4619-44A1-A21C-5EA724CB9432-26-1136_awayreminder@97.badmintonn
 ers.net
DTSTAMP:20260420T055210Z
SUMMARY:Uitmatch bevestigd? (Royal Antwerp 4G (80) - Sint job 1G (101))
DESCRIPTION:Je hebt 72 uur na aanvang om een uitmatch op Badmintonvlaandere
 n in te vullen. Match info: Royal Antwerp 4G (80) - Sint job 1G (101) - Li
 nk: https://www.badmintonvlaanderen.be/sport/teammatch.aspx?id=E5F03216-46
 19-44A1-A21C-5EA724CB9432&match=1136
DTSTART;TZID=Europe/Brussels:20221221T180000
DTEND;TZID=Europe/Brussels:20221221T180000
END:VEVENT
BEGIN:VEVENT
UID:E5F03216-4619-44A1-A21C-5EA724CB9432-26-1139_awayreminder@97.badmintonn
 ers.net
DTSTAMP:20260420T055210Z
SUMMARY:Uitmatch bevestigd? (Klein Boom 3G (84) - Sint job 1G (101))
DESCRIPTION:Je hebt 72 uur na aanvang om een uitmatch op Badmintonvlaandere
 n in te vullen. Match info: Klein Boom 3G (84) - Sint job 1G (101) - Link:
  https://www.badmintonvlaanderen.be/sport/teammatch.aspx?id=E5F03216-4619-
 44A1-A21C-5EA724CB9432&match=1139
DTSTART;TZID=Europe/Brussels:20230315T190000
DTEND;TZID=Europe/Brussels:20230315T190000
END:VEVENT
BEGIN:VEVENT
UID:E5F03216-4619-44A1-A21C-5EA724CB9432-26-1135_awayreminder@97.badmintonn
 ers.net
DTSTAMP:20260420T055210Z
SUMMARY:Uitmatch bevestigd? (Brasschaat 5G (84) - Sint job 1G (101))
DESCRIPTION:Je hebt 72 uur na aanvang om een uitmatch op Badmintonvlaandere
 n in te vullen. Match info: Brasschaat 5G (84) - Sint job 1G (101) - Link:
  https://www.badmintonvlaanderen.be/sport/teammatch.aspx?id=E5F03216-4619-
 44A1-A21C-5EA724CB9432&match=1135
DTSTART;TZID=Europe/Brussels:20230426T190000
DTEND;TZID=Europe/Brussels:20230426T190000
END:VEVENT
END:VCALENDAR