BEGIN:VCALENDAR
VERSION:2.0
PRODID:spatie/icalendar-generator
NAME:de_nekker_3g_87_reminders
X-WR-CALNAME:de_nekker_3g_87_reminders
BEGIN:VTIMEZONE
TZID:Europe/Brussels
BEGIN:DAYLIGHT
DTSTART:20220327T010000
TZOFFSETFROM:+0100
TZOFFSETTO:+0200
END:DAYLIGHT
BEGIN:STANDARD
DTSTART:20221030T030000
TZOFFSETFROM:+0200
TZOFFSETTO:+0100
END:STANDARD
BEGIN:DAYLIGHT
DTSTART:20230326T010000
TZOFFSETFROM:+0100
TZOFFSETTO:+0200
END:DAYLIGHT
BEGIN:STANDARD
DTSTART:20231029T030000
TZOFFSETFROM:+0200
TZOFFSETTO:+0100
END:STANDARD
END:VTIMEZONE
BEGIN:VTIMEZONE
TZID:UTC
BEGIN:STANDARD
DTSTART:20250724T055215
TZOFFSETFROM:+0000
TZOFFSETTO:+0000
END:STANDARD
END:VTIMEZONE
BEGIN:VEVENT
UID:E5F03216-4619-44A1-A21C-5EA724CB9432-27-1184_homereminder@106.badminton
 ners.net
DTSTAMP:20260420T055215Z
SUMMARY:Thuismatch ingevuld? (De Nekker 3G (87) - Rita Serveert 1G (92))
DESCRIPTION:Je hebt 36 uur na aanvang om een thuismatch op Badmintonvlaande
 ren in te vullen. Match info: De Nekker 3G (87) - Rita Serveert 1G (92) - 
 Link: https://www.badmintonvlaanderen.be/sport/teammatch.aspx?id=E5F03216-
 4619-44A1-A21C-5EA724CB9432&match=1184
DTSTART;TZID=Europe/Brussels:20221007T083000
DTEND;TZID=Europe/Brussels:20221007T083000
END:VEVENT
BEGIN:VEVENT
UID:E5F03216-4619-44A1-A21C-5EA724CB9432-27-1168_homereminder@106.badminton
 ners.net
DTSTAMP:20260420T055215Z
SUMMARY:Thuismatch ingevuld? (De Nekker 3G (87) - Zoersel 2G (91))
DESCRIPTION:Je hebt 36 uur na aanvang om een thuismatch op Badmintonvlaande
 ren in te vullen. Match info: De Nekker 3G (87) - Zoersel 2G (91) - Link: 
 https://www.badmintonvlaanderen.be/sport/teammatch.aspx?id=E5F03216-4619-4
 4A1-A21C-5EA724CB9432&match=1168
DTSTART;TZID=Europe/Brussels:20221216T083000
DTEND;TZID=Europe/Brussels:20221216T083000
END:VEVENT
BEGIN:VEVENT
UID:E5F03216-4619-44A1-A21C-5EA724CB9432-27-1173_homereminder@106.badminton
 ners.net
DTSTAMP:20260420T055215Z
SUMMARY:Thuismatch ingevuld? (De Nekker 3G (87) - Amateurs 1G (104))
DESCRIPTION:Je hebt 36 uur na aanvang om een thuismatch op Badmintonvlaande
 ren in te vullen. Match info: De Nekker 3G (87) - Amateurs 1G (104) - Link
 : https://www.badmintonvlaanderen.be/sport/teammatch.aspx?id=E5F03216-4619
 -44A1-A21C-5EA724CB9432&match=1173
DTSTART;TZID=Europe/Brussels:20230113T083000
DTEND;TZID=Europe/Brussels:20230113T083000
END:VEVENT
BEGIN:VEVENT
UID:E5F03216-4619-44A1-A21C-5EA724CB9432-27-1163_homereminder@106.badminton
 ners.net
DTSTAMP:20260420T055215Z
SUMMARY:Thuismatch ingevuld? (De Nekker 3G (87) - Klein Boom 4G (86))
DESCRIPTION:Je hebt 36 uur na aanvang om een thuismatch op Badmintonvlaande
 ren in te vullen. Match info: De Nekker 3G (87) - Klein Boom 4G (86) - Lin
 k: https://www.badmintonvlaanderen.be/sport/teammatch.aspx?id=E5F03216-461
 9-44A1-A21C-5EA724CB9432&match=1163
DTSTART;TZID=Europe/Brussels:20230324T083000
DTEND;TZID=Europe/Brussels:20230324T083000
END:VEVENT
BEGIN:VEVENT
UID:E5F03216-4619-44A1-A21C-5EA724CB9432-27-1189_homereminder@106.badminton
 ners.net
DTSTAMP:20260420T055215Z
SUMMARY:Thuismatch ingevuld? (De Nekker 3G (87) - Zandhoven 1G (95))
DESCRIPTION:Je hebt 36 uur na aanvang om een thuismatch op Badmintonvlaande
 ren in te vullen. Match info: De Nekker 3G (87) - Zandhoven 1G (95) - Link
 : https://www.badmintonvlaanderen.be/sport/teammatch.aspx?id=E5F03216-4619
 -44A1-A21C-5EA724CB9432&match=1189
DTSTART;TZID=Europe/Brussels:20230427T083000
DTEND;TZID=Europe/Brussels:20230427T083000
END:VEVENT
BEGIN:VEVENT
UID:E5F03216-4619-44A1-A21C-5EA724CB9432-27-1176_awayreminder@106.badminton
 ners.net
DTSTAMP:20260420T055215Z
SUMMARY:Uitmatch bevestigd? (Klein Boom 4G (86) - De Nekker 3G (87))
DESCRIPTION:Je hebt 72 uur na aanvang om een uitmatch op Badmintonvlaandere
 n in te vullen. Match info: Klein Boom 4G (86) - De Nekker 3G (87) - Link:
  https://www.badmintonvlaanderen.be/sport/teammatch.aspx?id=E5F03216-4619-
 44A1-A21C-5EA724CB9432&match=1176
DTSTART;TZID=Europe/Brussels:20220914T190000
DTEND;TZID=Europe/Brussels:20220914T190000
END:VEVENT
BEGIN:VEVENT
UID:E5F03216-4619-44A1-A21C-5EA724CB9432-27-1178_awayreminder@106.badminton
 ners.net
DTSTAMP:20260420T055215Z
SUMMARY:Uitmatch bevestigd? (Amateurs 1G (104) - De Nekker 3G (87))
DESCRIPTION:Je hebt 72 uur na aanvang om een uitmatch op Badmintonvlaandere
 n in te vullen. Match info: Amateurs 1G (104) - De Nekker 3G (87) - Link: 
 https://www.badmintonvlaanderen.be/sport/teammatch.aspx?id=E5F03216-4619-4
 4A1-A21C-5EA724CB9432&match=1178
DTSTART;TZID=Europe/Brussels:20221023T210000
DTEND;TZID=Europe/Brussels:20221023T210000
END:VEVENT
BEGIN:VEVENT
UID:E5F03216-4619-44A1-A21C-5EA724CB9432-27-1180_awayreminder@106.badminton
 ners.net
DTSTAMP:20260420T055215Z
SUMMARY:Uitmatch bevestigd? (Zandhoven 1G (95) - De Nekker 3G (87))
DESCRIPTION:Je hebt 72 uur na aanvang om een uitmatch op Badmintonvlaandere
 n in te vullen. Match info: Zandhoven 1G (95) - De Nekker 3G (87) - Link: 
 https://www.badmintonvlaanderen.be/sport/teammatch.aspx?id=E5F03216-4619-4
 4A1-A21C-5EA724CB9432&match=1180
DTSTART;TZID=Europe/Brussels:20221201T200000
DTEND;TZID=Europe/Brussels:20221201T200000
END:VEVENT
BEGIN:VEVENT
UID:E5F03216-4619-44A1-A21C-5EA724CB9432-27-1179_awayreminder@106.badminton
 ners.net
DTSTAMP:20260420T055215Z
SUMMARY:Uitmatch bevestigd? (Rita Serveert 1G (92) - De Nekker 3G (87))
DESCRIPTION:Je hebt 72 uur na aanvang om een uitmatch op Badmintonvlaandere
 n in te vullen. Match info: Rita Serveert 1G (92) - De Nekker 3G (87) - Li
 nk: https://www.badmintonvlaanderen.be/sport/teammatch.aspx?id=E5F03216-46
 19-44A1-A21C-5EA724CB9432&match=1179
DTSTART;TZID=Europe/Brussels:20230301T190000
DTEND;TZID=Europe/Brussels:20230301T190000
END:VEVENT
BEGIN:VEVENT
UID:E5F03216-4619-44A1-A21C-5EA724CB9432-27-1177_awayreminder@106.badminton
 ners.net
DTSTAMP:20260420T055215Z
SUMMARY:Uitmatch bevestigd? (Zoersel 2G (91) - De Nekker 3G (87))
DESCRIPTION:Je hebt 72 uur na aanvang om een uitmatch op Badmintonvlaandere
 n in te vullen. Match info: Zoersel 2G (91) - De Nekker 3G (87) - Link: ht
 tps://www.badmintonvlaanderen.be/sport/teammatch.aspx?id=E5F03216-4619-44A
 1-A21C-5EA724CB9432&match=1177
DTSTART;TZID=Europe/Brussels:20230419T120000
DTEND;TZID=Europe/Brussels:20230419T120000
END:VEVENT
END:VCALENDAR