BEGIN:VCALENDAR
VERSION:2.0
PRODID:spatie/icalendar-generator
NAME:rita_serveert_1g_92_reminders
X-WR-CALNAME:rita_serveert_1g_92_reminders
BEGIN:VTIMEZONE
TZID:Europe/Brussels
BEGIN:DAYLIGHT
DTSTART:20220327T010000
TZOFFSETFROM:+0100
TZOFFSETTO:+0200
END:DAYLIGHT
BEGIN:STANDARD
DTSTART:20221030T030000
TZOFFSETFROM:+0200
TZOFFSETTO:+0100
END:STANDARD
BEGIN:DAYLIGHT
DTSTART:20230326T010000
TZOFFSETFROM:+0100
TZOFFSETTO:+0200
END:DAYLIGHT
END:VTIMEZONE
BEGIN:VTIMEZONE
TZID:UTC
BEGIN:STANDARD
DTSTART:20250724T055212
TZOFFSETFROM:+0000
TZOFFSETTO:+0000
END:STANDARD
END:VTIMEZONE
BEGIN:VEVENT
UID:E5F03216-4619-44A1-A21C-5EA724CB9432-27-1174_homereminder@107.badminton
 ners.net
DTSTAMP:20260420T055212Z
SUMMARY:Thuismatch ingevuld? (Rita Serveert 1G (92) - Amateurs 1G (104))
DESCRIPTION:Je hebt 36 uur na aanvang om een thuismatch op Badmintonvlaande
 ren in te vullen. Match info: Rita Serveert 1G (92) - Amateurs 1G (104) - 
 Link: https://www.badmintonvlaanderen.be/sport/teammatch.aspx?id=E5F03216-
 4619-44A1-A21C-5EA724CB9432&match=1174
DTSTART;TZID=Europe/Brussels:20221206T070000
DTEND;TZID=Europe/Brussels:20221206T070000
END:VEVENT
BEGIN:VEVENT
UID:E5F03216-4619-44A1-A21C-5EA724CB9432-27-1164_homereminder@107.badminton
 ners.net
DTSTAMP:20260420T055212Z
SUMMARY:Thuismatch ingevuld? (Rita Serveert 1G (92) - Klein Boom 4G (86))
DESCRIPTION:Je hebt 36 uur na aanvang om een thuismatch op Badmintonvlaande
 ren in te vullen. Match info: Rita Serveert 1G (92) - Klein Boom 4G (86) -
  Link: https://www.badmintonvlaanderen.be/sport/teammatch.aspx?id=E5F03216
 -4619-44A1-A21C-5EA724CB9432&match=1164
DTSTART;TZID=Europe/Brussels:20221220T070000
DTEND;TZID=Europe/Brussels:20221220T070000
END:VEVENT
BEGIN:VEVENT
UID:E5F03216-4619-44A1-A21C-5EA724CB9432-27-1169_homereminder@107.badminton
 ners.net
DTSTAMP:20260420T055212Z
SUMMARY:Thuismatch ingevuld? (Rita Serveert 1G (92) - Zoersel 2G (91))
DESCRIPTION:Je hebt 36 uur na aanvang om een thuismatch op Badmintonvlaande
 ren in te vullen. Match info: Rita Serveert 1G (92) - Zoersel 2G (91) - Li
 nk: https://www.badmintonvlaanderen.be/sport/teammatch.aspx?id=E5F03216-46
 19-44A1-A21C-5EA724CB9432&match=1169
DTSTART;TZID=Europe/Brussels:20230117T070000
DTEND;TZID=Europe/Brussels:20230117T070000
END:VEVENT
BEGIN:VEVENT
UID:E5F03216-4619-44A1-A21C-5EA724CB9432-27-1179_homereminder@107.badminton
 ners.net
DTSTAMP:20260420T055212Z
SUMMARY:Thuismatch ingevuld? (Rita Serveert 1G (92) - De Nekker 3G (87))
DESCRIPTION:Je hebt 36 uur na aanvang om een thuismatch op Badmintonvlaande
 ren in te vullen. Match info: Rita Serveert 1G (92) - De Nekker 3G (87) - 
 Link: https://www.badmintonvlaanderen.be/sport/teammatch.aspx?id=E5F03216-
 4619-44A1-A21C-5EA724CB9432&match=1179
DTSTART;TZID=Europe/Brussels:20230228T070000
DTEND;TZID=Europe/Brussels:20230228T070000
END:VEVENT
BEGIN:VEVENT
UID:E5F03216-4619-44A1-A21C-5EA724CB9432-27-1190_homereminder@107.badminton
 ners.net
DTSTAMP:20260420T055212Z
SUMMARY:Thuismatch ingevuld? (Rita Serveert 1G (92) - Zandhoven 1G (95))
DESCRIPTION:Je hebt 36 uur na aanvang om een thuismatch op Badmintonvlaande
 ren in te vullen. Match info: Rita Serveert 1G (92) - Zandhoven 1G (95) - 
 Link: https://www.badmintonvlaanderen.be/sport/teammatch.aspx?id=E5F03216-
 4619-44A1-A21C-5EA724CB9432&match=1190
DTSTART;TZID=Europe/Brussels:20230328T070000
DTEND;TZID=Europe/Brussels:20230328T070000
END:VEVENT
BEGIN:VEVENT
UID:E5F03216-4619-44A1-A21C-5EA724CB9432-27-1184_awayreminder@107.badminton
 ners.net
DTSTAMP:20260420T055212Z
SUMMARY:Uitmatch bevestigd? (De Nekker 3G (87) - Rita Serveert 1G (92))
DESCRIPTION:Je hebt 72 uur na aanvang om een uitmatch op Badmintonvlaandere
 n in te vullen. Match info: De Nekker 3G (87) - Rita Serveert 1G (92) - Li
 nk: https://www.badmintonvlaanderen.be/sport/teammatch.aspx?id=E5F03216-46
 19-44A1-A21C-5EA724CB9432&match=1184
DTSTART;TZID=Europe/Brussels:20221008T203000
DTEND;TZID=Europe/Brussels:20221008T203000
END:VEVENT
BEGIN:VEVENT
UID:E5F03216-4619-44A1-A21C-5EA724CB9432-27-1185_awayreminder@107.badminton
 ners.net
DTSTAMP:20260420T055212Z
SUMMARY:Uitmatch bevestigd? (Zandhoven 1G (95) - Rita Serveert 1G (92))
DESCRIPTION:Je hebt 72 uur na aanvang om een uitmatch op Badmintonvlaandere
 n in te vullen. Match info: Zandhoven 1G (95) - Rita Serveert 1G (92) - Li
 nk: https://www.badmintonvlaanderen.be/sport/teammatch.aspx?id=E5F03216-46
 19-44A1-A21C-5EA724CB9432&match=1185
DTSTART;TZID=Europe/Brussels:20221020T200000
DTEND;TZID=Europe/Brussels:20221020T200000
END:VEVENT
BEGIN:VEVENT
UID:E5F03216-4619-44A1-A21C-5EA724CB9432-27-1182_awayreminder@107.badminton
 ners.net
DTSTAMP:20260420T055212Z
SUMMARY:Uitmatch bevestigd? (Zoersel 2G (91) - Rita Serveert 1G (92))
DESCRIPTION:Je hebt 72 uur na aanvang om een uitmatch op Badmintonvlaandere
 n in te vullen. Match info: Zoersel 2G (91) - Rita Serveert 1G (92) - Link
 : https://www.badmintonvlaanderen.be/sport/teammatch.aspx?id=E5F03216-4619
 -44A1-A21C-5EA724CB9432&match=1182
DTSTART;TZID=Europe/Brussels:20221116T120000
DTEND;TZID=Europe/Brussels:20221116T120000
END:VEVENT
BEGIN:VEVENT
UID:E5F03216-4619-44A1-A21C-5EA724CB9432-27-1181_awayreminder@107.badminton
 ners.net
DTSTAMP:20260420T055212Z
SUMMARY:Uitmatch bevestigd? (Klein Boom 4G (86) - Rita Serveert 1G (92))
DESCRIPTION:Je hebt 72 uur na aanvang om een uitmatch op Badmintonvlaandere
 n in te vullen. Match info: Klein Boom 4G (86) - Rita Serveert 1G (92) - L
 ink: https://www.badmintonvlaanderen.be/sport/teammatch.aspx?id=E5F03216-4
 619-44A1-A21C-5EA724CB9432&match=1181
DTSTART;TZID=Europe/Brussels:20230201T190000
DTEND;TZID=Europe/Brussels:20230201T190000
END:VEVENT
BEGIN:VEVENT
UID:E5F03216-4619-44A1-A21C-5EA724CB9432-27-1183_awayreminder@107.badminton
 ners.net
DTSTAMP:20260420T055212Z
SUMMARY:Uitmatch bevestigd? (Amateurs 1G (104) - Rita Serveert 1G (92))
DESCRIPTION:Je hebt 72 uur na aanvang om een uitmatch op Badmintonvlaandere
 n in te vullen. Match info: Amateurs 1G (104) - Rita Serveert 1G (92) - Li
 nk: https://www.badmintonvlaanderen.be/sport/teammatch.aspx?id=E5F03216-46
 19-44A1-A21C-5EA724CB9432&match=1183
DTSTART;TZID=Europe/Brussels:20230212T210000
DTEND;TZID=Europe/Brussels:20230212T210000
END:VEVENT
END:VCALENDAR