BEGIN:VCALENDAR
VERSION:2.0
PRODID:spatie/icalendar-generator
NAME:amateurs_1g_104_reminders
X-WR-CALNAME:amateurs_1g_104_reminders
BEGIN:VTIMEZONE
TZID:Europe/Brussels
BEGIN:DAYLIGHT
DTSTART:20220327T010000
TZOFFSETFROM:+0100
TZOFFSETTO:+0200
END:DAYLIGHT
BEGIN:STANDARD
DTSTART:20221030T030000
TZOFFSETFROM:+0200
TZOFFSETTO:+0100
END:STANDARD
BEGIN:DAYLIGHT
DTSTART:20230326T010000
TZOFFSETFROM:+0100
TZOFFSETTO:+0200
END:DAYLIGHT
END:VTIMEZONE
BEGIN:VTIMEZONE
TZID:UTC
BEGIN:STANDARD
DTSTART:20250724T072435
TZOFFSETFROM:+0000
TZOFFSETTO:+0000
END:STANDARD
END:VTIMEZONE
BEGIN:VEVENT
UID:E5F03216-4619-44A1-A21C-5EA724CB9432-27-1162_homereminder@112.badminton
 ners.net
DTSTAMP:20260420T072435Z
SUMMARY:Thuismatch ingevuld? (Amateurs 1G (104) - Klein Boom 4G (86))
DESCRIPTION:Je hebt 36 uur na aanvang om een thuismatch op Badmintonvlaande
 ren in te vullen. Match info: Amateurs 1G (104) - Klein Boom 4G (86) - Lin
 k: https://www.badmintonvlaanderen.be/sport/teammatch.aspx?id=E5F03216-461
 9-44A1-A21C-5EA724CB9432&match=1162
DTSTART;TZID=Europe/Brussels:20221008T090000
DTEND;TZID=Europe/Brussels:20221008T090000
END:VEVENT
BEGIN:VEVENT
UID:E5F03216-4619-44A1-A21C-5EA724CB9432-27-1178_homereminder@112.badminton
 ners.net
DTSTAMP:20260420T072435Z
SUMMARY:Thuismatch ingevuld? (Amateurs 1G (104) - De Nekker 3G (87))
DESCRIPTION:Je hebt 36 uur na aanvang om een thuismatch op Badmintonvlaande
 ren in te vullen. Match info: Amateurs 1G (104) - De Nekker 3G (87) - Link
 : https://www.badmintonvlaanderen.be/sport/teammatch.aspx?id=E5F03216-4619
 -44A1-A21C-5EA724CB9432&match=1178
DTSTART;TZID=Europe/Brussels:20221022T090000
DTEND;TZID=Europe/Brussels:20221022T090000
END:VEVENT
BEGIN:VEVENT
UID:E5F03216-4619-44A1-A21C-5EA724CB9432-27-1188_homereminder@112.badminton
 ners.net
DTSTAMP:20260420T072435Z
SUMMARY:Thuismatch ingevuld? (Amateurs 1G (104) - Zandhoven 1G (95))
DESCRIPTION:Je hebt 36 uur na aanvang om een thuismatch op Badmintonvlaande
 ren in te vullen. Match info: Amateurs 1G (104) - Zandhoven 1G (95) - Link
 : https://www.badmintonvlaanderen.be/sport/teammatch.aspx?id=E5F03216-4619
 -44A1-A21C-5EA724CB9432&match=1188
DTSTART;TZID=Europe/Brussels:20221217T090000
DTEND;TZID=Europe/Brussels:20221217T090000
END:VEVENT
BEGIN:VEVENT
UID:E5F03216-4619-44A1-A21C-5EA724CB9432-27-1183_homereminder@112.badminton
 ners.net
DTSTAMP:20260420T072435Z
SUMMARY:Thuismatch ingevuld? (Amateurs 1G (104) - Rita Serveert 1G (92))
DESCRIPTION:Je hebt 36 uur na aanvang om een thuismatch op Badmintonvlaande
 ren in te vullen. Match info: Amateurs 1G (104) - Rita Serveert 1G (92) - 
 Link: https://www.badmintonvlaanderen.be/sport/teammatch.aspx?id=E5F03216-
 4619-44A1-A21C-5EA724CB9432&match=1183
DTSTART;TZID=Europe/Brussels:20230211T090000
DTEND;TZID=Europe/Brussels:20230211T090000
END:VEVENT
BEGIN:VEVENT
UID:E5F03216-4619-44A1-A21C-5EA724CB9432-27-1167_homereminder@112.badminton
 ners.net
DTSTAMP:20260420T072435Z
SUMMARY:Thuismatch ingevuld? (Amateurs 1G (104) - Zoersel 2G (91))
DESCRIPTION:Je hebt 36 uur na aanvang om een thuismatch op Badmintonvlaande
 ren in te vullen. Match info: Amateurs 1G (104) - Zoersel 2G (91) - Link: 
 https://www.badmintonvlaanderen.be/sport/teammatch.aspx?id=E5F03216-4619-4
 4A1-A21C-5EA724CB9432&match=1167
DTSTART;TZID=Europe/Brussels:20230325T090000
DTEND;TZID=Europe/Brussels:20230325T090000
END:VEVENT
BEGIN:VEVENT
UID:E5F03216-4619-44A1-A21C-5EA724CB9432-27-1172_awayreminder@112.badminton
 ners.net
DTSTAMP:20260420T072435Z
SUMMARY:Uitmatch bevestigd? (Zoersel 2G (91) - Amateurs 1G (104))
DESCRIPTION:Je hebt 72 uur na aanvang om een uitmatch op Badmintonvlaandere
 n in te vullen. Match info: Zoersel 2G (91) - Amateurs 1G (104) - Link: ht
 tps://www.badmintonvlaanderen.be/sport/teammatch.aspx?id=E5F03216-4619-44A
 1-A21C-5EA724CB9432&match=1172
DTSTART;TZID=Europe/Brussels:20221123T120000
DTEND;TZID=Europe/Brussels:20221123T120000
END:VEVENT
BEGIN:VEVENT
UID:E5F03216-4619-44A1-A21C-5EA724CB9432-27-1174_awayreminder@112.badminton
 ners.net
DTSTAMP:20260420T072435Z
SUMMARY:Uitmatch bevestigd? (Rita Serveert 1G (92) - Amateurs 1G (104))
DESCRIPTION:Je hebt 72 uur na aanvang om een uitmatch op Badmintonvlaandere
 n in te vullen. Match info: Rita Serveert 1G (92) - Amateurs 1G (104) - Li
 nk: https://www.badmintonvlaanderen.be/sport/teammatch.aspx?id=E5F03216-46
 19-44A1-A21C-5EA724CB9432&match=1174
DTSTART;TZID=Europe/Brussels:20221207T190000
DTEND;TZID=Europe/Brussels:20221207T190000
END:VEVENT
BEGIN:VEVENT
UID:E5F03216-4619-44A1-A21C-5EA724CB9432-27-1173_awayreminder@112.badminton
 ners.net
DTSTAMP:20260420T072435Z
SUMMARY:Uitmatch bevestigd? (De Nekker 3G (87) - Amateurs 1G (104))
DESCRIPTION:Je hebt 72 uur na aanvang om een uitmatch op Badmintonvlaandere
 n in te vullen. Match info: De Nekker 3G (87) - Amateurs 1G (104) - Link: 
 https://www.badmintonvlaanderen.be/sport/teammatch.aspx?id=E5F03216-4619-4
 4A1-A21C-5EA724CB9432&match=1173
DTSTART;TZID=Europe/Brussels:20230114T203000
DTEND;TZID=Europe/Brussels:20230114T203000
END:VEVENT
BEGIN:VEVENT
UID:E5F03216-4619-44A1-A21C-5EA724CB9432-27-1171_awayreminder@112.badminton
 ners.net
DTSTAMP:20260420T072435Z
SUMMARY:Uitmatch bevestigd? (Klein Boom 4G (86) - Amateurs 1G (104))
DESCRIPTION:Je hebt 72 uur na aanvang om een uitmatch op Badmintonvlaandere
 n in te vullen. Match info: Klein Boom 4G (86) - Amateurs 1G (104) - Link:
  https://www.badmintonvlaanderen.be/sport/teammatch.aspx?id=E5F03216-4619-
 44A1-A21C-5EA724CB9432&match=1171
DTSTART;TZID=Europe/Brussels:20230301T190000
DTEND;TZID=Europe/Brussels:20230301T190000
END:VEVENT
BEGIN:VEVENT
UID:E5F03216-4619-44A1-A21C-5EA724CB9432-27-1175_awayreminder@112.badminton
 ners.net
DTSTAMP:20260420T072435Z
SUMMARY:Uitmatch bevestigd? (Zandhoven 1G (95) - Amateurs 1G (104))
DESCRIPTION:Je hebt 72 uur na aanvang om een uitmatch op Badmintonvlaandere
 n in te vullen. Match info: Zandhoven 1G (95) - Amateurs 1G (104) - Link: 
 https://www.badmintonvlaanderen.be/sport/teammatch.aspx?id=E5F03216-4619-4
 4A1-A21C-5EA724CB9432&match=1175
DTSTART;TZID=Europe/Brussels:20230420T200000
DTEND;TZID=Europe/Brussels:20230420T200000
END:VEVENT
END:VCALENDAR