BEGIN:VCALENDAR
VERSION:2.0
PRODID:spatie/icalendar-generator
NAME:zandhoven_1g_95_reminders
X-WR-CALNAME:zandhoven_1g_95_reminders
BEGIN:VTIMEZONE
TZID:Europe/Brussels
BEGIN:DAYLIGHT
DTSTART:20220327T010000
TZOFFSETFROM:+0100
TZOFFSETTO:+0200
END:DAYLIGHT
BEGIN:STANDARD
DTSTART:20221030T030000
TZOFFSETFROM:+0200
TZOFFSETTO:+0100
END:STANDARD
BEGIN:DAYLIGHT
DTSTART:20230326T010000
TZOFFSETFROM:+0100
TZOFFSETTO:+0200
END:DAYLIGHT
BEGIN:STANDARD
DTSTART:20231029T030000
TZOFFSETFROM:+0200
TZOFFSETTO:+0100
END:STANDARD
END:VTIMEZONE
BEGIN:VTIMEZONE
TZID:UTC
BEGIN:STANDARD
DTSTART:20250724T072435
TZOFFSETFROM:+0000
TZOFFSETTO:+0000
END:STANDARD
END:VTIMEZONE
BEGIN:VEVENT
UID:E5F03216-4619-44A1-A21C-5EA724CB9432-27-1185_homereminder@98.badmintonn
 ers.net
DTSTAMP:20260420T072435Z
SUMMARY:Thuismatch ingevuld? (Zandhoven 1G (95) - Rita Serveert 1G (92))
DESCRIPTION:Je hebt 36 uur na aanvang om een thuismatch op Badmintonvlaande
 ren in te vullen. Match info: Zandhoven 1G (95) - Rita Serveert 1G (92) - 
 Link: https://www.badmintonvlaanderen.be/sport/teammatch.aspx?id=E5F03216-
 4619-44A1-A21C-5EA724CB9432&match=1185
DTSTART;TZID=Europe/Brussels:20221019T080000
DTEND;TZID=Europe/Brussels:20221019T080000
END:VEVENT
BEGIN:VEVENT
UID:E5F03216-4619-44A1-A21C-5EA724CB9432-27-1180_homereminder@98.badmintonn
 ers.net
DTSTAMP:20260420T072435Z
SUMMARY:Thuismatch ingevuld? (Zandhoven 1G (95) - De Nekker 3G (87))
DESCRIPTION:Je hebt 36 uur na aanvang om een thuismatch op Badmintonvlaande
 ren in te vullen. Match info: Zandhoven 1G (95) - De Nekker 3G (87) - Link
 : https://www.badmintonvlaanderen.be/sport/teammatch.aspx?id=E5F03216-4619
 -44A1-A21C-5EA724CB9432&match=1180
DTSTART;TZID=Europe/Brussels:20221130T080000
DTEND;TZID=Europe/Brussels:20221130T080000
END:VEVENT
BEGIN:VEVENT
UID:E5F03216-4619-44A1-A21C-5EA724CB9432-27-1165_homereminder@98.badmintonn
 ers.net
DTSTAMP:20260420T072435Z
SUMMARY:Thuismatch ingevuld? (Zandhoven 1G (95) - Klein Boom 4G (86))
DESCRIPTION:Je hebt 36 uur na aanvang om een thuismatch op Badmintonvlaande
 ren in te vullen. Match info: Zandhoven 1G (95) - Klein Boom 4G (86) - Lin
 k: https://www.badmintonvlaanderen.be/sport/teammatch.aspx?id=E5F03216-461
 9-44A1-A21C-5EA724CB9432&match=1165
DTSTART;TZID=Europe/Brussels:20230111T080000
DTEND;TZID=Europe/Brussels:20230111T080000
END:VEVENT
BEGIN:VEVENT
UID:E5F03216-4619-44A1-A21C-5EA724CB9432-27-1170_homereminder@98.badmintonn
 ers.net
DTSTAMP:20260420T072435Z
SUMMARY:Thuismatch ingevuld? (Zandhoven 1G (95) - Zoersel 2G (91))
DESCRIPTION:Je hebt 36 uur na aanvang om een thuismatch op Badmintonvlaande
 ren in te vullen. Match info: Zandhoven 1G (95) - Zoersel 2G (91) - Link: 
 https://www.badmintonvlaanderen.be/sport/teammatch.aspx?id=E5F03216-4619-4
 4A1-A21C-5EA724CB9432&match=1170
DTSTART;TZID=Europe/Brussels:20230222T080000
DTEND;TZID=Europe/Brussels:20230222T080000
END:VEVENT
BEGIN:VEVENT
UID:E5F03216-4619-44A1-A21C-5EA724CB9432-27-1175_homereminder@98.badmintonn
 ers.net
DTSTAMP:20260420T072435Z
SUMMARY:Thuismatch ingevuld? (Zandhoven 1G (95) - Amateurs 1G (104))
DESCRIPTION:Je hebt 36 uur na aanvang om een thuismatch op Badmintonvlaande
 ren in te vullen. Match info: Zandhoven 1G (95) - Amateurs 1G (104) - Link
 : https://www.badmintonvlaanderen.be/sport/teammatch.aspx?id=E5F03216-4619
 -44A1-A21C-5EA724CB9432&match=1175
DTSTART;TZID=Europe/Brussels:20230419T080000
DTEND;TZID=Europe/Brussels:20230419T080000
END:VEVENT
BEGIN:VEVENT
UID:E5F03216-4619-44A1-A21C-5EA724CB9432-27-1187_awayreminder@98.badmintonn
 ers.net
DTSTAMP:20260420T072435Z
SUMMARY:Uitmatch bevestigd? (Zoersel 2G (91) - Zandhoven 1G (95))
DESCRIPTION:Je hebt 72 uur na aanvang om een uitmatch op Badmintonvlaandere
 n in te vullen. Match info: Zoersel 2G (91) - Zandhoven 1G (95) - Link: ht
 tps://www.badmintonvlaanderen.be/sport/teammatch.aspx?id=E5F03216-4619-44A
 1-A21C-5EA724CB9432&match=1187
DTSTART;TZID=Europe/Brussels:20220928T120000
DTEND;TZID=Europe/Brussels:20220928T120000
END:VEVENT
BEGIN:VEVENT
UID:E5F03216-4619-44A1-A21C-5EA724CB9432-27-1186_awayreminder@98.badmintonn
 ers.net
DTSTAMP:20260420T072435Z
SUMMARY:Uitmatch bevestigd? (Klein Boom 4G (86) - Zandhoven 1G (95))
DESCRIPTION:Je hebt 72 uur na aanvang om een uitmatch op Badmintonvlaandere
 n in te vullen. Match info: Klein Boom 4G (86) - Zandhoven 1G (95) - Link:
  https://www.badmintonvlaanderen.be/sport/teammatch.aspx?id=E5F03216-4619-
 44A1-A21C-5EA724CB9432&match=1186
DTSTART;TZID=Europe/Brussels:20221026T190000
DTEND;TZID=Europe/Brussels:20221026T190000
END:VEVENT
BEGIN:VEVENT
UID:E5F03216-4619-44A1-A21C-5EA724CB9432-27-1188_awayreminder@98.badmintonn
 ers.net
DTSTAMP:20260420T072435Z
SUMMARY:Uitmatch bevestigd? (Amateurs 1G (104) - Zandhoven 1G (95))
DESCRIPTION:Je hebt 72 uur na aanvang om een uitmatch op Badmintonvlaandere
 n in te vullen. Match info: Amateurs 1G (104) - Zandhoven 1G (95) - Link: 
 https://www.badmintonvlaanderen.be/sport/teammatch.aspx?id=E5F03216-4619-4
 4A1-A21C-5EA724CB9432&match=1188
DTSTART;TZID=Europe/Brussels:20221218T210000
DTEND;TZID=Europe/Brussels:20221218T210000
END:VEVENT
BEGIN:VEVENT
UID:E5F03216-4619-44A1-A21C-5EA724CB9432-27-1190_awayreminder@98.badmintonn
 ers.net
DTSTAMP:20260420T072435Z
SUMMARY:Uitmatch bevestigd? (Rita Serveert 1G (92) - Zandhoven 1G (95))
DESCRIPTION:Je hebt 72 uur na aanvang om een uitmatch op Badmintonvlaandere
 n in te vullen. Match info: Rita Serveert 1G (92) - Zandhoven 1G (95) - Li
 nk: https://www.badmintonvlaanderen.be/sport/teammatch.aspx?id=E5F03216-46
 19-44A1-A21C-5EA724CB9432&match=1190
DTSTART;TZID=Europe/Brussels:20230329T190000
DTEND;TZID=Europe/Brussels:20230329T190000
END:VEVENT
BEGIN:VEVENT
UID:E5F03216-4619-44A1-A21C-5EA724CB9432-27-1189_awayreminder@98.badmintonn
 ers.net
DTSTAMP:20260420T072435Z
SUMMARY:Uitmatch bevestigd? (De Nekker 3G (87) - Zandhoven 1G (95))
DESCRIPTION:Je hebt 72 uur na aanvang om een uitmatch op Badmintonvlaandere
 n in te vullen. Match info: De Nekker 3G (87) - Zandhoven 1G (95) - Link: 
 https://www.badmintonvlaanderen.be/sport/teammatch.aspx?id=E5F03216-4619-4
 4A1-A21C-5EA724CB9432&match=1189
DTSTART;TZID=Europe/Brussels:20230428T203000
DTEND;TZID=Europe/Brussels:20230428T203000
END:VEVENT
END:VCALENDAR