BEGIN:VCALENDAR
VERSION:2.0
PRODID:spatie/icalendar-generator
NAME:klein_boom_4g_86_reminders
X-WR-CALNAME:klein_boom_4g_86_reminders
BEGIN:VTIMEZONE
TZID:Europe/Brussels
BEGIN:DAYLIGHT
DTSTART:20220327T010000
TZOFFSETFROM:+0100
TZOFFSETTO:+0200
END:DAYLIGHT
BEGIN:STANDARD
DTSTART:20221030T030000
TZOFFSETFROM:+0200
TZOFFSETTO:+0100
END:STANDARD
BEGIN:DAYLIGHT
DTSTART:20230326T010000
TZOFFSETFROM:+0100
TZOFFSETTO:+0200
END:DAYLIGHT
END:VTIMEZONE
BEGIN:VTIMEZONE
TZID:UTC
BEGIN:STANDARD
DTSTART:20250724T072433
TZOFFSETFROM:+0000
TZOFFSETTO:+0000
END:STANDARD
END:VTIMEZONE
BEGIN:VEVENT
UID:E5F03216-4619-44A1-A21C-5EA724CB9432-27-1176_homereminder@99.badmintonn
 ers.net
DTSTAMP:20260420T072433Z
SUMMARY:Thuismatch ingevuld? (Klein Boom 4G (86) - De Nekker 3G (87))
DESCRIPTION:Je hebt 36 uur na aanvang om een thuismatch op Badmintonvlaande
 ren in te vullen. Match info: Klein Boom 4G (86) - De Nekker 3G (87) - Lin
 k: https://www.badmintonvlaanderen.be/sport/teammatch.aspx?id=E5F03216-461
 9-44A1-A21C-5EA724CB9432&match=1176
DTSTART;TZID=Europe/Brussels:20220913T070000
DTEND;TZID=Europe/Brussels:20220913T070000
END:VEVENT
BEGIN:VEVENT
UID:E5F03216-4619-44A1-A21C-5EA724CB9432-27-1186_homereminder@99.badmintonn
 ers.net
DTSTAMP:20260420T072433Z
SUMMARY:Thuismatch ingevuld? (Klein Boom 4G (86) - Zandhoven 1G (95))
DESCRIPTION:Je hebt 36 uur na aanvang om een thuismatch op Badmintonvlaande
 ren in te vullen. Match info: Klein Boom 4G (86) - Zandhoven 1G (95) - Lin
 k: https://www.badmintonvlaanderen.be/sport/teammatch.aspx?id=E5F03216-461
 9-44A1-A21C-5EA724CB9432&match=1186
DTSTART;TZID=Europe/Brussels:20221025T070000
DTEND;TZID=Europe/Brussels:20221025T070000
END:VEVENT
BEGIN:VEVENT
UID:E5F03216-4619-44A1-A21C-5EA724CB9432-27-1166_homereminder@99.badmintonn
 ers.net
DTSTAMP:20260420T072433Z
SUMMARY:Thuismatch ingevuld? (Klein Boom 4G (86) - Zoersel 2G (91))
DESCRIPTION:Je hebt 36 uur na aanvang om een thuismatch op Badmintonvlaande
 ren in te vullen. Match info: Klein Boom 4G (86) - Zoersel 2G (91) - Link:
  https://www.badmintonvlaanderen.be/sport/teammatch.aspx?id=E5F03216-4619-
 44A1-A21C-5EA724CB9432&match=1166
DTSTART;TZID=Europe/Brussels:20221206T070000
DTEND;TZID=Europe/Brussels:20221206T070000
END:VEVENT
BEGIN:VEVENT
UID:E5F03216-4619-44A1-A21C-5EA724CB9432-27-1181_homereminder@99.badmintonn
 ers.net
DTSTAMP:20260420T072433Z
SUMMARY:Thuismatch ingevuld? (Klein Boom 4G (86) - Rita Serveert 1G (92))
DESCRIPTION:Je hebt 36 uur na aanvang om een thuismatch op Badmintonvlaande
 ren in te vullen. Match info: Klein Boom 4G (86) - Rita Serveert 1G (92) -
  Link: https://www.badmintonvlaanderen.be/sport/teammatch.aspx?id=E5F03216
 -4619-44A1-A21C-5EA724CB9432&match=1181
DTSTART;TZID=Europe/Brussels:20230131T070000
DTEND;TZID=Europe/Brussels:20230131T070000
END:VEVENT
BEGIN:VEVENT
UID:E5F03216-4619-44A1-A21C-5EA724CB9432-27-1171_homereminder@99.badmintonn
 ers.net
DTSTAMP:20260420T072433Z
SUMMARY:Thuismatch ingevuld? (Klein Boom 4G (86) - Amateurs 1G (104))
DESCRIPTION:Je hebt 36 uur na aanvang om een thuismatch op Badmintonvlaande
 ren in te vullen. Match info: Klein Boom 4G (86) - Amateurs 1G (104) - Lin
 k: https://www.badmintonvlaanderen.be/sport/teammatch.aspx?id=E5F03216-461
 9-44A1-A21C-5EA724CB9432&match=1171
DTSTART;TZID=Europe/Brussels:20230228T070000
DTEND;TZID=Europe/Brussels:20230228T070000
END:VEVENT
BEGIN:VEVENT
UID:E5F03216-4619-44A1-A21C-5EA724CB9432-27-1162_awayreminder@99.badmintonn
 ers.net
DTSTAMP:20260420T072433Z
SUMMARY:Uitmatch bevestigd? (Amateurs 1G (104) - Klein Boom 4G (86))
DESCRIPTION:Je hebt 72 uur na aanvang om een uitmatch op Badmintonvlaandere
 n in te vullen. Match info: Amateurs 1G (104) - Klein Boom 4G (86) - Link:
  https://www.badmintonvlaanderen.be/sport/teammatch.aspx?id=E5F03216-4619-
 44A1-A21C-5EA724CB9432&match=1162
DTSTART;TZID=Europe/Brussels:20221009T210000
DTEND;TZID=Europe/Brussels:20221009T210000
END:VEVENT
BEGIN:VEVENT
UID:E5F03216-4619-44A1-A21C-5EA724CB9432-27-1164_awayreminder@99.badmintonn
 ers.net
DTSTAMP:20260420T072433Z
SUMMARY:Uitmatch bevestigd? (Rita Serveert 1G (92) - Klein Boom 4G (86))
DESCRIPTION:Je hebt 72 uur na aanvang om een uitmatch op Badmintonvlaandere
 n in te vullen. Match info: Rita Serveert 1G (92) - Klein Boom 4G (86) - L
 ink: https://www.badmintonvlaanderen.be/sport/teammatch.aspx?id=E5F03216-4
 619-44A1-A21C-5EA724CB9432&match=1164
DTSTART;TZID=Europe/Brussels:20221221T190000
DTEND;TZID=Europe/Brussels:20221221T190000
END:VEVENT
BEGIN:VEVENT
UID:E5F03216-4619-44A1-A21C-5EA724CB9432-27-1161_awayreminder@99.badmintonn
 ers.net
DTSTAMP:20260420T072433Z
SUMMARY:Uitmatch bevestigd? (Zoersel 2G (91) - Klein Boom 4G (86))
DESCRIPTION:Je hebt 72 uur na aanvang om een uitmatch op Badmintonvlaandere
 n in te vullen. Match info: Zoersel 2G (91) - Klein Boom 4G (86) - Link: h
 ttps://www.badmintonvlaanderen.be/sport/teammatch.aspx?id=E5F03216-4619-44
 A1-A21C-5EA724CB9432&match=1161
DTSTART;TZID=Europe/Brussels:20230111T120000
DTEND;TZID=Europe/Brussels:20230111T120000
END:VEVENT
BEGIN:VEVENT
UID:E5F03216-4619-44A1-A21C-5EA724CB9432-27-1165_awayreminder@99.badmintonn
 ers.net
DTSTAMP:20260420T072433Z
SUMMARY:Uitmatch bevestigd? (Zandhoven 1G (95) - Klein Boom 4G (86))
DESCRIPTION:Je hebt 72 uur na aanvang om een uitmatch op Badmintonvlaandere
 n in te vullen. Match info: Zandhoven 1G (95) - Klein Boom 4G (86) - Link:
  https://www.badmintonvlaanderen.be/sport/teammatch.aspx?id=E5F03216-4619-
 44A1-A21C-5EA724CB9432&match=1165
DTSTART;TZID=Europe/Brussels:20230112T200000
DTEND;TZID=Europe/Brussels:20230112T200000
END:VEVENT
BEGIN:VEVENT
UID:E5F03216-4619-44A1-A21C-5EA724CB9432-27-1163_awayreminder@99.badmintonn
 ers.net
DTSTAMP:20260420T072433Z
SUMMARY:Uitmatch bevestigd? (De Nekker 3G (87) - Klein Boom 4G (86))
DESCRIPTION:Je hebt 72 uur na aanvang om een uitmatch op Badmintonvlaandere
 n in te vullen. Match info: De Nekker 3G (87) - Klein Boom 4G (86) - Link:
  https://www.badmintonvlaanderen.be/sport/teammatch.aspx?id=E5F03216-4619-
 44A1-A21C-5EA724CB9432&match=1163
DTSTART;TZID=Europe/Brussels:20230325T203000
DTEND;TZID=Europe/Brussels:20230325T203000
END:VEVENT
END:VCALENDAR