BEGIN:VCALENDAR
VERSION:2.0
PRODID:spatie/icalendar-generator
NAME:olympia_1g_107_reminders
X-WR-CALNAME:olympia_1g_107_reminders
BEGIN:VTIMEZONE
TZID:Europe/Brussels
BEGIN:DAYLIGHT
DTSTART:20220327T010000
TZOFFSETFROM:+0100
TZOFFSETTO:+0200
END:DAYLIGHT
BEGIN:STANDARD
DTSTART:20221030T030000
TZOFFSETFROM:+0200
TZOFFSETTO:+0100
END:STANDARD
BEGIN:DAYLIGHT
DTSTART:20230326T010000
TZOFFSETFROM:+0100
TZOFFSETTO:+0200
END:DAYLIGHT
END:VTIMEZONE
BEGIN:VTIMEZONE
TZID:UTC
BEGIN:STANDARD
DTSTART:20250724T072402
TZOFFSETFROM:+0000
TZOFFSETTO:+0000
END:STANDARD
END:VTIMEZONE
BEGIN:VEVENT
UID:E5F03216-4619-44A1-A21C-5EA724CB9432-28-1220_homereminder@101.badminton
 ners.net
DTSTAMP:20260420T072402Z
SUMMARY:Thuismatch ingevuld? (Olympia 1G (107) - Berlaar 2G (107))
DESCRIPTION:Je hebt 36 uur na aanvang om een thuismatch op Badmintonvlaande
 ren in te vullen. Match info: Olympia 1G (107) - Berlaar 2G (107) - Link: 
 https://www.badmintonvlaanderen.be/sport/teammatch.aspx?id=E5F03216-4619-4
 4A1-A21C-5EA724CB9432&match=1220
DTSTART;TZID=Europe/Brussels:20221204T213000
DTEND;TZID=Europe/Brussels:20221204T213000
END:VEVENT
BEGIN:VEVENT
UID:E5F03216-4619-44A1-A21C-5EA724CB9432-28-1204_homereminder@101.badminton
 ners.net
DTSTAMP:20260420T072402Z
SUMMARY:Thuismatch ingevuld? (Olympia 1G (107) - Beerke 3G (85))
DESCRIPTION:Je hebt 36 uur na aanvang om een thuismatch op Badmintonvlaande
 ren in te vullen. Match info: Olympia 1G (107) - Beerke 3G (85) - Link: ht
 tps://www.badmintonvlaanderen.be/sport/teammatch.aspx?id=E5F03216-4619-44A
 1-A21C-5EA724CB9432&match=1204
DTSTART;TZID=Europe/Brussels:20221218T213000
DTEND;TZID=Europe/Brussels:20221218T213000
END:VEVENT
BEGIN:VEVENT
UID:E5F03216-4619-44A1-A21C-5EA724CB9432-28-1199_homereminder@101.badminton
 ners.net
DTSTAMP:20260420T072402Z
SUMMARY:Thuismatch ingevuld? (Olympia 1G (107) - Klein Boom 5G (95))
DESCRIPTION:Je hebt 36 uur na aanvang om een thuismatch op Badmintonvlaande
 ren in te vullen. Match info: Olympia 1G (107) - Klein Boom 5G (95) - Link
 : https://www.badmintonvlaanderen.be/sport/teammatch.aspx?id=E5F03216-4619
 -44A1-A21C-5EA724CB9432&match=1199
DTSTART;TZID=Europe/Brussels:20230115T213000
DTEND;TZID=Europe/Brussels:20230115T213000
END:VEVENT
BEGIN:VEVENT
UID:E5F03216-4619-44A1-A21C-5EA724CB9432-28-1225_homereminder@101.badminton
 ners.net
DTSTAMP:20260420T072402Z
SUMMARY:Thuismatch ingevuld? (Olympia 1G (107) - Huirtuits Dropke 3G (93))
DESCRIPTION:Je hebt 36 uur na aanvang om een thuismatch op Badmintonvlaande
 ren in te vullen. Match info: Olympia 1G (107) - Huirtuits Dropke 3G (93) 
 - Link: https://www.badmintonvlaanderen.be/sport/teammatch.aspx?id=E5F0321
 6-4619-44A1-A21C-5EA724CB9432&match=1225
DTSTART;TZID=Europe/Brussels:20230326T223000
DTEND;TZID=Europe/Brussels:20230326T223000
END:VEVENT
BEGIN:VEVENT
UID:E5F03216-4619-44A1-A21C-5EA724CB9432-28-1209_homereminder@101.badminton
 ners.net
DTSTAMP:20260420T072402Z
SUMMARY:Thuismatch ingevuld? (Olympia 1G (107) - Merksplas 2G (88))
DESCRIPTION:Je hebt 36 uur na aanvang om een thuismatch op Badmintonvlaande
 ren in te vullen. Match info: Olympia 1G (107) - Merksplas 2G (88) - Link:
  https://www.badmintonvlaanderen.be/sport/teammatch.aspx?id=E5F03216-4619-
 44A1-A21C-5EA724CB9432&match=1209
DTSTART;TZID=Europe/Brussels:20230423T213000
DTEND;TZID=Europe/Brussels:20230423T213000
END:VEVENT
BEGIN:VEVENT
UID:E5F03216-4619-44A1-A21C-5EA724CB9432-28-1216_awayreminder@101.badminton
 ners.net
DTSTAMP:20260420T072402Z
SUMMARY:Uitmatch bevestigd? (Huirtuits Dropke 3G (93) - Olympia 1G (107))
DESCRIPTION:Je hebt 72 uur na aanvang om een uitmatch op Badmintonvlaandere
 n in te vullen. Match info: Huirtuits Dropke 3G (93) - Olympia 1G (107) - 
 Link: https://www.badmintonvlaanderen.be/sport/teammatch.aspx?id=E5F03216-
 4619-44A1-A21C-5EA724CB9432&match=1216
DTSTART;TZID=Europe/Brussels:20221014T200000
DTEND;TZID=Europe/Brussels:20221014T200000
END:VEVENT
BEGIN:VEVENT
UID:E5F03216-4619-44A1-A21C-5EA724CB9432-28-1214_awayreminder@101.badminton
 ners.net
DTSTAMP:20260420T072402Z
SUMMARY:Uitmatch bevestigd? (Merksplas 2G (88) - Olympia 1G (107))
DESCRIPTION:Je hebt 72 uur na aanvang om een uitmatch op Badmintonvlaandere
 n in te vullen. Match info: Merksplas 2G (88) - Olympia 1G (107) - Link: h
 ttps://www.badmintonvlaanderen.be/sport/teammatch.aspx?id=E5F03216-4619-44
 A1-A21C-5EA724CB9432&match=1214
DTSTART;TZID=Europe/Brussels:20221116T190000
DTEND;TZID=Europe/Brussels:20221116T190000
END:VEVENT
BEGIN:VEVENT
UID:E5F03216-4619-44A1-A21C-5EA724CB9432-28-1212_awayreminder@101.badminton
 ners.net
DTSTAMP:20260420T072402Z
SUMMARY:Uitmatch bevestigd? (Klein Boom 5G (95) - Olympia 1G (107))
DESCRIPTION:Je hebt 72 uur na aanvang om een uitmatch op Badmintonvlaandere
 n in te vullen. Match info: Klein Boom 5G (95) - Olympia 1G (107) - Link: 
 https://www.badmintonvlaanderen.be/sport/teammatch.aspx?id=E5F03216-4619-4
 4A1-A21C-5EA724CB9432&match=1212
DTSTART;TZID=Europe/Brussels:20221123T190000
DTEND;TZID=Europe/Brussels:20221123T190000
END:VEVENT
BEGIN:VEVENT
UID:E5F03216-4619-44A1-A21C-5EA724CB9432-28-1213_awayreminder@101.badminton
 ners.net
DTSTAMP:20260420T072402Z
SUMMARY:Uitmatch bevestigd? (Beerke 3G (85) - Olympia 1G (107))
DESCRIPTION:Je hebt 72 uur na aanvang om een uitmatch op Badmintonvlaandere
 n in te vullen. Match info: Beerke 3G (85) - Olympia 1G (107) - Link: http
 s://www.badmintonvlaanderen.be/sport/teammatch.aspx?id=E5F03216-4619-44A1-
 A21C-5EA724CB9432&match=1213
DTSTART;TZID=Europe/Brussels:20230215T100000
DTEND;TZID=Europe/Brussels:20230215T100000
END:VEVENT
BEGIN:VEVENT
UID:E5F03216-4619-44A1-A21C-5EA724CB9432-28-1215_awayreminder@101.badminton
 ners.net
DTSTAMP:20260420T072402Z
SUMMARY:Uitmatch bevestigd? (Berlaar 2G (107) - Olympia 1G (107))
DESCRIPTION:Je hebt 72 uur na aanvang om een uitmatch op Badmintonvlaandere
 n in te vullen. Match info: Berlaar 2G (107) - Olympia 1G (107) - Link: ht
 tps://www.badmintonvlaanderen.be/sport/teammatch.aspx?id=E5F03216-4619-44A
 1-A21C-5EA724CB9432&match=1215
DTSTART;TZID=Europe/Brussels:20230315T093000
DTEND;TZID=Europe/Brussels:20230315T093000
END:VEVENT
END:VCALENDAR