BEGIN:VCALENDAR
VERSION:2.0
PRODID:spatie/icalendar-generator
NAME:merksplas_2g_88_reminders
X-WR-CALNAME:merksplas_2g_88_reminders
BEGIN:VTIMEZONE
TZID:Europe/Brussels
BEGIN:DAYLIGHT
DTSTART:20220327T010000
TZOFFSETFROM:+0100
TZOFFSETTO:+0200
END:DAYLIGHT
BEGIN:STANDARD
DTSTART:20221030T030000
TZOFFSETFROM:+0200
TZOFFSETTO:+0100
END:STANDARD
BEGIN:DAYLIGHT
DTSTART:20230326T010000
TZOFFSETFROM:+0100
TZOFFSETTO:+0200
END:DAYLIGHT
END:VTIMEZONE
BEGIN:VTIMEZONE
TZID:UTC
BEGIN:STANDARD
DTSTART:20250724T072408
TZOFFSETFROM:+0000
TZOFFSETTO:+0000
END:STANDARD
END:VTIMEZONE
BEGIN:VEVENT
UID:E5F03216-4619-44A1-A21C-5EA724CB9432-28-1198_homereminder@103.badminton
 ners.net
DTSTAMP:20260420T072408Z
SUMMARY:Thuismatch ingevuld? (Merksplas 2G (88) - Klein Boom 5G (95))
DESCRIPTION:Je hebt 36 uur na aanvang om een thuismatch op Badmintonvlaande
 ren in te vullen. Match info: Merksplas 2G (88) - Klein Boom 5G (95) - Lin
 k: https://www.badmintonvlaanderen.be/sport/teammatch.aspx?id=E5F03216-461
 9-44A1-A21C-5EA724CB9432&match=1198
DTSTART;TZID=Europe/Brussels:20221025T070000
DTEND;TZID=Europe/Brussels:20221025T070000
END:VEVENT
BEGIN:VEVENT
UID:E5F03216-4619-44A1-A21C-5EA724CB9432-28-1214_homereminder@103.badminton
 ners.net
DTSTAMP:20260420T072408Z
SUMMARY:Thuismatch ingevuld? (Merksplas 2G (88) - Olympia 1G (107))
DESCRIPTION:Je hebt 36 uur na aanvang om een thuismatch op Badmintonvlaande
 ren in te vullen. Match info: Merksplas 2G (88) - Olympia 1G (107) - Link:
  https://www.badmintonvlaanderen.be/sport/teammatch.aspx?id=E5F03216-4619-
 44A1-A21C-5EA724CB9432&match=1214
DTSTART;TZID=Europe/Brussels:20221115T070000
DTEND;TZID=Europe/Brussels:20221115T070000
END:VEVENT
BEGIN:VEVENT
UID:E5F03216-4619-44A1-A21C-5EA724CB9432-28-1224_homereminder@103.badminton
 ners.net
DTSTAMP:20260420T072408Z
SUMMARY:Thuismatch ingevuld? (Merksplas 2G (88) - Huirtuits Dropke 3G (93))
DESCRIPTION:Je hebt 36 uur na aanvang om een thuismatch op Badmintonvlaande
 ren in te vullen. Match info: Merksplas 2G (88) - Huirtuits Dropke 3G (93)
  - Link: https://www.badmintonvlaanderen.be/sport/teammatch.aspx?id=E5F032
 16-4619-44A1-A21C-5EA724CB9432&match=1224
DTSTART;TZID=Europe/Brussels:20221220T070000
DTEND;TZID=Europe/Brussels:20221220T070000
END:VEVENT
BEGIN:VEVENT
UID:E5F03216-4619-44A1-A21C-5EA724CB9432-28-1203_homereminder@103.badminton
 ners.net
DTSTAMP:20260420T072408Z
SUMMARY:Thuismatch ingevuld? (Merksplas 2G (88) - Beerke 3G (85))
DESCRIPTION:Je hebt 36 uur na aanvang om een thuismatch op Badmintonvlaande
 ren in te vullen. Match info: Merksplas 2G (88) - Beerke 3G (85) - Link: h
 ttps://www.badmintonvlaanderen.be/sport/teammatch.aspx?id=E5F03216-4619-44
 A1-A21C-5EA724CB9432&match=1203
DTSTART;TZID=Europe/Brussels:20230116T220000
DTEND;TZID=Europe/Brussels:20230116T220000
END:VEVENT
BEGIN:VEVENT
UID:E5F03216-4619-44A1-A21C-5EA724CB9432-28-1219_homereminder@103.badminton
 ners.net
DTSTAMP:20260420T072408Z
SUMMARY:Thuismatch ingevuld? (Merksplas 2G (88) - Berlaar 2G (107))
DESCRIPTION:Je hebt 36 uur na aanvang om een thuismatch op Badmintonvlaande
 ren in te vullen. Match info: Merksplas 2G (88) - Berlaar 2G (107) - Link:
  https://www.badmintonvlaanderen.be/sport/teammatch.aspx?id=E5F03216-4619-
 44A1-A21C-5EA724CB9432&match=1219
DTSTART;TZID=Europe/Brussels:20230328T070000
DTEND;TZID=Europe/Brussels:20230328T070000
END:VEVENT
BEGIN:VEVENT
UID:E5F03216-4619-44A1-A21C-5EA724CB9432-28-1208_awayreminder@103.badminton
 ners.net
DTSTAMP:20260420T072408Z
SUMMARY:Uitmatch bevestigd? (Beerke 3G (85) - Merksplas 2G (88))
DESCRIPTION:Je hebt 72 uur na aanvang om een uitmatch op Badmintonvlaandere
 n in te vullen. Match info: Beerke 3G (85) - Merksplas 2G (88) - Link: htt
 ps://www.badmintonvlaanderen.be/sport/teammatch.aspx?id=E5F03216-4619-44A1
 -A21C-5EA724CB9432&match=1208
DTSTART;TZID=Europe/Brussels:20221123T100000
DTEND;TZID=Europe/Brussels:20221123T100000
END:VEVENT
BEGIN:VEVENT
UID:E5F03216-4619-44A1-A21C-5EA724CB9432-28-1210_awayreminder@103.badminton
 ners.net
DTSTAMP:20260420T072408Z
SUMMARY:Uitmatch bevestigd? (Berlaar 2G (107) - Merksplas 2G (88))
DESCRIPTION:Je hebt 72 uur na aanvang om een uitmatch op Badmintonvlaandere
 n in te vullen. Match info: Berlaar 2G (107) - Merksplas 2G (88) - Link: h
 ttps://www.badmintonvlaanderen.be/sport/teammatch.aspx?id=E5F03216-4619-44
 A1-A21C-5EA724CB9432&match=1210
DTSTART;TZID=Europe/Brussels:20221214T100000
DTEND;TZID=Europe/Brussels:20221214T100000
END:VEVENT
BEGIN:VEVENT
UID:E5F03216-4619-44A1-A21C-5EA724CB9432-28-1211_awayreminder@103.badminton
 ners.net
DTSTAMP:20260420T072408Z
SUMMARY:Uitmatch bevestigd? (Huirtuits Dropke 3G (93) - Merksplas 2G (88))
DESCRIPTION:Je hebt 72 uur na aanvang om een uitmatch op Badmintonvlaandere
 n in te vullen. Match info: Huirtuits Dropke 3G (93) - Merksplas 2G (88) -
  Link: https://www.badmintonvlaanderen.be/sport/teammatch.aspx?id=E5F03216
 -4619-44A1-A21C-5EA724CB9432&match=1211
DTSTART;TZID=Europe/Brussels:20230210T200000
DTEND;TZID=Europe/Brussels:20230210T200000
END:VEVENT
BEGIN:VEVENT
UID:E5F03216-4619-44A1-A21C-5EA724CB9432-28-1207_awayreminder@103.badminton
 ners.net
DTSTAMP:20260420T072408Z
SUMMARY:Uitmatch bevestigd? (Klein Boom 5G (95) - Merksplas 2G (88))
DESCRIPTION:Je hebt 72 uur na aanvang om een uitmatch op Badmintonvlaandere
 n in te vullen. Match info: Klein Boom 5G (95) - Merksplas 2G (88) - Link:
  https://www.badmintonvlaanderen.be/sport/teammatch.aspx?id=E5F03216-4619-
 44A1-A21C-5EA724CB9432&match=1207
DTSTART;TZID=Europe/Brussels:20230412T190000
DTEND;TZID=Europe/Brussels:20230412T190000
END:VEVENT
BEGIN:VEVENT
UID:E5F03216-4619-44A1-A21C-5EA724CB9432-28-1209_awayreminder@103.badminton
 ners.net
DTSTAMP:20260420T072408Z
SUMMARY:Uitmatch bevestigd? (Olympia 1G (107) - Merksplas 2G (88))
DESCRIPTION:Je hebt 72 uur na aanvang om een uitmatch op Badmintonvlaandere
 n in te vullen. Match info: Olympia 1G (107) - Merksplas 2G (88) - Link: h
 ttps://www.badmintonvlaanderen.be/sport/teammatch.aspx?id=E5F03216-4619-44
 A1-A21C-5EA724CB9432&match=1209
DTSTART;TZID=Europe/Brussels:20230425T093000
DTEND;TZID=Europe/Brussels:20230425T093000
END:VEVENT
END:VCALENDAR